Workbook

Sheet 27FA_1stRound_261012
A1: 2027 FALL Outbound Exchange Program University List 2026/10/12
A2: ⚠️ 応募申請に関する注意事項⚠️ 必ず下記内容を確認したうえ、応募してください。 ① 参考情報（Infosheet / Factsheet）の取り扱いについて 当リストに掲載されているリンク、InfosheetやFactsheetは、あくまで「参考情報」としてご覧ください。派遣先大学の都合により、応募条件（必要な語学スコア・GPA等）や申請締め切り情報は予告なく変更される場合があります。 必ずご自身で派遣先大学の公式サイトにて最新の要件を確認のうえ、応募してください。 ② 派遣先大学の最新情報の確認について 派遣先大学からAPUに通知がなく、募集要件等の情報が更新されるケースが多々あります。APUからの案内を待つだけでなく、ご自身で常に希望する派遣先大学の最新情報を確認してください。 ③ 履修可能学部および英語開講科目について 本リストにある「対象学部」や「交換留学生向けに開講されている英語科目の学修分野」情報も変更される可能性があります。 申請者は必ず自身の責任において、派遣先大学の最新情報を確認してください。 ④「Eligible College」で「Yes1」と表記されている場合： └APM、APS：該当大学における専門教育科目の開講クラス数が十分ではないため、当該学部の専門教育科目のみで単位認定を希望する場合は、１セメスターのみの留学を推奨します。共通教養科目や言語教育科目分野も含めた単位認定を考えている場合は、２セメスター留学も検討可能です。 └ST：該当大学におけるST学部生の派遣が初めてであることや専門教育科目の開講クラス数が十分ではないことから、該当大学へ１セメのみ留学を推奨する。 ⑤ 「派遣先大学の募集要件」が空欄の場合 空欄になっている箇所は、「要件がない」という意味ではありません。派遣先大学のWEBサイトやInfo Sheetに具体的な要件が記載されている場合もありますので、必ず事前にご自身で最新情報を確認してください。 ⚠️Important⚠️ Please be sure to check the following before deciding to apply. ①The links and materials, including Infosheets and Factsheets, provided in this list are for reference purposes only. Partner universities may change their application requirements (e.g., language proficiency scores and GPA) and application deadlines without prior notice. Before applying, please make sure to check the latest information on the official website of your desired host university. ②Partner universities may update their application requirements and other information without notifying APU. Therefore, please do not rely solely on information provided by APU. Regularly check the official website of your desired host university to ensure that you have the most up-to-date information. ③The information in this list regarding eligible faculties and subject areas of English-taught courses available to exchange students is subject to change. When planning your studies at your desired university, please make sure to check the latest information on its official website. ④If "Eligible College" is listed as "Yes1": └APM、APS：Since the number of specialized education classes offered at the university is insufficient, if you wish to receive credits only for specialized education classes at the faculty, we recommend studying abroad for only one semester.If you are considering earning credits in liberal arts and language education courses, you may also consider studying abroad for two semesters. └ST：Since this is the first time that the university has sent ST students abroad and there are not enough classes offered in specialized education subjects, we recommend that students study abroad at the university for only one semester. ⑤Blank Fields under “Requirements for Host Universities” If a section in the university list is left blank, it does not mean that no requirement exists. Specific requirements may still be listed on the host university's website or Info Sheet. Applicants must check the latest information themselves before applying.
A4: University Base information | I4: Eligible College | M4: Business Accreditation | P4: One space : one student for one semester Two spaces : one student for two semesters or two students for one semester each | R4: Academic Calendar | W4: APU Internal Screening APU学内選考要件 | AB4: Requirements for Host Universities 派遣先大学の募集要件 | AR4: Majors offering classes in English for exchange students (reference) 交換留学生向けに開講されている英語科目の学修分野(目安) | BK4: Other useful information | BO4: 2026Fall Departure | BR4: 2025Fall Departure
A5: 更新日 | B5: NO | C5: Code | D5: Area | E5: Country | F5: University | G5: Campus / College | H5: Info Sheet | I5: info link | J5: APM | K5: APS | L5: ST | M5: AACSB | N5: EQUIS | O5: EFMD (EPAS) | P5: Number of Available Space2 | Q5: Eligible Exchange Period | R5: Fall semester | S5: Spring Semester | T5: Nomination Deadline YYYY/MM/DD | U5: Application Deadline YYYY-/MM/DD | V5: First Day of Orientation (Tentative) | W5: Semester GPA | X5: Cumulative GPA | Y5: TOEFL iBT new | Z5: TOEFL iBT old | AA5: IELTS overall | AB5: Cumulative GPA | AC5: TOEFL iBT Overal new/old | AD5: TOEFL iBT Reading | AE5: TOEFL iBT Listening | AF5: TOEFL iBT Speaking | AG5: TOEFL iBT Writing | AH5: TOEFL iBT My Best Score | AI5: IELTS Overall2 | AJ5: IELTS Listening | AK5: IELTS Reading | AL5: IELTS Writing | AM5: IELTS Speaking | AN5: IELTS One Skill Retake | AO5: IELTS Online | AP5: Score Submission to Host University | AQ5: English Requirement Other Notes | AR5: Accounting | AS5: Finance | AT5: Marketing | AU5: Management | AV5: Entrepreneurship | AW5: Operations Management | AX5: Economics | AY5: International Relations | AZ5: Political Science | BA5: Peace Studies | BB5: Media Studies | BC5: Cultural Studies | BD5: Sociology | BE5: Hospitality | BF5: Tourism | BG5: Sustainability | BH5: Environmental Studies | BI5: Development Studies | BJ5: Education | BK5: Course Restrictions for Exchange Students and Other Important Notes | BL5: list the nationalities you cannot accept and the reasons for the restriction. | BM5: Website | BN5: Website Link | BO5: 第一志望での応募数 Spaces chosen as First Choice | BP5: 合格・または条件付き合格 Number of Acceptance or Conditional Acceptance | BQ5: 倍率 Competition ratio | BR5: 第一志望での応募数 Spaces chosen as First Choice2 | BS5: 合格・または条件付き合格 Number of Acceptance or Conditional Acceptance2 | BT5: 倍率 Competition ratio2
A6: 46307 | B6: =ROW()-5 -> 1 | C6: 990798 | D6: Europe | E6: Czech | F6: Metropolitan University Prague | G6: Strasnicka-Jarov | H6: =HYPERLINK(テーブル2233456[[#This Row],[info link]],"Info Sheet") -> Info Sheet | I6: =VLOOKUP(テーブル2233456[[#This Row],[Code]],[1]WEB協定校一覧!$H$4:$S$181,12,0) -> https://www.apu.ac.jp/abroad/university/infosheet/files/Metropolitan_University_Prague.pdf | J6: Yes | K6: Yes | P6: 2 | Q6: Both one semester and one year | R6: October-February | S6: February-June | T6: 46508 | U6: 46538 | V6: 46664 | W6: 2 | X6: 2.5 | Y6: 3.5 | Z6: 66 | AA6: 6 | AB6: 2.5 | AC6: 72 | AD6: 21 | AE6: 19 | AF6: 22 | AG6: 20 | AH6: Yes | AI6: 6.5 | AJ6: 6.5 | AK6: 6.5 | AL6: 6.5 | AM6: 6.5 | AN6: Yes | AO6: Yes | AP6: Yes | AR6: Yes | AS6: Yes | AT6: Yes | AU6: Yes | AY6: Yes | AZ6: Yes | BA6: Yes | BB6: Yes | BL6: All nationalities can be accepted | BM6: =HYPERLINK(テーブル2233456[[#This Row],[Website Link]],"Website") -> Website | BN6: https://www.mup.cz/en/international-cooperation/information-for-incoming-exchange-students/exchange-student-application-procedure/ | BO6: 4 | BP6: 1 | BQ6: 4 | BR6: 6 | BS6: 2 | BT6: 3
A7: 46307 | B7: =ROW()-5 -> 2 | C7: 990289 | D7: Europe | E7: Sweden | F7: Halmstad University | G7: Halmstad | H7: =HYPERLINK(テーブル2233456[[#This Row],[info link]],"Info Sheet") -> Info Sheet | I7: =VLOOKUP(テーブル2233456[[#This Row],[Code]],[1]WEB協定校一覧!$H$4:$S$181,12,0) -> https://www.apu.ac.jp/abroad/university/infosheet/files/Halmstad_University.pdf | J7: Yes | K7: Yes | L7: Yes1 | P7: 2 | Q7: Both one semester and one year | R7: 2027-08-30 - 2028-01-16 | S7: 2028-01-17 - 2028-06-04 | T7: 46478 | U7: 46492 | V7: 46629 | W7: 2 | X7: 2.5 | Y7: 4 | Z7: 84 | AA7: 6 | AB7: 2.5 | AC7: 90 | AI7: 6.5 | AP7: No | AR7: Yes | AS7: Yes | AT7: Yes | AU7: Yes | AV7: Yes | AX7: Yes | AY7: Yes | AZ7: Yes | BA7: Yes | BB7: Yes | BC7: Yes | BH7: Yes | BJ7: Yes | BK7: No add and drop period. We require 60 credits before mobility and we need transcript in English version. | BL7: All nationalities can be accepted | BM7: =HYPERLINK(テーブル2233456[[#This Row],[Website Link]],"Website") -> Website | BN7: https://www.hh.se/english/education/apply-to-halmstad-university.html | BO7: 1 | BP7: 1 | BQ7: 1 | BR7: 1 | BS7: 1 | BT7: 1
A8: 46307 | B8: =ROW()-5 -> 3 | C8: 990106 | D8: Asia | E8: China | F8: University of Macau | G8: Main campus (Address: University of Macau, Avenida da Universidade, Taipa, Macau, China) | H8: =HYPERLINK(テーブル2233456[[#This Row],[info link]],"Info Sheet") -> Info Sheet | I8: =VLOOKUP(テーブル2233456[[#This Row],[Code]],[1]WEB協定校一覧!$H$4:$S$181,12,0) -> https://gao.um.edu.mo/mobility/inbound/programmes-application/ | J8: Yes | M8: Yes | N8: Yes | P8: 2 | Q8: Both one semester and one year | R8: August - Mid December | S8: January - Mid June | T8: 46476 | U8: Beginning of May | V8: 46618 | W8: 2 | X8: 2.5 | Y8: 3.5 | Z8: 73 | AA8: 5.5 | AB8: 2.5 | AI8: 6 | AJ8: 5.5 | AK8: 5.5 | AL8: 5.5 | AM8: 5.5 | AP8: No | AR8: Yes | AS8: Yes | AT8: Yes | AU8: Yes | AV8: Yes | AX8: Yes | AY8: Yes | BE8: Yes | BF8: Yes | BL8: All nationalities can be accepted | BM8: =HYPERLINK(テーブル2233456[[#This Row],[Website Link]],"Website") -> Website | BN8: https://fba.um.edu.mo/exchange-programme/incoming-programme/ | BO8: 1 | BP8: 1 | BQ8: 1 | BS8: 0
A9: 46307 | B9: =ROW()-5 -> 4 | C9: 990293 | D9: Europe | E9: Sweden | F9: Sodertorn University | G9: Flemingsberg | H9: =HYPERLINK(テーブル2233456[[#This Row],[info link]],"Info Sheet") -> Info Sheet | I9: =VLOOKUP(テーブル2233456[[#This Row],[Code]],[1]WEB協定校一覧!$H$4:$S$181,12,0) -> https://www.apu.ac.jp/abroad/university/infosheet/files/Sodertorn_University.pdf | K9: Yes | L9: Yes1 | P9: 4 | Q9: One year only | R9: 30 August 2027 – 16 January 2028 | S9: January-June | T9: 46502 | U9: 46508 | V9: 46622 | W9: 2 | X9: 2.5 | Y9: 3.5 | Z9: 66 | AA9: 5.5 | AB9: 2.5 | AC9: 72 | AI9: 6 | AP9: No | BB9: Yes | BC9: Yes | BL9: All nationalities can be accepted | BM9: =HYPERLINK(テーブル2233456[[#This Row],[Website Link]],"Website") -> Website | BN9: https://www.sh.se/english/sodertorn-university/student/prospective-students/application-for-exchange-students | BO9: 2 | BP9: 2 | BQ9: 1 | BR9: 1 | BS9: 1 | BT9: 1
A10: 46307 | B10: =ROW()-5 -> 5 | C10: 990741 | D10: Europe | E10: Romania | F10: Romanian-American University | G10: Romanian-American University | H10: =HYPERLINK(テーブル2233456[[#This Row],[info link]],"Info Sheet") -> Info Sheet | I10: =VLOOKUP(テーブル2233456[[#This Row],[Code]],[1]WEB協定校一覧!$H$4:$S$181,12,0) -> https://www.apu.ac.jp/abroad/university/infosheet/files/Romanian_American_University.pdf | J10: Yes | K10: Yes | L10: Yes | P10: 2 | Q10: Both one semester and one year | R10: September-February | S10: February-June | T10: 46522 | U10: 46539 | V10: 46657 | W10: 2 | X10: 2.5 | Y10: 3.5 | Z10: 65 | AA10: 5 | AB10: 2.5 | AC10: 65+ | AH10: Yes | AI10: 5.5 | AJ10: 5.5 | AK10: 5.5 | AL10: 5.5 | AM10: 5.5 | AN10: No | AO10: No | AP10: Yes | AR10: Yes | AS10: Yes | AT10: Yes | AU10: Yes | AV10: Yes | AX10: Yes | AY10: Yes | BE10: Yes | BF10: Yes | BL10: All nationalities can be accepted | BM10: =HYPERLINK(テーブル2233456[[#This Row],[Website Link]],"Website") -> Website | BN10: https://www.rau.ro/incoming-students-study-at-rau/?lang=en | BO10: 2 | BP10: 2 | BQ10: 1 | BS10: 0
A11: 46307 | B11: =ROW()-5 -> 6 | C11: 990903 | D11: Europe | E11: Germany | F11: Pforzheim University of Applied Sciences | G11: School of Business | H11: =HYPERLINK(テーブル2233456[[#This Row],[info link]],"Info Sheet") -> Info Sheet | I11: =VLOOKUP(テーブル2233456[[#This Row],[Code]],[1]WEB協定校一覧!$H$4:$S$181,12,0) -> https://www.apu.ac.jp/abroad/university/infosheet/files/Pforzheim_University_of_Applied_Sciences.pdf | J11: Yes | M11: Yes | O11: Yes | P11: 2 | Q11: Both one semester and one year | R11: September 30, 2027 through Februar 05, 2028（tentative） | S11: March - July | T11: 46508 | U11: 46522 | V11: 46660 | W11: 2 | X11: 2.5 | Y11: 4 | Z11: 79 | AA11: 6 | AB11: 2.5 | AC11: 4.5/ 85 | AH11: Yes | AI11: 6.5 | AN11: Yes | AO11: Yes | AP11: Yes | AQ11: If students are interested in taking German-taught/French-taught/Spanish-taught courses, we also require a proof/confirmation of B2 level. | AR11: Yes | AS11: Yes | AT11: Yes | AU11: Yes | AV11: Yes | AW11: Yes | AX11: Yes | BC11: Yes | BG11: Yes | BK11: Only courses from the School of Business: https://businesspf.hs-pforzheim.de/international/international_study_program_isp/information_for_incoming_bachelor_exchange_students/business_courses_in_english | BL11: All nationalities can be accepted | BM11: =HYPERLINK(テーブル2233456[[#This Row],[Website Link]],"Website") -> Website | BN11: https://www.hs-pforzheim.de/en/international/studying_in_pforzheim/exchange_students | BO11: 2 | BP11: 2 | BQ11: 1 | BR11: 1 | BS11: 1 | BT11: 1
A12: 46307 | B12: =ROW()-5 -> 7 | C12: 990018 | D12: Europe | E12: Austria | F12: University of Applied Sciences Upper Austria | G12: Steyr Campus - School of Business and Management | H12: =HYPERLINK(テーブル2233456[[#This Row],[info link]],"Info Sheet") -> Info Sheet | I12: =VLOOKUP(テーブル2233456[[#This Row],[Code]],[1]WEB協定校一覧!$H$4:$S$181,12,0) -> https://www.apu.ac.jp/abroad/university/infosheet/files/University_of_Applied_Sciences_Upper_Austria.pdf | J12: Yes | P12: 4 | Q12: Both one semester and one year | R12: last week of September - end January | S12: last week of February - end June | T12: 46522 | U12: 46539 | V12: 46653 | W12: 2 | X12: 2.5 | Y12: 4 | Z12: 81 | AA12: 5.5 | AB12: 2.5 | AC12: 4.5/86+ | AH12: Yes | AI12: 6 | AN12: Yes | AO12: Yes | AP12: Yes | AS12: Yes | AT12: Yes | AU12: Yes | AV12: Yes | AW12: Yes | BL12: All nationalities can be accepted | BM12: =HYPERLINK(テーブル2233456[[#This Row],[Website Link]],"Website") -> Website | BN12: https://fh-ooe.at/en/international/exchange-students/incomings | BP12: 0 | BS12: 0
A13: 46307 | B13: =ROW()-5 -> 8 | C13: 990897 | D13: Europe | E13: France | F13: Burgundy School of Business | G13: Dijon and Lyon Campus | H13: =HYPERLINK(テーブル2233456[[#This Row],[info link]],"Info Sheet") -> Info Sheet | I13: =VLOOKUP(テーブル2233456[[#This Row],[Code]],[1]WEB協定校一覧!$H$4:$S$181,12,0) -> https://www.apu.ac.jp/abroad/university/infosheet/files/Burgundy_School_of_Business.pdf | J13: Yes | M13: Yes | N13: Yes | P13: 4 | Q13: Both one semester and one year | R13: 01st September until the 20th December | S13: 3rd January - 30th April | T13: 46510 | U13: 46524 | V13: 46633 | W13: 2 | X13: 2.5 | Y13: 3.5 | Z13: 74 | AA13: 5.5 | AB13: 2.5 | AC13: 80 | AD13: 18-21 | AE13: 17-19 | AF13: 20-22 | AG13: 17-20 | AH13: No | AI13: 6 | AN13: No | AO13: No | AP13: Yes | AS13: Yes | AT13: Yes | AU13: Yes | AV13: Yes | AX13: Yes | BC13: Yes | BG13: Yes | BH13: Yes | BI13: Yes | BK13: It is not possible to mix courses from different programmes/years/languages | BL13: All nationalities can be accepted | BM13: =HYPERLINK(テーブル2233456[[#This Row],[Website Link]],"Website") -> Website | BN13: https://www.bsb-education.com/en/programme/exchange-programs | BP13: 0 | BS13: 0
A14: 46307 | B14: =ROW()-5 -> 9 | C14: 990792 | D14: Europe | E14: France | F14: Rennes School of Business | G14: Rennes | H14: =HYPERLINK(テーブル2233456[[#This Row],[info link]],"Info Sheet") -> Info Sheet | I14: =VLOOKUP(テーブル2233456[[#This Row],[Code]],[1]WEB協定校一覧!$H$4:$S$181,12,0) -> https://www.apu.ac.jp/abroad/university/infosheet/files/Rennes_School_of_Business.pdf | J14: Yes | M14: Yes | N14: Yes | O14: Yes | P14: 4 | Q14: Both one semester and one year | R14: September - December | S14: January - April | T14: 46517 | U14: 46527 | V14: 46631 | W14: 2 | X14: 2.5 | Y14: 3.5 | Z14: 66 | AA14: 5.5 | AB14: 2.5 | AC14: 72 | AI14: 6 | AP14: No | AR14: Yes | AS14: Yes | AT14: Yes | AU14: Yes | AV14: Yes | AW14: Yes | AX14: Yes | AY14: Yes | BK14: Students can only choose courses on the course catalog proposed and can not mix courses from different levels. | BL14: All nationalities can be accepted | BM14: =HYPERLINK(テーブル2233456[[#This Row],[Website Link]],"Website") -> Website | BN14: https://aloha.rennes-sb.com/hc/en-us/categories/360002608799--Incoming-Exchange-Students | BP14: 0 | BS14: 0
A15: 46307 | B15: =ROW()-5 -> 10 | C15: 990419 | D15: Europe | E15: Portugal | F15: ISCTE – Lisbon University Institute | G15: Iscte Lisbon | H15: =HYPERLINK(テーブル2233456[[#This Row],[info link]],"Info Sheet") -> Info Sheet | I15: =VLOOKUP(テーブル2233456[[#This Row],[Code]],[1]WEB協定校一覧!$H$4:$S$181,12,0) -> https://www.apu.ac.jp/abroad/university/infosheet/files/ISCTE_Lisbon_University_Institute.pdf | J15: Yes | K15: Yes | M15: Yes | P15: 2 | Q15: Both one semester and one year | R15: September-January | S15: February-June | T15: 46539 | U15: 46539 | V15: 46637 | W15: 2 | X15: 2.5 | Y15: 3.5 | Z15: 66 | AA15: 5.5 | AB15: 2.5 | AC15: 72 | AI15: 6 | AP15: No | AR15: Yes | AS15: Yes | AT15: Yes | AU15: Yes | AV15: Yes | AW15: Yes | AX15: Yes | AY15: Yes | AZ15: Yes | BA15: Yes | BB15: Yes | BC15: Yes | BD15: Yes | BF15: Yes | BG15: Yes | BI15: Yes | BK15: Exchange students may select courses under the following conditions: Undergraduate students can only choose undergraduate courses. Exchange students can choose courses from any of Iscte’s schools, provided that those units do not have specific requirements (detailed information on this topic can be found in the course lists). Exchange students can choose courses up to a maximum of 30 ECTS per semester, or 36 ECTS if one of the courses is Portuguese as a Foreign Language. | BL15: All nationalities can be accepted | BM15: =HYPERLINK(テーブル2233456[[#This Row],[Website Link]],"Website") -> Website | BN15: https://www.iscte-iul.pt/international/exchange/cooperation-programmes-and-agreements/cooperation-programmes-and-agreements | BP15: 0 | BR15: 6 | BS15: 1 | BT15: 6
A16: 46307 | B16: =ROW()-5 -> 11 | C16: 990155 | D16: Europe | E16: Germany | F16: Zeppelin University | G16: Zeppelin University | H16: =HYPERLINK(テーブル2233456[[#This Row],[info link]],"Info Sheet") -> Info Sheet | I16: =VLOOKUP(テーブル2233456[[#This Row],[Code]],[1]WEB協定校一覧!$H$4:$S$181,12,0) -> https://www.apu.ac.jp/abroad/university/infosheet/files/Zeppelin_University.pdf | J16: Yes | K16: Yes | P16: 2 | Q16: Both one semester and one year | R16: September-December | S16: January-July | T16: 46539 | U16: 46553 | V16: 46634 | W16: 2 | X16: 2.5 | Y16: 4 | Z16: 84 | AA16: 6 | AB16: 2.5 | AC16: 90 | AH16: No | AI16: 6.5 | AN16: No | AO16: No | AP16: Yes | AR16: Yes | AS16: Yes | AT16: Yes | AU16: Yes | AV16: Yes | AW16: Yes | AX16: Yes | AY16: Yes | AZ16: Yes | BA16: Yes | BD16: Yes | BG16: Yes | BI16: Yes | BK16: Only courses in English | BL16: All nationalities can be accepted | BM16: =HYPERLINK(テーブル2233456[[#This Row],[Website Link]],"Website") -> Website | BN16: https://www.zeppelin-university.com/audience-navigation/students.php | BO16: 1 | BP16: 1 | BQ16: 1 | BR16: 2 | BS16: 1 | BT16: 2
A17: 46307 | B17: =ROW()-5 -> 12 | C17: 990659 | D17: Europe | E17: Germany | F17: Karlshochschule International University | G17: Karlshochschule, Karlstraße 36-38 | H17: =HYPERLINK(テーブル2233456[[#This Row],[info link]],"Info Sheet") -> Info Sheet | I17: =VLOOKUP(テーブル2233456[[#This Row],[Code]],[1]WEB協定校一覧!$H$4:$S$181,12,0) -> https://www.apu.ac.jp/abroad/university/infosheet/files/Karlshochschule_International_University.pdf | J17: Yes | P17: 1 | Q17: One semester only | R17: September - February | S17: March - August | T17: 46507 | U17: 46522 | V17: 46643 | W17: 2 | X17: 2.5 | Y17: 3.5 | Z17: 74 | AA17: 5.5 | AB17: 2.5 | AC17: 80 | AH17: Yes | AI17: 6 | AN17: Yes | AO17: Yes | AP17: Yes | AQ17: Usually we accept students with B2 level in English, but we recommend to have C1 level if possible | AT17: Yes | AU17: Yes | AY17: Yes | BL17: All nationalities can be accepted, But Students from Iran recently ran in to issues due to the money Laundering Act that is currently in place. | BM17: =HYPERLINK(テーブル2233456[[#This Row],[Website Link]],"Website") -> Website | BN17: https://karlshochschule.de/exchange-students-en/ | BP17: 0 | BR17: 1 | BS17: 1 | BT17: 1
A18: 46307 | B18: =ROW()-5 -> 13 | C18: 990751 | D18: Europe | E18: Germany | F18: Heinrich Heine University | G18: Heinrich Heine University | H18: =HYPERLINK(テーブル2233456[[#This Row],[info link]],"Info Sheet") -> Info Sheet | I18: =VLOOKUP(テーブル2233456[[#This Row],[Code]],[1]WEB協定校一覧!$H$4:$S$181,12,0) -> https://www.apu.ac.jp/abroad/university/infosheet/files/Heinrich_Heine_University.pdf | J18: Yes | P18: 2 | Q18: Both one semester and one year | R18: october - march | S18: april - september | T18: 46461 | U18: 46501 | V18: 46668 | W18: 2 | X18: 2.5 | Y18: 3.5 | Z18: 66 | AA18: 5.5 | AB18: 2.5 | AC18: 72 | AI18: 6 | AP18: No | AS18: Yes | AT18: Yes | AU18: Yes | AX18: Yes | BC18: Yes | BK18: No entry for European Studies | BL18: All nationalities can be accepted | BM18: =HYPERLINK(テーブル2233456[[#This Row],[Website Link]],"Website") -> Website | BN18: https://www.hhu.de/en/international/stay-at-hhu-as-an-incoming | BP18: 0 | BS18: 0
A19: 46307 | B19: =ROW()-5 -> 14 | C19: 990295 | D19: Europe | E19: Switzerland | F19: Zurich University of Applied Sciences | G19: ZHAW School of Management and Law | H19: =HYPERLINK(テーブル2233456[[#This Row],[info link]],"Info Sheet") -> Info Sheet | I19: =VLOOKUP(テーブル2233456[[#This Row],[Code]],[1]WEB協定校一覧!$H$4:$S$181,12,0) -> https://www.apu.ac.jp/abroad/university/infosheet/files/Zurich_University_of_Applied_Sciences.pdf | J19: Yes | N19: Yes | P19: 2 | Q19: Both one semester and one year | R19: September - February | S19: February - July | T19: 46522 | U19: 46538 | V19: 46636 | W19: 2 | X19: 2.5 | Y19: 4 | Z19: 77 | AA19: 5 | AB19: 2.5 | AC19: 4.5/83 | AI19: 5.5 | AN19: No | AO19: No | AP19: Yes | AR19: Yes | AS19: Yes | AT19: Yes | AU19: Yes | AW19: Yes | AX19: Yes | BK19: Courses on offer for incoming students at ZHAW School of Management and Law. | BL19: All nationalities can be accepted | BM19: =HYPERLINK(テーブル2233456[[#This Row],[Website Link]],"Website") -> Website | BN19: https://www.zhaw.ch/en/sml/study/international/incoming-students | BO19: 4 | BP19: 1 | BQ19: 4 | BS19: 0
A20: 46307 | B20: =ROW()-5 -> 15 | C20: 990868 | D20: Europe | E20: United Kingdom | F20: Nottingham Trent University | G20: City Campus | H20: =HYPERLINK(テーブル2233456[[#This Row],[info link]],"Info Sheet") -> Info Sheet | I20: =VLOOKUP(テーブル2233456[[#This Row],[Code]],[1]WEB協定校一覧!$H$4:$S$181,12,0) -> https://www.apu.ac.jp/abroad/university/infosheet/files/Nottingham_Trent_University.pdf | J20: Yes | M20: Yes | N20: Yes | P20: 4 | Q20: Both one semester and one year | R20: 13/09/2027 - 21/01/2028 | S20: 21/01/2028 - 26/05/2028 | T20: 46478 | U20: 46508 | V20: 46643 | W20: 2 | X20: 2.5 | Y20: 4 | Z20: 75 | AA20: 6 | AB20: 2.5 | AC20: 4.5/81 | AD20: 4/ 17 | AE20: 4/ 17 | AF20: 4 /20 | AG20: 4 /17 | AH20: No | AI20: 6.5 | AJ20: 5.5 | AK20: 5.5 | AL20: 5.5 | AM20: 5.5 | AN20: No | AO20: No | AP20: Yes | AQ20: It is best to always check our website for up to date information: https://www.ntu.ac.uk/international/your-application/entry-requirements/english-language-requirements. | AR20: Yes | AS20: Yes | AT20: Yes | AU20: Yes | AV20: Yes | AW20: Yes | AX20: Yes | BC20: Yes | BK20: The agreement is with Nottingham Business School, Nottingham Trent University only so you are restricted to our exchange offering only at this time. | BL20: We cannot accept students with Afghanistan, Cameroon, Myanmar or Sudan at this time due to the UK Government restrictions on entry to the UK. | BM20: =HYPERLINK(テーブル2233456[[#This Row],[Website Link]],"Website") -> Website | BN20: https://www.ntu.ac.uk/international/exchange-and-study-abroad | BP20: 0 | BS20: 0
A21: 46307 | B21: =ROW()-5 -> 16 | C21: 990907 | D21: Europe | E21: France | F21: European Business School Paris | G21: EBS Paris Campus (9 avenue Pierre de Coubertin - 75013 Paris - France) | H21: =HYPERLINK(テーブル2233456[[#This Row],[info link]],"Info Sheet") -> Info Sheet | I21: =VLOOKUP(テーブル2233456[[#This Row],[Code]],[1]WEB協定校一覧!$H$4:$S$181,12,0) -> https://www.apu.ac.jp/abroad/university/infosheet/files/European_Business_School_Paris.pdf | J21: Yes | O21: Yes | P21: 2 | Q21: Both one semester and one year | R21: Sept-Dec | S21: Jan-April | T21: 46539 | U21: 46553 | V21: 46647 | W21: 2 | X21: 2.5 | Y21: 3.5 | Z21: 66 | AA21: 5 | AB21: 2.5 | AC21: 4 / 72 | AH21: Yes | AI21: 5.5 | AN21: No | AO21: Yes | AP21: Yes | AU21: Yes | BK21: ・In 26/27, the academic offer includes our 3rd year "Grande Ecole" Program + the English track of our Master 1 courses. ・Applicants must be in their 3rd semester or above | BL21: All nationalities can be accepted | BM21: =HYPERLINK(テーブル2233456[[#This Row],[Website Link]],"Website") -> Website | BN21: Not available at this time - all details in shared folder for admitted students | BO21: 1 | BP21: 0 | BS21: 0
A22: 46307 | B22: =ROW()-5 -> 17 | C22: 990149 | D22: Europe | E22: Germany | F22: Otto-von-Guericke-University Magdeburg | G22: main Campus: Universitätsplatz | H22: =HYPERLINK(テーブル2233456[[#This Row],[info link]],"Info Sheet") -> Info Sheet | I22: =VLOOKUP(テーブル2233456[[#This Row],[Code]],[1]WEB協定校一覧!$H$4:$S$181,12,0) -> https://www.apu.ac.jp/abroad/university/infosheet/files/Otto_von_Guericke_Universitat_Magdeburg.pdf | J22: Yes | K22: Yes | P22: 2 | Q22: Both one semester and one year | R22: 01.10.2027-31.03.2028 | S22: Late march-Mid August | T22: 46553 | U22: 46583 | V22: 46657 | W22: 2 | X22: 2.5 | Y22: 3.5 | Z22: 66 | AA22: 5.5 | AB22: 2.5 | AC22: 4/72+ | AD22: 4/ 18-21 | AE22: 4 / 17-19 | AF22: 4/ 20-22 | AG22: 4/ 17-20 | AH22: No | AI22: 6 | AN22: No | AO22: Yes | AP22: Yes | AQ22: Depending on the language of instruction of requested courses (German or English), incoming students must evidence German or English language proficiency at B2 level or higher. | AR22: Yes | AS22: Yes | AT22: Yes | AU22: Yes | AV22: Yes | AW22: Yes | AX22: Yes | AY22: Yes | AZ22: Yes | BA22: Yes | BC22: Yes | BK22: University dormitories;Students have to find their own accommodation;For finding individual housing, we provide personal assistance. | BL22: All nationalities can be accepted | BM22: =HYPERLINK(テーブル2233456[[#This Row],[Website Link]],"Website") -> Website | BN22: https://www.ovgu.de/en/-p-48750 | BO22: 5 | BP22: 2 | BQ22: 2.5 | BR22: 1 | BS22: 0
A23: 46307 | B23: =ROW()-5 -> 18 | C23: 990982 | D23: Europe | E23: Norway | F23: Norwegian School of Economics (NHH) | G23: NHH Bergen campus | H23: =HYPERLINK(テーブル2233456[[#This Row],[info link]],"Info Sheet") -> Info Sheet | I23: =VLOOKUP(テーブル2233456[[#This Row],[Code]],[1]WEB協定校一覧!$H$4:$S$181,12,0) -> https://www.apu.ac.jp/abroad/university/infosheet/files/Norwegian_School_of_Economics.pdf | J23: Yes | M23: Yes | N23: Yes | P23: 2 | Q23: Both one semester and one year | R23: Tentative 13 August - 21 December 2027 | S23: Tentative 5 January - 16 June 2028 | T23: 46492 | U23: 46508 | V23: 46608 | W23: 2 | X23: 2.5 | Y23: 5.5 | Z23: 66 | AA23: 5.5 | AB23: 2.5 | AC23: 72 | AI23: 6 | AP23: No | AR23: Yes | AS23: Yes | AT23: Yes | AU23: Yes | AV23: Yes | AW23: Yes | AX23: Yes | BG23: Yes | BK23: Courses in the Bachelor programme in Business, Economics and Data Science is not available for incoming exchange students: https://www.nhh.no/en/study-programmes/bsc-in-business-economics-and-data-science/We value a balanced exchange with your institution, but we will not usually limit the number of students you may nominate based on this. Furthermore, we often have capacity for additional students in the spring semester, so please feel free to contact us if demand exceeds the numbers in our agreement. If space is available, we would be delighted to welcome them. | BL23: All nationalities can be accepted | BM23: =HYPERLINK(テーブル2233456[[#This Row],[Website Link]],"Website") -> Website | BN23: https://www.nhh.no/en/incoming-exchange/ | BO23: 2 | BP23: 2 | BQ23: 1 | BR23: 2 | BS23: 1 | BT23: 2
A24: 46307 | B24: =ROW()-5 -> 19 | C24: 990328 | D24: Europe | E24: United Kingdom | F24: Westminster Business School, University of Westminster | G24: Marylebone Campus | H24: =HYPERLINK(テーブル2233456[[#This Row],[info link]],"Info Sheet") -> Info Sheet | I24: =VLOOKUP(テーブル2233456[[#This Row],[Code]],[1]WEB協定校一覧!$H$4:$S$181,12,0) -> https://www.apu.ac.jp/abroad/university/infosheet/files/Westminster_Business_School.pdf | J24: Yes | P24: 2 | Q24: Both one semester and one year | R24: September-January | S24: January- May | T24: 46478 | U24: 46508 | V24: 46643 | W24: 2 | X24: 2.7 | Y24: 3.5 | Z24: 72 | AA24: 6 | AB24: 2.7 | AC24: 4/78 | AD24: 18+ | AE24: 17+ | AF24: 20+ | AG24: 17+ | AH24: Yes | AI24: 6.5 | AJ24: 5.5 | AK24: 5.5 | AL24: 5.5 | AM24: 5.5 | AN24: Yes | AO24: Yes | AP24: Yes | AR24: Yes | AS24: Yes | AT24: Yes | AU24: Yes | AV24: Yes | AX24: Yes | BF24: Yes | BK24: Students can select 3 modules per semester. Some modules may have pre-requisities- these will be outlined in the module catalogue. | BL24: We cannot accept students with Afghanistan, Cameroon, Myanmar or Sudan at this time due to the UK Government restrictions on entry to the UK. | BM24: =HYPERLINK(テーブル2233456[[#This Row],[Website Link]],"Website") -> Website | BN24: https://www.westminster.ac.uk/international/student-exchanges/modules-and-credit | BP24: 0 | BR24: 2 | BS24: 0
A25: 46307 | B25: =ROW()-5 -> 20 | C25: 990743 | D25: Europe | E25: Greece | F25: The American College of Greece | G25: Agia Paraskevi Campus (main campus of The American College of Greece) | H25: =HYPERLINK(テーブル2233456[[#This Row],[info link]],"Info Sheet") -> Info Sheet | I25: =VLOOKUP(テーブル2233456[[#This Row],[Code]],[1]WEB協定校一覧!$H$4:$S$181,12,0) -> https://www.apu.ac.jp/abroad/university/infosheet/files/The_American_College_of_Greece.pdf | J25: Yes | K25: Yes | L25: Yes | P25: 4 | Q25: Both one semester and one year | R25: September-December | S25: January-April | T25: 46492 | U25: 46157 | V25: 46640 | W25: 2 | X25: 2.75 | Y25: 4 | Z25: 81 | AA25: 6 | AB25: 2.75 | AC25: 87 | AH25: No | AI25: 6.5 | AN25: No | AO25: Yes | AP25: Yes | AR25: Yes | AS25: Yes | AT25: Yes | AU25: Yes | AV25: Yes | AW25: Yes | AX25: Yes | AY25: Yes | AZ25: Yes | BA25: Yes | BB25: Yes | BD25: Yes | BE25: Yes | BF25: Yes | BH25: Yes | BJ25: Yes | BL25: All nationalities can be accepted | BM25: =HYPERLINK(テーブル2233456[[#This Row],[Website Link]],"Website") -> Website | BN25: https://www.acg.edu/admissions/study-abroad/ | BP25: 0 | BS25: 0
A26: 46307 | B26: =ROW()-5 -> 21 | C26: 990910 | D26: Europe | E26: Republic of Turkey | F26: Ozyegin University | G26: Özyeğin University Çekmeköy Campus | H26: =HYPERLINK(テーブル2233456[[#This Row],[info link]],"Info Sheet") -> Info Sheet | I26: =VLOOKUP(テーブル2233456[[#This Row],[Code]],[1]WEB協定校一覧!$H$4:$S$181,12,0) -> https://www.apu.ac.jp/abroad/university/infosheet/files/Ozyegin_University.pdf | J26: Yes | K26: Yes | L26: Yes1 | M26: Yes | P26: 2 | Q26: Both one semester and one year | R26: September-January | S26: February-June | T26: 46538 | U26: 46553 | V26: 46642 | W26: 2 | X26: 2.5 | Y26: 3.5 | Z26: 74 | AA26: 5.5 | AB26: 2.5 | AC26: 80 | AH26: No | AI26: Not accepted | AP26: Yes | AQ26: Please note that IELTS score is not accepted according to rule of the Council of Higher Education in Türkiye. Please refer to the link below for information on other recognized exams: https://www.ozyegin.edu.tr/en/student-services/application-admission/language-proficiency-requirement | AS26: Yes | AU26: Yes | AV26: Yes | AX26: Yes | AY26: Yes | BK26: Exchange students are not permitted to enroll in internship courses. However, they may take courses offered by other departments or faculties, provided that both their home university and their OzU Program Coordinator approve their course selection.The academic calendar for the next academic year has not yet been published. Therefore, we have included tentative dates in the Fact Sheet. Once the calendar is finalized, we will share the updated Fact Sheet with our partner universities. | BL26: All nationalities can be accepted | BM26: =HYPERLINK(テーブル2233456[[#This Row],[Website Link]],"Website") -> Website | BN26: https://www.ozyegin.edu.tr/en/international-exchange-and-partnership-programs/global-exchange-program/incoming-students | BO26: 2 | BP26: 1 | BQ26: 2 | BS26: 0
A27: 46307 | B27: =ROW()-5 -> 22 | C27: 990869 | D27: Europe | E27: United Kingdom | F27: York St John University | G27: York Campus | H27: =HYPERLINK(テーブル2233456[[#This Row],[info link]],"Info Sheet") -> Info Sheet | I27: =VLOOKUP(テーブル2233456[[#This Row],[Code]],[1]WEB協定校一覧!$H$4:$S$181,12,0) -> https://www.yorksj.ac.uk/international/study-abroad-and-exchange/study-abroad-at-york-st-john/ | J27: Yes | K27: Yes | L27: Yes | P27: 4 | Q27: Both one semester and one year | R27: 19 September- 30 January | S27: 2 February - 11 June | T27: 46492 | U27: 46507 | V27: 46648 | W27: 2 | X27: 2.5 | Y27: 3.5 | Z27: 69 | AA27: 5.5 | AB27: 2.5 | AC27: 4/75 | AD27: 3.5/18 | AE27: 3.5/17 | AF27: 3.5/20 | AG27: 3.5/20 | AH27: No | AI27: 6 | AJ27: 5.5 | AK27: 5.5 | AL27: 5.5 | AM27: 5.5 | AN27: No | AO27: Yes | AP27: Yes | AR27: Yes | AS27: Yes | AT27: Yes | AU27: Yes | AV27: Yes | AW27: Yes | AX27: Yes | AY27: Yes | AZ27: Yes | BA27: Yes | BB27: Yes | BC27: Yes | BD27: Yes | BE27: Yes | BF27: Yes | BG27: Yes | BH27: Yes | BI27: Yes | BJ27: Yes | BK27: We do not offer any World Languages (Korean/Japanese), Physiotherapy, Nursing, or Biomedical Science modules. | BL27: We cannot accept students with Afghanistan, Cameroon, Myanmar or Sudan at this time due to the UK Government restrictions on entry to the UK. | BM27: =HYPERLINK(テーブル2233456[[#This Row],[Website Link]],"Website") -> Website | BN27: https://www.yorksj.ac.uk/international/study-abroad-at-york-st-john/ | BO27: 2 | BP27: 2 | BQ27: 1 | BS27: 0
A28: 46307 | B28: =ROW()-5 -> 23 | C28: 990757 | D28: Europe | E28: Norway | F28: Norwegian University of Science and Technology | G28: Trondheim, Gjøvik and Ålesund | H28: =HYPERLINK(テーブル2233456[[#This Row],[info link]],"Info Sheet") -> Info Sheet | I28: =VLOOKUP(テーブル2233456[[#This Row],[Code]],[1]WEB協定校一覧!$H$4:$S$181,12,0) -> https://www.ntnu.edu/studies/exchange | J28: Yes | K28: Yes | L28: Yes | P28: 6 | Q28: Both one semester and one year | R28: August - December | S28: January - June | T28: 46461 | U28: 46478 | V28: 46608 | W28: 2 | X28: 2.5 | Y28: 3.5 | Z28: 66 | AA28: 5.5 | AB28: 2.5 | AC28: 72 | AI28: 6 | AP28: No | AQ28: we have group work and presentations. | AR28: Yes | AS28: Yes | AT28: Yes | AU28: Yes | AV28: Yes | AW28: Yes | AX28: Yes | AY28: Yes | AZ28: Yes | BA28: Yes | BB28: Yes | BC28: Yes | BD28: Yes | BH28: Yes | BI28: Yes | BJ28: Yes | BK28: Medicine, architecture and music will be not allowed | BL28: All nationalities can be accepted | BM28: =HYPERLINK(テーブル2233456[[#This Row],[Website Link]],"Website") -> Website | BN28: https://www.ntnu.edu/studies/exchange | BO28: 1 | BP28: 1 | BQ28: 1 | BS28: 0
A29: 46307 | B29: =ROW()-5 -> 24 | C29: 990125 | D29: Europe | E29: Finland | F29: Laurea University of Applied Sciences | G29: Leppävaara, Tikkurila and Hyvinkää | H29: =HYPERLINK(テーブル2233456[[#This Row],[info link]],"Info Sheet") -> Info Sheet | I29: =VLOOKUP(テーブル2233456[[#This Row],[Code]],[1]WEB協定校一覧!$H$4:$S$181,12,0) -> https://www.apu.ac.jp/abroad/university/infosheet/files/Laurea_University_of_Applied_Sciences.pdf | J29: Yes | K29: Yes | L29: Yes | P29: 6 | Q29: Both one semester and one year | R29: mid-August to mid-December | S29: Early-January to Late-May | T29: 46492 | U29: 46507 | V29: 46621 | W29: 2 | X29: 2.5 | Y29: 3.5 | Z29: 66 | AA29: 5.5 | AB29: 2.5 | AC29: 72 | AI29: 6 | AP29: No | AU29: Yes | BE29: Yes | BK29: Instructions for exchange students https://migri.fi/en/instructions-for-exchange-students | BL29: All nationalities can be accepted | BM29: =HYPERLINK(テーブル2233456[[#This Row],[Website Link]],"Website") -> Website | BN29: https://www.laurea.fi/en/education/incoming-student-exchange/ | BO29: 1 | BP29: 1 | BQ29: 1 | BR29: 5 | BS29: 3 | BT29: 1.6666667
A30: 46307 | B30: =ROW()-5 -> 25 | C30: 990985 | D30: Europe | E30: Belgium | F30: University of Antwerp | G30: City Campus | H30: =HYPERLINK(テーブル2233456[[#This Row],[info link]],"Info Sheet") -> Info Sheet | I30: https://en.apu.ac.jp/abroad/university/infosheet/files/University_of_Antwerp.pdf | J30: Yes | K30: Yes | M30: Yes | N30: Yes | O30: Yes | P30: 2 | Q30: Both one semester and one year | R30: end september - end january | S30: begin february - end june | T30: 46492 | U30: 46522 | V30: 46649 | W30: 2 | X30: 2.5 | Y30: 3.5 | Z30: 73 | AA30: 5.5 | AB30: 2.5 | AC30: 4/79 | AH30: Yes | AI30: 6 | AN30: No | AO30: No | AP30: Yes | AR30: Yes | AS30: Yes | AT30: Yes | AU30: Yes | AV30: Yes | AW30: Yes | AX30: Yes | AY30: Yes | BG30: Yes | BK30: Course offer: https://www.uantwerpen.be/en/about-uantwerp/faculties/faculty-of-business-and-economics/students/internationalisation/exchange-programme/non-dutch-courses/ Students can only choose courses that are listed in the course catalog (see link below) and max.2 courses from another faculty. They need to enroll in at least 21 ECTS, max.30 ECTS. - Students should have completed at least 120 ECTS or two full academic years before arriving in Antwerp to enroll in bachelor courses. - In terms of the level of courses, the following academic experience is required: o Bachelor courses (course codes starting with 1, e.g. Accountancy 1101TEWSES): Successfully completed at least 120 ECTS or two full academic years of tertiary education upon arrival in Antwerp as well as meeting the course prerequisites. | BL30: All nationalities can be accepted | BM30: =HYPERLINK(テーブル2233456[[#This Row],[Website Link]],"Website") -> Website | BN30: https://www.uantwerpen.be/en/study/erasmus-and-exchange-students/become-an-exchange-student/
A31: 46307 | B31: =ROW()-5 -> 26 | C31: 990330 | D31: Europe | E31: United Kingdom | F31: University of Leicester | G31: University of Leicester campus | H31: =HYPERLINK(テーブル2233456[[#This Row],[info link]],"Info Sheet") -> Info Sheet | I31: =VLOOKUP(テーブル2233456[[#This Row],[Code]],[1]WEB協定校一覧!$H$4:$S$181,12,0) -> https://www.apu.ac.jp/abroad/university/infosheet/files/University_of_Leicester.pdf | J31: Yes | K31: Yes | P31: 4 | Q31: Both one semester and one year | R31: 27/09/2027 - 16/01/2028 (to be confirmed) | S31: 17/01/2028 - 09/06/2028 | T31: 46538 | U31: 46538 | V31: 46657 | W31: 2 | X31: 3 | Y31: 4 | Z31: 84 | AA31: 6 | AB31: 3 | AC31: 4.5/9 | AD31: 4 /18 | AE31: 4 /17 | AF31: 4/ 20 | AG31: 4 /17 | AH31: No | AI31: 6.5 | AJ31: 5.5 | AK31: 5.5 | AL31: 5.5 | AM31: 5.5 | AN31: Yes | AO31: Yes | AP31: Yes | AR31: Yes | AS31: Yes | AT31: Yes | AU31: Yes | AV31: Yes | AW31: Yes | AX31: Yes | AY31: Yes | AZ31: Yes | BA31: Yes | BB31: Yes | BC31: Yes | BD31: Yes | BK31: All subjects in our module catalogue are available to Study Abroad students, but subjects not in our catalogue (medicine and education) are not available. | BL31: We cannot accept students with Afghanistan, Cameroon, Myanmar or Sudan at this time due to the UK Government restrictions on entry to the UK. | BM31: =HYPERLINK(テーブル2233456[[#This Row],[Website Link]],"Website") -> Website | BN31: https://le.ac.uk/cite/study-abroad-unit/incoming | BO31: 1 | BP31: 1 | BQ31: 1 | BR31: 2 | BS31: 1 | BT31: 2
A32: 46307 | B32: =ROW()-5 -> 27 | C32: 990249 | D32: Europe | E32: Norway | F32: BI Norwegian School of Management | G32: Oslo Campus | H32: =HYPERLINK(テーブル2233456[[#This Row],[info link]],"Info Sheet") -> Info Sheet | I32: =VLOOKUP(テーブル2233456[[#This Row],[Code]],[1]WEB協定校一覧!$H$4:$S$181,12,0) -> https://www.apu.ac.jp/abroad/university/infosheet/files/BI_Norwegian_Business_School.pdf | J32: Yes | M32: Yes | N32: Yes | P32: 2 | Q32: Both one semester and one year | R32: August-December | S32: January-June | T32: 46502 | U32: 46508 | V32: 46605 | W32: 2 | X32: 2.5 | Y32: 3.5 | Z32: 72 | AA32: 5.5 | AB32: 2.5 | AC32: 78 | AI32: 6 | AP32: No | AR32: Yes | AS32: Yes | AT32: Yes | AU32: Yes | AV32: Yes | AW32: Yes | AX32: Yes | BG32: Yes | BK32: See course list for courses available for exchange students: https://www.bi.no/en/exchange | BL32: All nationalities can be accepted | BM32: =HYPERLINK(テーブル2233456[[#This Row],[Website Link]],"Website") -> Website | BN32: http://bi.no/en/exchange | BO32: 1 | BP32: 1 | BQ32: 1 | BR32: 2 | BS32: 2 | BT32: 1
A33: 46307 | B33: =ROW()-5 -> 28 | C33: 990307 | D33: Asia | E33: Taiwan | F33: National Yang Ming Chiao Tung University, College of Management, | G33: Guangfu Campus & Beimen Campus | H33: =HYPERLINK(テーブル2233456[[#This Row],[info link]],"Info Sheet") -> Info Sheet | I33: =VLOOKUP(テーブル2233456[[#This Row],[Code]],[1]WEB協定校一覧!$H$4:$S$181,12,0) -> https://www.apu.ac.jp/abroad/university/infosheet/files/National_YangMingChiaoTung_University.pdf | J33: Yes | M33: Yes | P33: 4 | Q33: Both one semester and one year | R33: Sep. - Dec. | S33: Feb - Jun | T33: 46476 | U33: 46492 | V33: 46629 | W33: 2 | X33: 3 | Y33: 3.5 | Z33: 73 | AA33: 5.5 | AB33: 3 | AC33: 4/79 | AH33: No | AI33: 6 | AN33: No | AO33: No | AP33: Yes | AR33: Yes | AS33: Yes | AT33: Yes | AU33: Yes | AV33: Yes | AW33: Yes | AX33: Yes | AY33: Yes | BB33: Yes | BC33: Yes | BD33: Yes | BE33: Yes | BG33: Yes | BL33: Students from these countries must obtain the consent of an NYCU professor who is willing to serve as a guarantor for their visa application. https://www.boca.gov.tw/cp-159-249-4162c-2.html | BM33: =HYPERLINK(テーブル2233456[[#This Row],[Website Link]],"Website") -> Website | BN33: https://oia.nycu.edu.tw/oia/en/app/artwebsite/view?module=artwebsite&id=821&serno=a277c341-8d25-4a51-8495-58d1d58bbc5d | BO33: 1 | BP33: 1 | BQ33: 1 | BS33: 0
A34: 46307 | B34: =ROW()-5 -> 29 | C34: 990305 | D34: Asia | E34: Taiwan | F34: Tunghai University | G34: Depends on students' study field. Our second campus is right next to main campus. → Main Campus and Second Campus | H34: =HYPERLINK(テーブル2233456[[#This Row],[info link]],"Info Sheet") -> Info Sheet | I34: =VLOOKUP(テーブル2233456[[#This Row],[Code]],[1]WEB協定校一覧!$H$4:$S$181,12,0) -> https://www.apu.ac.jp/abroad/university/infosheet/files/Tunghai_University.pdf | J34: Yes | K34: Yes | L34: Yes | M34: Yes | P34: 2 | Q34: Both one semester and one year | R34: September-January | S34: February-June | T34: 46492 | U34: 46507 | V34: 46640 | W34: 2 | X34: 2.5 | Y34: 3.5 | Z34: 65 | AA34: 5 | AB34: 2.5 | AC34: 3.5/65 | AI34: 5.5 | AP34: No | AT34: Yes | AU34: Yes | AW34: Yes | AY34: Yes | BJ34: Yes | BL34: All nationalities can be accepted, but Chinese students from APU may face more complex visa application process. | BM34: =HYPERLINK(テーブル2233456[[#This Row],[Website Link]],"Website") -> Website | BN34: https://oir.thu.edu.tw/front/500_InExSt/500_InExSt_1/pages.php?ID=dGh1X29zYSY1MDBfSW5FeFN0XzE= | BO34: 1 | BP34: 1 | BQ34: 1 | BS34: 0
A35: 46307 | B35: =ROW()-5 -> 30 | C35: 990308 | D35: Asia | E35: Taiwan | F35: Yuan Ze University | G35: YUAN ZE UNIVERSITY | H35: =HYPERLINK(テーブル2233456[[#This Row],[info link]],"Info Sheet") -> Info Sheet | I35: =VLOOKUP(テーブル2233456[[#This Row],[Code]],[1]WEB協定校一覧!$H$4:$S$181,12,0) -> https://www.apu.ac.jp/abroad/university/infosheet/files/Yuan_Ze_University.pdf | J35: Yes | M35: Yes | P35: 2 | Q35: Both one semester and one year | R35: Sep-Jan | S35: Feb-Jun | T35: 46477 | U35: 46492 | V35: 46636 | W35: 2 | X35: 2.8 | Y35: 3.5 | Z35: 62 | AA35: 5 | AB35: 2.8 | AC35: 68 | AH35: No | AI35: 5.5 | AJ35: 5.5 | AK35: 5.5 | AL35: 5.5 | AM35: 5.5 | AN35: No | AO35: No | AP35: Yes | AR35: Yes | AS35: Yes | AT35: Yes | AU35: Yes | AX35: Yes | BL35: All nationalities can be accepted | BM35: =HYPERLINK(テーブル2233456[[#This Row],[Website Link]],"Website") -> Website | BN35: https://gao.yzu.edu.tw/index.php/en/int-exchange-2/income-student | BO35: 1 | BP35: 1 | BQ35: 1 | BS35: 0
A36: 46307 | B36: =ROW()-5 -> 31 | C36: 990755 | D36: Asia | E36: Malaysia | F36: The National University of Malaysia | G36: Bangi Campus | H36: =HYPERLINK(テーブル2233456[[#This Row],[info link]],"Info Sheet") -> Info Sheet | I36: =VLOOKUP(テーブル2233456[[#This Row],[Code]],[1]WEB協定校一覧!$H$4:$S$181,12,0) -> https://www.apu.ac.jp/abroad/university/infosheet/files/The_National_University_of_Malaysia.pdf | J36: Yes | K36: Yes | L36: Yes | P36: 2 | Q36: Both one semester and one year | R36: September - February | S36: March - July | T36: 46543 | U36: 46568 | V36: 46643 | W36: 2 | X36: 3 | Y36: 4 | Z36: 65 | AA36: 5.5 | AB36: 3 | AC36: 4.5/ 79 | AH36: Yes | AI36: 6 | AN36: Yes | AO36: Yes | AP36: Yes | AR36: Yes | AS36: Yes | AT36: Yes | AU36: Yes | AV36: Yes | AX36: Yes | BC36: Yes | BI36: Yes | BJ36: Yes | BL36: Students holding Israeli or North Korean passports cannot be accepted for exchange. | BM36: =HYPERLINK(テーブル2233456[[#This Row],[Website Link]],"Website") -> Website | BN36: https://www.ukm.my/pha/exchange/ | BO36: 1 | BP36: 1 | BQ36: 1 | BS36: 0
A37: 46307 | B37: =ROW()-5 -> 32 | C37: 990098 | D37: Asia | E37: China | F37: The Hong Kong Polytechnic University | G37: Hung Hom Main Campus | H37: =HYPERLINK(テーブル2233456[[#This Row],[info link]],"Info Sheet") -> Info Sheet | I37: =VLOOKUP(テーブル2233456[[#This Row],[Code]],[1]WEB協定校一覧!$H$4:$S$181,12,0) -> https://www.apu.ac.jp/abroad/university/infosheet/files/The_Hong_Kong_Polytechnic_University.pdf | L37: Yes | M37: Yes | N37: Yes | P37: 2 | Q37: Both one semester and one year | R37: Sep-Dec | S37: Jan-May | T37: 46461 | U37: 46492 | V37: 46265 | W37: 2 | X37: 2.7 | Y37: 3.5 | Z37: 74 | AA37: 5.5 | AB37: 2.7 | AC37: 80 | AH37: Yes | AI37: 6 | AN37: Yes | AO37: No | AP37: Yes | AR37: Yes | AS37: Yes | AT37: Yes | AU37: Yes | AV37: Yes | AW37: Yes | AX37: Yes | BB37: Yes | BC37: Yes | BD37: Yes | BE37: Yes | BF37: Yes | BG37: Yes | BH37: Yes | BL37: All nationalities can be accepted | BM37: =HYPERLINK(テーブル2233456[[#This Row],[Website Link]],"Website") -> Website | BN37: https://www.polyu.edu.hk/geo/docdrive/pdf/polyu_infosheet.pdf | BO37: 1 | BP37: 1 | BQ37: 1 | BR37: 1 | BS37: 1 | BT37: 1
A38: 46307 | B38: =ROW()-5 -> 33 | C38: 990525 | D38: Europe | E38: Switzerland | F38: Lucerne University of Applied Sciences and Arts - School of Business | G38: Lucerne School of Business, Campus Perron, Campus Z9, Campus School of Computer Science | H38: =HYPERLINK(テーブル2233456[[#This Row],[info link]],"Info Sheet") -> Info Sheet | I38: =VLOOKUP(テーブル2233456[[#This Row],[Code]],[1]WEB協定校一覧!$H$4:$S$181,12,0) -> https://www.apu.ac.jp/abroad/university/infosheet/files/Lucerne_University_of_Applied_Sciences_and_Arts.pdf | J38: Yes | M38: Yes | P38: 2 | Q38: Both one semester and one year | R38: mid September - End of January (incl. Exams) September-February | S38: February-July | T38: 46492 | U38: 46507 | V38: 46636 | W38: 2 | X38: 2.75 | Y38: 3.5 | Z38: 73 | AA38: 6 | AB38: 2.75 | AC38: 79 | AH38: Yes | AI38: 6.5 | AN38: No | AO38: No | AP38: Yes | AR38: Yes | AS38: Yes | AT38: Yes | AU38: Yes | AV38: Yes | AW38: Yes | AX38: Yes | AY38: Yes | BK38: School of Business courses only. | BL38: All nationalities can be accepted | BM38: =HYPERLINK(テーブル2233456[[#This Row],[Website Link]],"Website") -> Website | BN38: https://www.hslu.ch/en/lucerne-school-of-business/international/for-students/incoming-exchange-students/ | BO38: 1 | BP38: 1 | BQ38: 1 | BS38: 0
A39: 46307 | B39: =ROW()-5 -> 34 | C39: 990759 | D39: Asia | E39: China | F39: Beijing Normal University-Hong Kong Baptist University United International College | G39: Beijing Normal-Hong Kong Baptist University | H39: =HYPERLINK(テーブル2233456[[#This Row],[info link]],"Info Sheet") -> Info Sheet | I39: =VLOOKUP(テーブル2233456[[#This Row],[Code]],[1]WEB協定校一覧!$H$4:$S$181,12,0) -> https://www.apu.ac.jp/abroad/university/infosheet/files/Beijing_Normal_University_Hong_Kong_Baptist_University_United_International_College.pdf | J39: Yes | K39: Yes | L39: Yes | P39: 4 | Q39: Both one semester and one year | R39: September-December | S39: February-June | T39: 46482 | U39: 46492 | V39: 46624 | W39: 2 | X39: 3 | Y39: 3.5 | Z39: 73 | AA39: 5.5 | AB39: 3 | AC39: 79 | AH39: No | AI39: 6 | AN39: No | AO39: No | AP39: Yes | AR39: Yes | AS39: Yes | AT39: Yes | AU39: Yes | AV39: Yes | AX39: Yes | AY39: Yes | BB39: Yes | BC39: Yes | BD39: Yes | BE39: Yes | BF39: Yes | BG39: Yes | BH39: Yes | BL39: All nationalities can be accepted | BM39: =HYPERLINK(テーブル2233456[[#This Row],[Website Link]],"Website") -> Website | BN39: https://ido.bnbu.edu.cn/en/inbound_students/exchange_in_student_programme.htm | BP39: 0 | BS39: 0
A40: 46307 | B40: =ROW()-5 -> 35 | C40: 990980 | D40: Asia | E40: India | F40: O.P. Jindal Global [Institution of Eminence Deemed to be University | G40: O.P.JINDAL GLOBAL UNIVERSITY | H40: =HYPERLINK(テーブル2233456[[#This Row],[info link]],"Info Sheet") -> Info Sheet | I40: =VLOOKUP(テーブル2233456[[#This Row],[Code]],[1]WEB協定校一覧!$H$4:$S$181,12,0) -> https://www.apu.ac.jp/abroad/university/infosheet/files/O.P._Jindal_University.pdf | K40: Yes | M40: Yes | P40: 6 | Q40: Both one semester and one year | R40: 1ST AUGUST -15TH DECEMBER 2027 | S40: 1ST FEBRUARY - 15TH JUNE 2028 | T40: 46522 | U40: 46522 | V40: 46597 | W40: 2 | X40: 2.5 | Y40: 3.5 | Z40: 65 | AA40: 5 | AB40: 2.5 | AC40: 65 | AI40: 5.5 | AP40: No | AR40: Yes | AS40: Yes | AT40: Yes | AU40: Yes | AV40: Yes | AW40: Yes | AX40: Yes | AY40: Yes | AZ40: Yes | BA40: Yes | BB40: Yes | BC40: Yes | BD40: Yes | BG40: Yes | BH40: Yes | BI40: Yes | BK40: Law school is not allowed | BL40: We cannot accept students from China,because of the VISA ISSUE | BM40: =HYPERLINK(テーブル2233456[[#This Row],[Website Link]],"Website") -> Website | BN40: https://jgu.edu.in/internationaloffice/ | BO40: 1 | BP40: 1 | BQ40: 1 | BS40: 0
A41: 46307 | B41: =ROW()-5 -> 36 | C41: 990958 | D41: Asia | E41: Korea | F41: Woosong University, SolBridge International School of Business | G41: Solbridge campus | H41: =HYPERLINK(テーブル2233456[[#This Row],[info link]],"Info Sheet") -> Info Sheet | I41: =VLOOKUP(テーブル2233456[[#This Row],[Code]],[1]WEB協定校一覧!$H$4:$S$181,12,0) -> https://www.apu.ac.jp/abroad/university/infosheet/files/SolBridge_International_School_of_Business.pdf | J41: Yes | M41: Yes | P41: 10 | Q41: Both one semester and one year | R41: September-December | S41: March-July | T41: 46542 | U41: 46556 | V41: 46624 | W41: 2 | X41: 2.5 | Y41: 3.5 | Z41: 65 | AA41: 5 | AB41: 2.5 | AC41: 65 | AH41: No | AI41: 5.5 | AN41: No | AO41: No | AP41: Yes | AR41: Yes | AS41: Yes | AT41: Yes | AU41: Yes | AV41: Yes | AX41: Yes | BB41: Yes | BE41: Yes | BF41: Yes | BL41: All nationalities can be accepted | BM41: =HYPERLINK(テーブル2233456[[#This Row],[Website Link]],"Website") -> Website | BN41: https://english.wsu.ac.kr/main/index.jsp | BP41: 0 | BS41: 0
A42: 46307 | B42: =ROW()-5 -> 37 | C42: 990053 | D42: Asia | E42: China | F42: City University of Hong Kong | G42: CityUHK | H42: =HYPERLINK(テーブル2233456[[#This Row],[info link]],"Info Sheet") -> Info Sheet | I42: =VLOOKUP(テーブル2233456[[#This Row],[Code]],[1]WEB協定校一覧!$H$4:$S$181,12,0) -> https://www.apu.ac.jp/abroad/university/infosheet/files/City_University_of_Hong_Kong.pdf | J42: Yes | K42: Yes | M42: Yes | N42: Yes | P42: 2 | Q42: Both one semester and one year | R42: Aug - Dec | S42: Jan - May | T42: 46477 | U42: 46519 | V42: 46622 | W42: 2 | X42: 2.5 | Y42: 3.5 | Z42: 73 | AA42: 6 | AB42: 2.5 | AC42: 79/4+ | AH42: Yes | AI42: 6.5 | AN42: Yes | AO42: No | AP42: Yes | AR42: Yes | AS42: Yes | AT42: Yes | AU42: Yes | AW42: Yes | AZ42: Yes | BA42: Yes | BB42: Yes | BH42: Yes | BL42: All nationalities can be accepted | BM42: =HYPERLINK(テーブル2233456[[#This Row],[Website Link]],"Website") -> Website | BN42: https://www.cb.cityu.edu.hk/exchange/international_student/information/procedures | BO42: 1 | BP42: 0 | BR42: 1 | BS42: 1 | BT42: 1
A43: 46307 | B43: =ROW()-5 -> 38 | C43: 990100 | D43: Asia | E43: China | F43: The University of Hong Kong | G43: HKU Main Campus | H43: =HYPERLINK(テーブル2233456[[#This Row],[info link]],"Info Sheet") -> Info Sheet | I43: =VLOOKUP(テーブル2233456[[#This Row],[Code]],[1]WEB協定校一覧!$H$4:$S$181,12,0) -> https://www.apu.ac.jp/abroad/university/infosheet/files/The_University_of_Hong_Kong.pdf | J43: Yes | K43: Yes | L43: Yes | M43: Yes | N43: Yes | P43: 2 | Q43: Both one semester and one year | R43: September-December | S43: January-May | T43: 46477 | U43: 46507 | V43: 46630 | W43: 2 | X43: 3 | Y43: 4.5 | Z43: 89 | AA43: 6 | AB43: 3 | AC43: he new TOEFL scoring scale is currently under review internally, so the information at https://admissions.hku.hk/apply/international-qualifications/english-language-requirement remains unchanged. In addition, TOEFL would provide both new and old score in the same report for a transition period of approximately 2 years. As such, kindly refer to the score indicated in the above mentioned page for reference. | AF43: 5+/25+ | AG43: 5+/25+ | AH43: No | AI43: 6.5 | AJ43: 6 | AK43: 6 | AL43: 6 | AM43: 6 | AN43: No | AO43: No | AP43: Yes | AQ43: TOEFL iBT Home Edition is not accepted. | AR43: Yes | AS43: Yes | AT43: Yes | AU43: Yes | AV43: Yes | AW43: Yes | AX43: Yes | AY43: Yes | AZ43: Yes | BA43: Yes | BB43: Yes | BC43: Yes | BD43: Yes | BG43: Yes | BH43: Yes | BJ43: Yes | BK43: The following programmes/courses are NOT opened to incoming students: Faculty of Dentistry; Li Ka Shing Faculty of Medicine; BSc (Exercise and Health) Programme; Most final year project courses offered by all facultiesHousing availability is generally higher in Spring.University dormitories;Students have to find their own accommodation;https://housing.cedars.hku.hk/; | BL43: All nationalities can be accepted | BM43: =HYPERLINK(テーブル2233456[[#This Row],[Website Link]],"Website") -> Website | BN43: https://intlaffairs.hku.hk/exchange | BO43: 3 | BP43: 2 | BQ43: 1.5 | BR43: 4 | BS43: 4 | BT43: 1
A44: 46307 | B44: =ROW()-5 -> 39 | C44: 990297 | D44: Asia | E44: Taiwan | F44: National Chengchi University | G44: Main Campus | H44: =HYPERLINK(テーブル2233456[[#This Row],[info link]],"Info Sheet") -> Info Sheet | I44: =VLOOKUP(テーブル2233456[[#This Row],[Code]],[1]WEB協定校一覧!$H$4:$S$181,12,0) -> https://www.apu.ac.jp/abroad/university/infosheet/files/National_Chengchi_University.pdf | J44: Yes | K44: Yes | M44: Yes | N44: Yes | P44: 2 | Q44: Both one semester and one year | R44: September - December | S44: February - June | T44: 46476 | U44: 46497 | V44: 46631 | W44: 2 | X44: 2.75 | Y44: 3.5 | Z44: 74 | AA44: 5.5 | AB44: 2.75 | AC44: 4+ /80 | AI44: 6 | AP44: No | AQ44: We recommend students to reach a sufficient language proficiency level to understand the course content. Specifically:For Mandarin-taught courses: TOCFL Superior or HSK Level 4. Please note that some colleges or departments (e.g., College of Informatics and College of Science) may require a higher level of Mandarin proficiency. | AR44: Yes | AS44: Yes | AT44: Yes | AU44: Yes | AX44: Yes | AY44: Yes | AZ44: Yes | BA44: Yes | BK44: Course availability: exchange students may take courses across departments, except for the ones offered by the following departments: - International Master’s Program in Asia-Pacific Studies (IMAS); - International Master of Business Administration (IMBA); - Executive Master of Business Administration (EMBA); - College of Global Banking and Finance; - On-Job Training Programs; - Extended Minor Course with credit fee; and - The department of the students’ native language (e.g., Korean students cannot take courses offered by the Department of Korean Language and Culture). University dormitories; | BL44: All nationalities can be accepted | BM44: =HYPERLINK(テーブル2233456[[#This Row],[Website Link]],"Website") -> Website | BN44: https://oic.nccu.edu.tw/ | BO44: 1 | BP44: 1 | BQ44: 1 | BS44: 0
A45: 46307 | B45: =ROW()-5 -> 40 | C45: 990099 | D45: Asia | E45: China | F45: The Hong Kong University of Science and Technology | G45: Clearwater Bay | H45: =HYPERLINK(テーブル2233456[[#This Row],[info link]],"Info Sheet") -> Info Sheet | I45: =VLOOKUP(テーブル2233456[[#This Row],[Code]],[1]WEB協定校一覧!$H$4:$S$181,12,0) -> https://www.apu.ac.jp/abroad/university/infosheet/files/The_Hong_Kong_University_of_Science_and_Technology.pdf | J45: Yes | M45: Yes | P45: 2 | Q45: Both one semester and one year | R45: September-December | S45: February-May | T45: 46488 | U45: 46488 | V45: 46631 | W45: 2 | X45: 2.5 | Y45: 3.5 | Z45: 65 | AA45: 6 | AB45: 2.5 | AC45: 3.5+/65 | AH45: Yes | AI45: 6.5 | AN45: No | AO45: Yes | AP45: Yes | AR45: Yes | AS45: Yes | AT45: Yes | AU45: Yes | AV45: Yes | AW45: Yes | AX45: Yes | BC45: Yes | BD45: Yes | BG45: Yes | BH45: Yes | BK45: No PG courses, University dormitories; | BL45: All nationalities can be accepted | BM45: =HYPERLINK(テーブル2233456[[#This Row],[Website Link]],"Website") -> Website | BN45: https://bmundergrad.hkust.edu.hk/exchange/inbound-exchange | BP45: 0 | BR45: 1 | BS45: 1 | BT45: 1
A46: 46307 | B46: =ROW()-5 -> 41 | C46: 990095 | D46: Asia | E46: China | F46: The Chinese University of Hong Kong | G46: We only have one campus in HK. | H46: =HYPERLINK(テーブル2233456[[#This Row],[info link]],"Info Sheet") -> Info Sheet | I46: =VLOOKUP(テーブル2233456[[#This Row],[Code]],[1]WEB協定校一覧!$H$4:$S$181,12,0) -> https://www.apu.ac.jp/abroad/university/infosheet/files/The_Chinese_University_of_Hong_Kong.pdf | J46: Yes | K46: Yes | L46: Yes | M46: Yes | P46: 6 | Q46: Both one semester and one year | R46: September - December | S46: January - mid-May | T46: 46461 | U46: 46478 | V46: 46631 | W46: 2 | X46: 3 | Y46: 4 | Z46: 74 | AA46: 5.5 | AB46: 3 | AC46: 4.5/80 | AH46: No | AI46: 6 | AN46: No | AO46: No | AP46: Yes | AR46: Yes | AS46: Yes | AT46: Yes | AU46: Yes | AV46: Yes | AW46: Yes | AX46: Yes | AY46: Yes | AZ46: Yes | BA46: Yes | BB46: Yes | BC46: Yes | BD46: Yes | BE46: Yes | BF46: Yes | BG46: Yes | BH46: Yes | BI46: Yes | BK46: https://www.oalglobal.cuhk.edu.hk/files/incoming/course_exceptions.pdf University dormitories; | BL46: Due to visa restrictions we are currently unable to welcome students who are nationals of Afghanistan, Cuba, Laos, Nepal, North Korea and Vietnam. | BM46: =HYPERLINK(テーブル2233456[[#This Row],[Website Link]],"Website") -> Website | BN46: https://www.oalglobal.cuhk.edu.hk/getting_started/ | BO46: 3 | BP46: 2 | BQ46: 1.5 | BR46: 2 | BS46: 2 | BT46: 1
A47: 46307 | B47: =ROW()-5 -> 42 | C47: 990001 | D47: Latin America | E47: Argentina | F47: Universidad Argentina de la Empresa | G47: Campus Buenos Aires / Campus Recoleta / Campus Belgrano | H47: =HYPERLINK(テーブル2233456[[#This Row],[info link]],"Info Sheet") -> Info Sheet | I47: =VLOOKUP(テーブル2233456[[#This Row],[Code]],[1]WEB協定校一覧!$H$4:$S$181,12,0) -> https://www.apu.ac.jp/abroad/university/infosheet/files/Universidad_Argentina_de_la_Empresa.pdf | J47: Yes | P47: 4 | Q47: Both one semester and one year | R47: August-December | S47: March-July | T47: 46508 | U47: 46522 | V47: 46597 | W47: 2 | X47: 2.5 | Y47: 3.5 | Z47: 65 | AA47: 5 | AB47: 2.5 | AC47: 3.5 /65 | AI47: 5.5 | AP47: No | AS47: Yes | AT47: Yes | AU47: Yes | BB47: Yes | BK47: University dormitories; Students have to find their own accommodation | BL47: All nationalities can be accepted | BM47: =HYPERLINK(テーブル2233456[[#This Row],[Website Link]],"Website") -> Website | BN47: https://www.uade.edu.ar/uade-internacional/incoming/ | BP47: 0 | BS47: 0
A48: 46307 | B48: =ROW()-5 -> 43 | C48: 990922 | D48: Africa | E48: Morocco | F48: Al Akhawayn University in Ifrane | G48: Ifrane Campus | H48: =HYPERLINK(テーブル2233456[[#This Row],[info link]],"Info Sheet") -> Info Sheet | I48: =VLOOKUP(テーブル2233456[[#This Row],[Code]],[1]WEB協定校一覧!$H$4:$S$181,12,0) -> https://www.apu.ac.jp/abroad/university/infosheet/files/Al_Akhawayn_University_in_Ifrane.pdf | J48: Yes | K48: Yes | O48: Yes | P48: 4 | Q48: Both one semester and one year | R48: End of August-December | S48: Mid-January-May | T48: 46447 | U48: 46461 | V48: 46629 | W48: 2 | X48: 2.5 | Y48: 3.5 | Z48: 65 | AA48: 6 | AB48: 2.5 | AC48: 71 | AD48: 4 | AE48: 4 | AF48: 4 | AG48: 4 /19 | AH48: Yes | AI48: 6.5 | AN48: No | AO48: Yes | AP48: Yes | AR48: Yes | AS48: Yes | AT48: Yes | AU48: Yes | AV48: Yes | AW48: Yes | AX48: Yes | AY48: Yes | AZ48: Yes | BA48: Yes | BB48: Yes | BD48: Yes | BH48: Yes | BK48: Course Pre-requisites. University dormitories; | BL48: All nationalities can be accepted | BM48: =HYPERLINK(テーブル2233456[[#This Row],[Website Link]],"Website") -> Website | BN48: https://aui.ma/international-experience | BP48: 0 | BS48: 0
A49: 46307 | B49: =ROW()-5 -> 44 | C49: 990748 | D49: Latin America | E49: Peru | F49: Universidad San Ignacio de Loyola S.A. | G49: CAMPUS LA MOLINA: Campus Arq. Fernando Belaunde Terry and Campus Gran Almirante Miguel Grau | H49: =HYPERLINK(テーブル2233456[[#This Row],[info link]],"Info Sheet") -> Info Sheet | I49: =VLOOKUP(テーブル2233456[[#This Row],[Code]],[1]WEB協定校一覧!$H$4:$S$181,12,0) -> https://www.apu.ac.jp/abroad/university/infosheet/files/Universidad_San_Ignacio_de_Loyola_S.A.pdf | J49: Yes | K49: Yes | L49: Yes | P49: 2 | Q49: Both one semester and one year | R49: August - December | S49: March -July | T49: 46492 | U49: 46517 | V49: August 6th | W49: 2 | X49: 2.5 | Y49: 3.5 | Z49: 66 | AA49: 5.5 | AB49: 2.5 | AC49: 4+/72 | AD49: 4+/21 | AE49: 4+19/ | AF49: 4.5+/22 | AG49: 4+/2 | AH49: Yes | AI49: 6 | AN49: Yes | AO49: Yes | AP49: Yes | AR49: Yes | AS49: Yes | AT49: Yes | AU49: Yes | AV49: Yes | AW49: Yes | AX49: Yes | AY49: Yes | AZ49: Yes | BA49: Yes | BB49: Yes | BC49: Yes | BD49: Yes | BE49: Yes | BF49: Yes | BG49: Yes | BH49: Yes | BI49: Yes | BJ49: Yes | BK49: MEDICINE SCHOOL is not allowed. Students have to find their own accommodation;As part of the application process, we provide a list of recommended housing options for students to consider during their stay at USIL. | BL49: All nationalities can be accepted | BM49: =HYPERLINK(テーブル2233456[[#This Row],[Website Link]],"Website") -> Website | BN49: https://internacional.usil.edu.pe/internacional/ | BO49: 4 | BP49: 3 | BQ49: 1.3333333 | BR49: 2 | BS49: 2 | BT49: 1
A50: 46307 | B50: =ROW()-5 -> 45 | C50: 990009 | D50: Oceania | E50: Australia | F50: James Cook University | G50: Townsville and Cairns | H50: =HYPERLINK(テーブル2233456[[#This Row],[info link]],"Info Sheet") -> Info Sheet | I50: =VLOOKUP(テーブル2233456[[#This Row],[Code]],[1]WEB協定校一覧!$H$4:$S$181,12,0) -> https://www.apu.ac.jp/abroad/university/infosheet/files/James_Cook_University.pdf | J50: Yes | K50: Yes | L50: Yes | P50: 2 | Q50: Both one semester and one year | R50: Trimester 3 - September - December | S50: Trimester 1 - February - May | T50: 46522 | U50: 46539 | V50: 46643 | W50: 2 | X50: 2.5 | Y50: 3.5 | Z50: 68 | AA50: 5.5 | AB50: 2.5 | AC50: 4+/74 | AD50: 18 | AE50: 18 | AF50: 18 | AG50: 18 | AH50: No | AI50: 6 | AJ50: 6 | AK50: 6 | AL50: 6 | AM50: 6 | AN50: Yes | AO50: No | AP50: Yes | AR50: Yes | AS50: Yes | AT50: Yes | AU50: Yes | AX50: Yes | AY50: Yes | AZ50: Yes | BA50: Yes | BB50: Yes | BC50: Yes | BD50: Yes | BE50: Yes | BF50: Yes | BG50: Yes | BH50: Yes | BK50: Study Abroad and Exchange students are not able to study subjects from the following Study Areas, due to accreditation requirements: Medicine (MD) Dental Surgery (DS) Medical Laboratory Science (ML) Pharmacy (PC) Physiotherapy (PS) Rehabilitation (RH), and Veterinary Science (TV).0University dormitories; | BL50: All nationalities can be accepted | BM50: =HYPERLINK(テーブル2233456[[#This Row],[Website Link]],"Website") -> Website | BN50: https://www.jcu.edu.au/global-experience/inbound-programs/exchange | BO50: 2 | BP50: 1 | BQ50: 2 | BS50: 0
A51: 46307 | B51: =ROW()-5 -> 46 | C51: 990759 | D51: Asia | E51: China | F51: Hong Kong Baptist University, School of Business | G51: Hong Kong Baptist University | H51: =HYPERLINK(テーブル2233456[[#This Row],[info link]],"Info Sheet") -> Info Sheet | I51: =VLOOKUP(テーブル2233456[[#This Row],[Code]],[1]WEB協定校一覧!$H$4:$S$181,12,0) -> https://www.apu.ac.jp/abroad/university/infosheet/files/Beijing_Normal_University_Hong_Kong_Baptist_University_United_International_College.pdf | J51: Yes | M51: Yes | N51: Yes | P51: 2 | Q51: Both one semester and one year | R51: early September to late December | S51: early January to late May | T51: 46508 | U51: 46522 | V51: 46626 | W51: 2 | X51: 2.5 | Y51: 3.5 | Z51: 73 | AA51: 5.5 | AB51: 2.5 | AC51: 4+/79 | AD51: N/A | AE51: N/A | AF51: N/A | AG51: N/A | AH51: No | AI51: 6 | AN51: No | AO51: No | AP51: Yes | AR51: Yes | AS51: Yes | AT51: Yes | AU51: Yes | AV51: Yes | AX51: Yes | BB51: Yes | BD51: Yes | BJ51: Yes | BK51: University dormitories | BL51: All nationalities can be accepted | BM51: =HYPERLINK(テーブル2233456[[#This Row],[Website Link]],"Website") -> Website | BN51: https://intl.hkbu.edu.hk/student-exchange/incoming-students | BP51: 0 | BS51: 0
A52: 46307 | B52: =ROW()-5 -> 47 | C52: 990229 | D52: Asia | E52: Malaysia | F52: Universiti Sains Malaysia | G52: Universiti Sains Malaysia | H52: =HYPERLINK(テーブル2233456[[#This Row],[info link]],"Info Sheet") -> Info Sheet | I52: =VLOOKUP(テーブル2233456[[#This Row],[Code]],[1]WEB協定校一覧!$H$4:$S$181,12,0) -> https://www.apu.ac.jp/abroad/university/infosheet/files/Universiti_Sains_Malaysia.pdf | J52: Yes | K52: Yes | L52: Yes1 | P52: 3 | Q52: Both one semester and one year | R52: September - February | S52: March - July | T52: 46539 | U52: 46548 | V52: 46642 | W52: 2 | X52: 2.5 | Y52: 4 | Z52: 65 | AA52: 5 | AB52: 2.5 | AC52: 4.5-5.0/65 | AH52: Yes | AI52: 5 | AN52: Yes | AO52: Yes | AP52: Yes | AR52: Yes | AS52: Yes | AT52: Yes | AU52: Yes | AV52: Yes | AW52: Yes | AX52: Yes | AY52: Yes | AZ52: Yes | BA52: Yes | BB52: Yes | BC52: Yes | BD52: Yes | BE52: Yes | BF52: Yes | BG52: Yes | BH52: Yes | BI52: Yes | BJ52: Yes | BK52: University dormitories | BL52: All nationalities can be accepted | BM52: =HYPERLINK(テーブル2233456[[#This Row],[Website Link]],"Website") -> Website | BN52: https://io.usm.my/ | BO52: 1 | BP52: 1 | BQ52: 1 | BR52: 3 | BS52: 1 | BT52: 3
A53: 46307 | B53: =ROW()-5 -> 48 | C53: 990576 | D53: Asia | E53: Indonesia | F53: BINUS University | G53: Alam Sutera, Bekasi, Kemanggisan, Senayan | H53: =HYPERLINK(テーブル2233456[[#This Row],[info link]],"Info Sheet") -> Info Sheet | I53: =VLOOKUP(テーブル2233456[[#This Row],[Code]],[1]WEB協定校一覧!$H$4:$S$181,12,0) -> https://www.apu.ac.jp/abroad/university/infosheet/files/BINUS_University.pdf | J53: Yes | K53: Yes | L53: Yes | M53: Yes | P53: 2 | Q53: Both one semester and one year | R53: End of August 2027 - End of January 2028 | S53: Early January - Early July 2028 | T53: 46522 | U53: 46537 | V53: 46629 | W53: 2 | X53: 2.75 | Y53: 4 | Z53: 73 | AA53: 5.5 | AB53: 2.75 | AC53: 79 | AD53: N/A | AE53: N/A | AF53: N/A | AG53: N/A | AH53: Yes | AI53: 6 | AN53: No | AO53: Yes | AP53: Yes | AR53: Yes | AS53: Yes | AT53: Yes | AU53: Yes | AV53: Yes | AW53: Yes | AX53: Yes | AY53: Yes | BB53: Yes | BE53: Yes | BF53: Yes | BK53: BINUS will sponsor the study visa and stay permit for international students and apply for it on their behalf. Visa package price (subject to change) is IDR 6.100.000 and to be paid after students receive BINUS Offer Letter. Exchange students can do multicampus and multidisciplinary study at BINUS.University dormitories; | BL53: Calling visa countries: https://jakartapusat.imigrasi.go.id/layanan/warga-negara-asing-wna/daftar-subjek-voa-bvk-calling-visa/daftar-subjek-calling-visa | BM53: =HYPERLINK(テーブル2233456[[#This Row],[Website Link]],"Website") -> Website | BN53: https://io.binus.ac.id/international-student-non-degree/binusexchange/ | BO53: 1 | BP53: 1 | BQ53: 1 | BS53: 0
A54: 46307 | B54: =ROW()-5 -> 49 | C54: 990744 | D54: Africa | E54: Morocco | F54: Universite Internationale de Rabat | G54: Rabat Campus | H54: =HYPERLINK(テーブル2233456[[#This Row],[info link]],"Info Sheet") -> Info Sheet | I54: =VLOOKUP(テーブル2233456[[#This Row],[Code]],[1]WEB協定校一覧!$H$4:$S$181,12,0) -> https://www.apu.ac.jp/abroad/university/infosheet/files/Universite_Internationale_de_Rabat.pdf | J54: Yes | K54: Yes | M54: Yes | P54: 6 | Q54: Both one semester and one year | R54: September-December | S54: February - Mai | T54: 46461 | U54: 46522 | V54: 46633 | W54: 2 | X54: 2.5 | Y54: 3.5 | Z54: 66 | AA54: 5 | AB54: 2.5 | AH54: Yes | AI54: 5.5 | AN54: Yes | AO54: No | AP54: Yes | AR54: Yes | AS54: Yes | AT54: Yes | AU54: Yes | AV54: Yes | AW54: Yes | AX54: Yes | BC54: Yes | BD54: Yes | BK54: University dormitories;Host Family;Students have to find their own accommodation; | BL54: All nationalities can be accepted | BM54: =HYPERLINK(テーブル2233456[[#This Row],[Website Link]],"Website") -> Website | BN54: https://www.uir.ac.ma/fr/pole/international/before-arrival | BO54: 4 | BP54: 2 | BQ54: 2 | BS54: 0
A55: 46307 | B55: =ROW()-5 -> 50 | C55: 990222 | D55: Asia | E55: Korea | F55: University of Ulsan | G55: University of Ulsan, Main Campus | H55: =HYPERLINK(テーブル2233456[[#This Row],[info link]],"Info Sheet") -> Info Sheet | I55: =VLOOKUP(テーブル2233456[[#This Row],[Code]],[1]WEB協定校一覧!$H$4:$S$181,12,0) -> https://www.apu.ac.jp/abroad/university/infosheet/files/University_of_Ulsan.pdf | J55: Yes | K55: Yes | L55: Yes | P55: 2 | Q55: Both one semester and one year | R55: Sep-Dec | S55: Mar-Jun | T55: 46492 | U55: 46492 | V55: 46621 | W55: 2 | X55: 2.5 | Y55: 3.5 | Z55: 65 | AA55: 5 | AB55: 2.5 | AC55: 3.5/65 | AI55: 5.5 | AP55: No | AR55: Yes | AT55: Yes | AU55: Yes | AV55: Yes | AW55: Yes | AX55: Yes | AY55: Yes | AZ55: Yes | BA55: Yes | BB55: Yes | BC55: Yes | BD55: Yes | BI55: Yes | BJ55: Yes | BK55: University dormitories; | BL55: All nationalities can be accepted | BM55: =HYPERLINK(テーブル2233456[[#This Row],[Website Link]],"Website") -> Website | BN55: https://international.ulsan.ac.kr/international | BP55: 0 | BS55: 0
A56: 46307 | B56: =ROW()-5 -> 51 | C56: 990854 | D56: Asia | E56: China | F56: XI'an Jiaotong-Liverpool University | G56: SIP Campus and Taicang campus | H56: =HYPERLINK(テーブル2233456[[#This Row],[info link]],"Info Sheet") -> Info Sheet | I56: =VLOOKUP(テーブル2233456[[#This Row],[Code]],[1]WEB協定校一覧!$H$4:$S$181,12,0) -> https://www.apu.ac.jp/abroad/university/infosheet/files/Xian_Jiaotong_Liverpool_University.pdf | J56: Yes | K56: Yes | L56: Yes1 | M56: Yes | N56: Yes | P56: 4 | Q56: Both one semester and one year | R56: September to January | S56: March to June | T56: 46478 | U56: 46508 | V56: 46629 | W56: 2 | X56: 3 | Y56: 3.5 | Z56: 72 | AA56: 5.5 | AB56: 3 | AC56: 4+/78 | AD56: N/A | AE56: N/A | AF56: N/A | AG56: N/A | AH56: Yes | AI56: 6 | AN56: No | AO56: Yes | AP56: Yes | AQ56: You are exempted from proving your English proficiency when: • Students who are nationals or who have previously completed an academic qualification equivalent to China High School degree, from a majority English-speaking country are automatically assumed to meet minimum English language requirements. These countries are: Antigua and Barbuda, Australia, Bahamas, Barbados, Belize, Canada, Dominica, Grenada, Guyana, Jamaica, New Zealand, St Kitts and Nevis, St Lucia, St Vincent and the Grenadines, Trinidad and Tobago, United Kingdom and the United States of America • Any other international English Certificate which XJTLU recognizes. | AR56: Yes | AS56: Yes | AT56: Yes | AU56: Yes | AV56: Yes | AW56: Yes | AX56: Yes | AY56: Yes | AZ56: Yes | BA56: Yes | BB56: Yes | BC56: Yes | BD56: Yes | BI56: Yes | BK56: University dormitories | BL56: All nationalities can be accepted | BM56: =HYPERLINK(テーブル2233456[[#This Row],[Website Link]],"Website") -> Website | BN56: https://www.xjtlu.edu.cn/en/study/international-mobility/exchange-students | BO56: 1 | BP56: 1 | BQ56: 1 | BR56: 1 | BS56: 0
A57: 46307 | B57: =ROW()-5 -> 52 | C57: 990217 | D57: Asia | E57: Korea | F57: Sookmyung Women's University | G57: We have only one campus in Seoul | H57: =HYPERLINK(テーブル2233456[[#This Row],[info link]],"Info Sheet") -> Info Sheet | I57: =VLOOKUP(テーブル2233456[[#This Row],[Code]],[1]WEB協定校一覧!$H$4:$S$181,12,0) -> https://www.apu.ac.jp/abroad/university/infosheet/files/Sookmyung_Womens_University.pdf | J57: Yes | K57: Yes | L57: Yes | P57: 4 | Q57: Both one semester and one year | R57: September - December | S57: March - June | T57: 46509 | U57: 46537 | V57: 46626 | W57: 2 | X57: 2.8 | Y57: 3.5 | Z57: 65 | AA57: 5 | AB57: 2.8 | AC57: 3.5/71 | AH57: Yes | AI57: 5.5 | AN57: No | AO57: No | AP57: Yes | AQ57: TOEFL – New Toefl iBT 3.5 (over ITP/PBT 53, CBT 197, iBT 71) *Students whose native language is English do not need to submit TOEFL score. For the students who want to take the courses in Korean, recommended Korean Language test score is TOPIK 3 (recommended) | AR57: Yes | AS57: Yes | AT57: Yes | AU57: Yes | AV57: Yes | AW57: Yes | AX57: Yes | AY57: Yes | AZ57: Yes | BA57: Yes | BB57: Yes | BC57: Yes | BD57: Yes | BE57: Yes | BF57: Yes | BJ57: Yes | BK57: Course Restrictions 1) LCB Hospitality Management major, College of Pharmacy(Undergraduate only, Graduate is open, yet applicants need to contact the Professors in advance) and Economics (limited to some courses) in undergraduate program and some courses are not open to exchange students. 2) Courses from College of Fine Arts, Music and Dept of Dance may require strict pre-requisite course completion and practical courses of these departments may be restricted for exchange students. 3) Others: International exchange students who wants to take capstone designed courses may require to pay extra fee. University dormitories | BL57: All nationalities can be accepted | BM57: =HYPERLINK(テーブル2233456[[#This Row],[Website Link]],"Website") -> Website | BN57: https://e.sookmyung.ac.kr/en/index.do | BO57: 1 | BP57: 1 | BQ57: 1 | BS57: 0
A58: 46307 | B58: =ROW()-5 -> 53 | C58: 990736 | D58: Asia | E58: Indonesia | F58: Universitas Katolik Parahyangan | G58: Universitas Katolik Parahyangan Main Campus (Ciumbuleuit) | H58: =HYPERLINK(テーブル2233456[[#This Row],[info link]],"Info Sheet") -> Info Sheet | I58: =VLOOKUP(テーブル2233456[[#This Row],[Code]],[1]WEB協定校一覧!$H$4:$S$181,12,0) -> https://www.apu.ac.jp/abroad/university/infosheet/files/Universitas_Katolik_Parahyangan.pdf | J58: Yes | K58: Yes | P58: 2 | Q58: One semester only | R58: August - January | S58: Fabruary - June | T58: 46522 | U58: 46568 | V58: 46621 | W58: 2 | X58: 2.75 | Y58: 4 | Z58: 85 | AA58: 5.5 | AB58: 2.75 | AC58: 4.5 | AD58: 4.5 /22-23 | AE58: 4.5 /20-21 | AF58: 4.5 /23-24 | AG58: 4.5/21-23 | AH58: Yes | AI58: 6 | AN58: Yes | AO58: Yes | AP58: Yes | AY58: Yes | BJ58: Yes | BK58: ・Please review the English course list in advance to decide whether to apply, as APS focuses mainly on the IR field and offers few business courses. Courses in the Faculty of Medicine are not offered to International Students. For the offered major, not every courses is offfered in English (the list can be accessed here https://docs.google.com/document/u/1/d/e/2PACX-1vSZYuGpfP1xsIKzQFail3lw4mxsm7SAkVTnAmd76ipFmKOsKmRqhT82h1Q_4SHCxyD9OayL0GyigLfM/pub). We also offer Bahasa Indonesia for Foreign Speakers (BIPA), but the program fee is not waived.We don't provide dormitories, but we offer a list of various boarding houses. | BL58: We do not offer students nationalities are Nigeria, Somalia, Afghanistan, Israel, North Korea, Liberia | BM58: =HYPERLINK(テーブル2233456[[#This Row],[Website Link]],"Website") -> Website | BN58: https://io.unpar.ac.id/inbound/ | BO58: 1 | BP58: 1 | BQ58: 1 | BS58: 0
A59: 46307 | B59: =ROW()-5 -> 54 | C59: 990209 | D59: Asia | E59: Korea | F59: Kyung Hee University | G59: Seoul Campus and Global Campus | H59: =HYPERLINK(テーブル2233456[[#This Row],[info link]],"Info Sheet") -> Info Sheet | I59: =VLOOKUP(テーブル2233456[[#This Row],[Code]],[1]WEB協定校一覧!$H$4:$S$181,12,0) -> https://www.apu.ac.jp/abroad/university/infosheet/files/Kyung_Hee_University.pdf | J59: Yes | K59: Yes | L59: Yes | P59: 2 | Q59: Both one semester and one year | R59: September – December | S59: March – June | T59: 46507 | U59: 46537 | V59: 46624 | W59: 2 | X59: 2.5 | Y59: 3.5 | Z59: 76 | AA59: 6 | AB59: 2.5 | AC59: 4＋/82 | AI59: 6.5 | AP59: No | AQ59: No additional English language requirements. TOEFL iBT 82 / IELTS 6.5 or equivalent is recommended for the English Track, but submission of an English proficiency certificate is not mandatory. | AR59: Yes | AS59: Yes | AT59: Yes | AU59: Yes | AW59: Yes | AX59: Yes | AY59: Yes | AZ59: Yes | BA59: Yes | BC59: Yes | BE59: Yes | BF59: Yes | BG59: Yes | BK59: Courses offered by the College of Medicine, College of Korean Medicine, College of Dentistry, College of Pharmacy, College of Nursing Science, College of Music, College of Fine Arts, School of Dance, and College of Physical Education are not available to exchange students. In addition, some individual courses may have prerequisites, departmental restrictions, or limited seat availability.Kyung Hee University values the reciprocal nature of the student exchange programme and appreciates APU’s continued cooperation in maintaining a sustainable exchange balance. We look forward to welcoming APU students and further strengthening mobility between our institutions.University dormitories;Students have to find their own accommodation; | BL59: All nationalities can be accepted | BM59: =HYPERLINK(テーブル2233456[[#This Row],[Website Link]],"Website") -> Website | BN59: https://kyungheeoia.notion.site/studyatkhu | BO59: 1 | BP59: 1 | BQ59: 1 | BS59: 0
A60: 46307 | B60: =ROW()-5 -> 55 | C60: 990216 | D60: Asia | E60: Korea | F60: Sogang University | G60: Sogang University Shinchon Campus | H60: =HYPERLINK(テーブル2233456[[#This Row],[info link]],"Info Sheet") -> Info Sheet | I60: =VLOOKUP(テーブル2233456[[#This Row],[Code]],[1]WEB協定校一覧!$H$4:$S$181,12,0) -> https://www.apu.ac.jp/abroad/university/infosheet/files/Sogang_University.pdf | J60: Yes | K60: Yes | M60: Yes | P60: 1 | Q60: One semester only | R60: Sept-Dec | S60: March-June | T60: 46522 | U60: 46537 | V60: 46626 | W60: 2 | X60: 2.5 | Y60: 3.5 | Z60: 73 | AA60: 6 | AB60: 2.5 | AC60: 4+/79 | AI60: 6.5 | AP60: No | AR60: Yes | AS60: Yes | AT60: Yes | AU60: Yes | AV60: Yes | AX60: Yes | AY60: Yes | AZ60: Yes | BA60: Yes | BB60: Yes | BC60: Yes | BD60: Yes | BK60: University dormitories;Partner accommodations; | BL60: All nationalities can be accepted | BM60: =HYPERLINK(テーブル2233456[[#This Row],[Website Link]],"Website") -> Website | BN60: https://inbound.sogang.ac.kr/inbound/index.do | BO60: 1 | BP60: 1 | BQ60: 1 | BS60: 0
A61: 46307 | B61: =ROW()-5 -> 56 | C61: 990764 | D61: Asia | E61: Azerbaijan | F61: ADA University | G61: Baku campus | H61: =HYPERLINK(テーブル2233456[[#This Row],[info link]],"Info Sheet") -> Info Sheet | I61: =VLOOKUP(テーブル2233456[[#This Row],[Code]],[1]WEB協定校一覧!$H$4:$S$181,12,0) -> https://www.apu.ac.jp/abroad/university/infosheet/files/ADA_University.pdf | J61: Yes | K61: Yes | P61: 2 | Q61: Both one semester and one year | R61: September-December | S61: January-May | T61: 46507 | U61: 46507 | V61: 46631 | W61: 2 | X61: 2.5 | Y61: 3.5 | Z61: 69 | AA61: 5.5 | AB61: 2.5 | AC61: 4 | AH61: No | AI61: 6 | AN61: No | AO61: No | AP61: Yes | AR61: Yes | AS61: Yes | AU61: Yes | AX61: Yes | AY61: Yes | AZ61: Yes | BA61: Yes | BB61: Yes | BD61: Yes | BJ61: Yes | BK61: Master programs in IT School are dual-degree programs and do not accept exchange students, two new schools:Agricultural and Food Sciences and Design and Agriculture are not available for incoming exchange students0Partner accommodations | BL61: All nationalities can be accepted | BM61: =HYPERLINK(テーブル2233456[[#This Row],[Website Link]],"Website") -> Website | BN61: https://www.ada.edu.az/en/experience/exchange-programs | BO61: 1 | BP61: 1 | BQ61: 1 | BR61: 4 | BS61: 1 | BT61: 4
A62: 46307 | B62: =ROW()-5 -> 57 | C62: 990745 | D62: Asia | E62: Korea | F62: Kookmin University | G62: Kookmin campus | H62: =HYPERLINK(テーブル2233456[[#This Row],[info link]],"Info Sheet") -> Info Sheet | I62: =VLOOKUP(テーブル2233456[[#This Row],[Code]],[1]WEB協定校一覧!$H$4:$S$181,12,0) -> https://www.apu.ac.jp/abroad/university/infosheet/files/Kookmin_University.pdf | J62: Yes | P62: 4 | Q62: Both one semester and one year | R62: September-December | S62: March-June | T62: 46488 | U62: 46508 | V62: 46631 | W62: 2 | X62: 3 | Y62: 3.5 | Z62: 65 | AA62: 5 | AB62: 3 | AI62: 5.5 | AP62: No | AQ62: Class Comprehension Level | AR62: Yes | AS62: Yes | AT62: Yes | AU62: Yes | AV62: Yes | AW62: Yes | BK62: Only Business related courses are available. All the infomration can be varied but we could discuss it. University dormitories;Students have to find their own accommodation | BL62: All nationalities can be accepted | BM62: =HYPERLINK(テーブル2233456[[#This Row],[Website Link]],"Website") -> Website | BN62: https://english.kookmin.ac.kr/study/applicationProcess | BO62: 1 | BP62: 1 | BQ62: 1 | BS62: 0
A63: 46307 | B63: =ROW()-5 -> 58 | C63: 990274 | D63: Asia | E63: Singapore | F63: Singapore Management University | G63: Courses from all disciplines are open for APU students (Business, Economics, Law, Social Science, Computing and Information Systems, Accountancy) | H63: =HYPERLINK(テーブル2233456[[#This Row],[info link]],"Info Sheet") -> Info Sheet | I63: =VLOOKUP(テーブル2233456[[#This Row],[Code]],[1]WEB協定校一覧!$H$4:$S$181,12,0) -> https://www.apu.ac.jp/abroad/university/infosheet/files/Singapore_Management_University.pdf | J63: Yes | K63: Yes | L63: Yes | M63: Yes | N63: Yes | P63: 2 | Q63: Both one semester and one year | R63: 16 August 2027 - 5 December 2027 | S63: 10 January 2028 - 30 April 2028 | T63: 46492 | U63: 46502 | V63: 46608 | W63: 2 | X63: 2.5 | Y63: 4.5 | Z63: 87 | AA63: 6.5 | AB63: 2.5 | AC63: 5 /93 | AD63: 5/22 | AE63: - | AF63: - | AG63: 4.5 /22 | AH63: No | AI63: 7 | AK63: 7 | AL63: 6.5 | AN63: No | AO63: No | AP63: Yes | AQ63: 1) TOEFL PBT: Min. of 583 (with min. 5.5 for writing & 5 for reading) OR 2) TOEFL iBT taken before 21 Jan 226: Min of 93 (with min. 22 for reading & 22 for writing) OR 3) TOEFL iBT taken from 21 Jan 226: Min. of 5 (with min. 5 for reading & 4.5 for writing) 4) IELTS: Min. of 7. (with min. 7. for reading & 6.5 for writing) OR 5) C1 Advanced: Min. of 185 (with min. of 185 for reading and 176 for writing) 5) C1 Advanced: Min. of 185 (with min. of 185 for reading and 176 for writing) | AR63: Yes | AS63: Yes | AT63: Yes | AU63: Yes | AV63: Yes | AW63: Yes | AX63: Yes | AY63: Yes | AZ63: Yes | BA63: Yes | BC63: Yes | BD63: Yes | BG63: Yes | BH63: Yes | BK63: Our AY2027-28 Factsheet will only be available in Feb/ March 2027. Therefore, you may refer to our AY2026-27 Factsheet for reference.Students have to find their own accommodation | BL63: All nationalities can be accepted | BM63: =HYPERLINK(テーブル2233456[[#This Row],[Website Link]],"Website") -> Website | BN63: https://geo.smu.edu.sg/study-in-smu/international-student-exchange-programme | BO63: 1 | BP63: 1 | BQ63: 1 | BS63: 0
A64: 46307 | B64: =ROW()-5 -> 59 | C64: 990797 | D64: Asia | E64: Taiwan | F64: Feng Chia University | G64: FengJia University | H64: =HYPERLINK(テーブル2233456[[#This Row],[info link]],"Info Sheet") -> Info Sheet | I64: =VLOOKUP(テーブル2233456[[#This Row],[Code]],[1]WEB協定校一覧!$H$4:$S$181,12,0) -> https://www.apu.ac.jp/abroad/university/infosheet/files/Feng_Chia_University.pdf | J64: Yes | L64: Yes | P64: 2 | Q64: One semester only | R64: September-January | S64: February-June | T64: 46492 | U64: 46539 | V64: 46632 | W64: 2 | X64: 2.8 | Y64: 3.5 | Z64: 65 | AA64: 5 | AB64: 2.8 | AC64: 65 | AH64: Yes | AI64: 5 | AN64: No | AO64: Yes | AP64: Yes | AQ64: For English-taught courses: TOEFL iBT 61 / TOEFL ITP 5 / TOEFL CBT 173 / TOEIC 55 / IELTS 4. | AU64: Yes | AV64: Yes | BK64: International School of Technology and Management Students have to find their own accommodation | BL64: All nationalities can be accepted | BM64: =HYPERLINK(テーブル2233456[[#This Row],[Website Link]],"Website") -> Website | BN64: https://oia.fcu.edu.tw/overseas-students/inbound_international/ | BO64: 1 | BP64: 1 | BQ64: 1 | BR64: 1 | BS64: 1 | BT64: 1
A65: 46307 | B65: =ROW()-5 -> 60 | C65: 990260 | D65: Asia | E65: Philippines | F65: Ateneo de Manila University | G65: Loyola Schools (Main campus) | H65: =HYPERLINK(テーブル2233456[[#This Row],[info link]],"Info Sheet") -> Info Sheet | I65: =VLOOKUP(テーブル2233456[[#This Row],[Code]],[1]WEB協定校一覧!$H$4:$S$181,12,0) -> https://www.apu.ac.jp/abroad/university/infosheet/files/Ateneo_de_Manila_University.pdf | J65: Yes | K65: Yes | L65: Yes | P65: 2 | Q65: One Semester Only | R65: August to December | S65: January to may | T65: 46476 | U65: 46507 | V65: 46596 | W65: 2 | X65: 2.8 | Y65: 3.5 | Z65: 73 | AA65: 5.5 | AB65: 2.8 | AC65: 79 | AH65: Yes | AI65: 6 | AN65: No | AO65: Yes | AP65: Yes | AQ65: For Undergraduate students (UG), at least 1 of the ff: TOEFL (Paper based test) minimum score: 55 TOEFL (Internet based test) minimum score: 79 IELTS minimum score: 6. TOEIC minimum score: 69 Or Certification from Faculty of English stating the english proficiency/skills and competencies of the student For Graduate (Grad) students, at least 1 of the ff: TOEFL (Paper based test) minimum score: 55 TOEFL (Internet based test) minimum score: 8 IELTS minimum score: 6.5 Cambridge score that is equivalent to the minimum IELTS score above | AR65: Yes | AS65: Yes | AT65: Yes | AU65: Yes | AW65: Yes | AX65: Yes | AZ65: Yes | BA65: Yes | BC65: Yes | BD65: Yes | BH65: Yes | BI65: Yes | BK65: Psychology and Law0University dormitories;Students have to find their own accommodation; | BL65: All nationalities can be accepted | BM65: =HYPERLINK(テーブル2233456[[#This Row],[Website Link]],"Website") -> Website | BN65: https://ateneo.edu/global | BO65: 1 | BP65: 1 | BQ65: 1 | BS65: 0
A66: 46307 | B66: =ROW()-5 -> 61 | C66: 990264 | D66: Asia | E66: Philippines | F66: University of the Philippines | G66: All campuses | H66: =HYPERLINK(テーブル2233456[[#This Row],[info link]],"Info Sheet") -> Info Sheet | I66: =VLOOKUP(テーブル2233456[[#This Row],[Code]],[1]WEB協定校一覧!$H$4:$S$181,12,0) -> https://www.apu.ac.jp/abroad/university/infosheet/files/University_of_the_Philippines.pdf | J66: Yes | K66: Yes | L66: Yes | P66: 4 | Q66: Both one semester and one year | R66: August-December | S66: January-May | T66: 46492 | U66: 46537 | V66: 46235 | W66: 2 | X66: 3 | Y66: 3.5 | Z66: 65 | AA66: 5 | AB66: 3 | AC66: 4/65 | AH66: No | AI66: 5.5 | AJ66: 5 | AK66: 5 | AL66: 5 | AM66: 5 | AN66: No | AO66: No | AP66: Yes | AR66: Yes | AS66: Yes | AT66: Yes | AU66: Yes | AV66: Yes | AW66: Yes | AX66: Yes | AY66: Yes | AZ66: Yes | BA66: Yes | BB66: Yes | BC66: Yes | BD66: Yes | BE66: Yes | BF66: Yes | BG66: Yes | BH66: Yes | BI66: Yes | BJ66: Yes | BK66: Dentistry, Law, Medicine, Nursing0University dormitories; | BL66: All nationalities can be accepted | BM66: =HYPERLINK(テーブル2233456[[#This Row],[Website Link]],"Website") -> Website | BN66: https://sites.google.com/up.edu.ph/moveup-inbound/guidelines | BO66: 1 | BP66: 1 | BQ66: 1 | BS66: 0
A67: 46307 | B67: =ROW()-5 -> 62 | C67: 990302 | D67: Asia | E67: Taiwan | F67: National Taiwan Normal University | G67: Heping Campus I, Heping Campus II, Gongguan Campus | H67: =HYPERLINK(テーブル2233456[[#This Row],[info link]],"Info Sheet") -> Info Sheet | I67: =VLOOKUP(テーブル2233456[[#This Row],[Code]],[1]WEB協定校一覧!$H$4:$S$181,12,0) -> https://www.apu.ac.jp/abroad/university/infosheet/files/National_Taiwan_Normal_University.pdf | J67: Yes | K67: Yes | L67: Yes | M67: Yes | P67: 4 | Q67: Both one semester and one year | R67: early September ~ late December | S67: mid/late February ~ early/mid June | T67: 46503 | U67: 46503 | V67: 46631 | W67: 2 | X67: 3 | Y67: 3.5 | Z67: 66 | AA67: 5 | AB67: 3 | AC67: 4/72 | AH67: Yes | AI67: 5.5 | AN67: Yes | AO67: Yes | AP67: Yes | AR67: Yes | AS67: Yes | AT67: Yes | AU67: Yes | AX67: Yes | AY67: Yes | AZ67: Yes | BA67: Yes | BC67: Yes | BE67: Yes | BF67: Yes | BH67: Yes | BI67: Yes | BK67: Please refer to factsheet for more details. University dormitories; | BL67: All nationalities can be accepted | BM67: =HYPERLINK(テーブル2233456[[#This Row],[Website Link]],"Website") -> Website | BN67: https://bds.oia.ntnu.edu.tw/bds/en/web/goexchange | BO67: 1 | BP67: 1 | BQ67: 1 | BR67: 1 | BS67: 0
A68: 46307 | B68: =ROW()-5 -> 63 | C68: 990084 | D68: Asia | E68: China | F68: Shanghai Jiaotong University | G68: Minhang Campus and Xuhui Campus | H68: =HYPERLINK(テーブル2233456[[#This Row],[info link]],"Info Sheet") -> Info Sheet | I68: =VLOOKUP(テーブル2233456[[#This Row],[Code]],[1]WEB協定校一覧!$H$4:$S$181,12,0) -> https://www.apu.ac.jp/abroad/university/infosheet/files/Shanghai_Jiaotong_University.pdf | J68: Yes | K68: Yes | M68: Yes | N68: Yes | P68: 2 | Q68: Both one semester and one year | R68: September - January | S68: February - July | T68: 46476 | U68: 46476 | V68: 46640 | W68: 2 | X68: 3 | Y68: 4.5 | Z68: 84 | AA68: 6 | AB68: 3 | AC68: 5 /90 | AH68: No | AI68: 6.5 | AN68: No | AO68: No | AP68: Yes | AQ68: No requirement for native speakers. | AR68: Yes | AS68: Yes | AT68: Yes | AU68: Yes | AW68: Yes | AX68: Yes | BG68: Yes | BK68: - All courses from the School of Medicine are not available to exchange students. - All courses from the Shanghai Advanced Institute of Finance are not available to university-level exchange students. - School of Computer Science, School of Electrical Engineering, School of Automation and Intelligent Sensing, School of Integrated Circuits (School of Information Science and Electronic Engineering): The number of vacancies for these courses is highly limited due to the current capacity issue. You must be able to take courses in Chinese, and you must achieve a grade of no less than 80 points in each course on your academic transcript. - The application for Antai College of Economics and Management is highly competitive, and applicants must have an academic background in economics and management-related disciplines. - Some schools, such as the School of International and Public Affairs/KoGuan Law School, etc., do not offer undergraduate courses taught in English. If you choose these schools, you can select the English-taught graduate programs offered by the school. - Not all graduate courses are available to undergraduate exchange students, and vice versa.0University dormitories | BL68: Chinese students studying at APU are generally not eligible. Dual citizens who have grown up mostly outside the China are generally eligible. | BM68: =HYPERLINK(テーブル2233456[[#This Row],[Website Link]],"Website") -> Website | BN68: https://global.sjtu.edu.cn/en/study-sjtu/prospective/non-degree-programs/281 | BO68: 1 | BP68: 1 | BQ68: 1 | BR68: 1 | BS68: 0
A69: 46307 | B69: =ROW()-5 -> 64 | C69: 990692 | D69: Asia | E69: Malaysia | F69: Taylor's University | G69: Taylor's University Lakeside Campus | H69: =HYPERLINK(テーブル2233456[[#This Row],[info link]],"Info Sheet") -> Info Sheet | I69: =VLOOKUP(テーブル2233456[[#This Row],[Code]],[1]WEB協定校一覧!$H$4:$S$181,12,0) -> https://www.apu.ac.jp/abroad/university/infosheet/files/Taylors_University.pdf | J69: Yes | K69: Yes | L69: Yes | M69: Yes | P69: 2 | Q69: Both one semester and one year | R69: Sept - Jan | S69: Apr - Aug | T69: 46476 | U69: 46507 | V69: 46489 | W69: 2 | X69: 2.5 | Y69: 3.5 | Z69: 65 | AA69: 5 | AB69: 2.5 | AC69: 3.5/65 | AH69: Yes | AI69: 5.5 | AN69: No | AO69: No | AP69: Yes | AS69: Yes | AT69: Yes | AU69: Yes | AY69: Yes | BB69: Yes | BE69: Yes | BF69: Yes | BK69: Students have to find their own accommodation | BL69: All nationalities can be accepted | BM69: =HYPERLINK(テーブル2233456[[#This Row],[Website Link]],"Website") -> Website | BN69: https://university.taylors.edu.my/en/student-life/student-exchange-and-mobility-programmes/inbound-student-exchange.html | BO69: 1 | BP69: 1 | BQ69: 1 | BR69: 4 | BS69: 2 | BT69: 2
A70: 46307 | B70: =ROW()-5 -> 65 | C70: 990213 | D70: Asia | E70: Korea | F70: Pusan National University | G70: Campus allocation is based on the student’s field of study. Most departments are located at the Busan Campus, with selected departments based at the Yangsan, Miryang, Ami, and Yeonjae campuses. | H70: =HYPERLINK(テーブル2233456[[#This Row],[info link]],"Info Sheet") -> Info Sheet | I70: =VLOOKUP(テーブル2233456[[#This Row],[Code]],[1]WEB協定校一覧!$H$4:$S$181,12,0) -> https://www.apu.ac.jp/abroad/university/infosheet/files/Pusan_National_University.pdf | J70: Yes | K70: Yes | L70: Yes1 | P70: 2 | Q70: One year only | R70: 2027.09.30. ~ 2027.12.31. | S70: 2028.03.01. ~ 2028.06.30. | T70: 46497 | U70: 46507 | V70: 46631 | W70: 2 | X70: 2.5 | Y70: 3.5 | Z70: 65 | AA70: 5 | AB70: 2.5 | AC70: 3.5+/65 | AI70: 5.5 | AP70: No | AQ70: N/A | AR70: Yes | AS70: Yes | AT70: Yes | AU70: Yes | AV70: Yes | AW70: Yes | AX70: Yes | AY70: Yes | AZ70: Yes | BA70: Yes | BB70: Yes | BC70: Yes | BD70: Yes | BF70: Yes | BH70: Yes | BI70: Yes | BJ70: Yes | BK70: Dentistry, Medicine, Korean Medicine, Nursing, Law : Not open to exchange student-University dormitories | BL70: All nationalities can be accepted | BM70: =HYPERLINK(テーブル2233456[[#This Row],[Website Link]],"Website") -> Website | BN70: https://international.pusan.ac.kr/international/index.do | BO70: 1 | BP70: 1 | BQ70: 1 | BS70: 0
A71: 46307 | B71: =ROW()-5 -> 66 | C71: 990819 | D71: Latin America | E71: Peru | F71: Universidad del Pacifico | G71: Universidad del Pacifico | H71: =HYPERLINK(テーブル2233456[[#This Row],[info link]],"Info Sheet") -> Info Sheet | I71: =VLOOKUP(テーブル2233456[[#This Row],[Code]],[1]WEB協定校一覧!$H$4:$S$181,12,0) -> https://www.apu.ac.jp/abroad/university/infosheet/files/Universidad_del_Pacifico.pdf | J71: Yes | K71: Yes | L71: Yes1 | M71: Yes | P71: 2 | Q71: Both one semester and one year | R71: August~November | S71: March~July | T71: 46493 | U71: 46507 | V71: 46601 | W71: 2 | X71: 2.5 | Y71: 3.5 | Z71: 66 | AA71: 5 | AB71: 2.5 | AC71: 4 / 72 | AD71: 4 | AE71: 4 | AF71: 4 | AG71: 4 | AH71: Yes | AI71: 5.5 | AN71: Yes | AO71: Yes | AP71: Yes | AQ71: -Courses taught in English: | AS71: Yes | AT71: Yes | AU71: Yes | AV71: Yes | AX71: Yes | AY71: Yes | AZ71: Yes | BA71: Yes | BG71: Yes | BK71: We provide a list of courses for exchange students and it is sent to them 2 weeks before classes start, most of these are elective courses. If they would like to enroll in mandatory courses, the incoming coordinator, Dámaris Jara, will have to coordinate with the Departments and ask for permission. Partner accommodations | BL71: All nationalities can be accepted | BM71: =HYPERLINK(テーブル2233456[[#This Row],[Website Link]],"Website") -> Website | BN71: https://ori.up.edu.pe/incoming/ | BO71: 1 | BP71: 1 | BQ71: 1 | BS71: 0
A72: 46307 | B72: =ROW()-5 -> 67 | C72: 990899 | D72: Africa | E72: Tunisia | F72: Mediterranean School of Business | G72: only one campus, Lac 2 | H72: =HYPERLINK(テーブル2233456[[#This Row],[info link]],"Info Sheet") -> Info Sheet | I72: =VLOOKUP(テーブル2233456[[#This Row],[Code]],[1]WEB協定校一覧!$H$4:$S$181,12,0) -> https://www.apu.ac.jp/abroad/university/infosheet/files/Mediterranean_School_of_Business.pdf | J72: Yes | K72: Yes1 | L72: Yes1 | M72: Yes | O72: Yes | P72: 2 | Q72: Both one semester and one year | R72: End of August-December | S72: January-May | T72: 46522 | U72: 46538 | V72: 46622 | W72: 2 | X72: 2.5 | Y72: 3.5 | Z72: 65 | AA72: 5 | AB72: 2.5 | AC72: 3.5+/65 | AI72: 5.5 | AP72: No | AR72: Yes | AS72: Yes | AT72: Yes | AU72: Yes | AV72: Yes | AW72: Yes | AX72: Yes | AY72: Yes | BE72: Yes | BG72: Yes | BK72: Students have to find their own accommodation;We provide guidance and support to students to find housing; | BL72: All nationalities can be accepted | BM72: =HYPERLINK(テーブル2233456[[#This Row],[Website Link]],"Website") -> Website | BN72: https://www.smu.tn/msb/international/study-tunisia | BO72: 1 | BP72: 1 | BQ72: 1 | BS72: 0
A73: 46307 | B73: =ROW()-5 -> 68 | C73: 990230 | D73: Asia | E73: Malaysia | F73: Universiti Malaya | G73: Kuala Lumpur | H73: =HYPERLINK(テーブル2233456[[#This Row],[info link]],"Info Sheet") -> Info Sheet | I73: =VLOOKUP(テーブル2233456[[#This Row],[Code]],[1]WEB協定校一覧!$H$4:$S$181,12,0) -> https://www.apu.ac.jp/abroad/university/infosheet/files/The_University_of_Malaya.pdf | J73: Yes | K73: Yes | L73: Yes | M73: Yes | P73: 2 | Q73: Both one semester and one year | R73: October 2027 - February 2028 | S73: March 2028 - July 2028 | T73: 46507 | U73: 46538 | V73: 46664 | W73: 2 | X73: 3 | Y73: 3.5 | Z73: 65 | AA73: 5.5 | AB73: 3 | AC73: 4 | AH73: Yes | AI73: 6 | AJ73: 6 | AK73: 6 | AL73: 6 | AM73: 6 | AN73: Yes | AO73: Yes | AP73: Yes | AR73: Yes | AS73: Yes | AT73: Yes | AU73: Yes | AX73: Yes | AY73: Yes | BB73: Yes | BD73: Yes | BG73: Yes | BH73: Yes | BJ73: Yes | BK73: Students have to find their own accommodation; | BL73: Israeli citizens are denied entry to Malaysia. | BM73: =HYPERLINK(テーブル2233456[[#This Row],[Website Link]],"Website") -> Website | BN73: https://studyabroad.um.edu.my/inbound-long-term-home | BO73: 1 | BP73: 1 | BQ73: 1 | BR73: 1 | BS73: 1 | BT73: 1
A74: 46307 | B74: =ROW()-5 -> 69 | C74: 990835 | D74: North America | E74: United States | F74: University of the Incarnate Word | G74: University of the Incarnate Word, Main Campus | H74: =HYPERLINK(テーブル2233456[[#This Row],[info link]],"Info Sheet") -> Info Sheet | I74: =VLOOKUP(テーブル2233456[[#This Row],[Code]],[1]WEB協定校一覧!$H$4:$S$181,12,0) -> https://www.apu.ac.jp/abroad/university/infosheet/files/University_of_the_Incarnate_Word.pdf | J74: Yes | K74: Yes | L74: Yes1 | P74: 1 | Q74: One semester only | R74: August-December | S74: January-May | T74: 46508 | U74: 46522 | V74: 46608 | W74: 2 | X74: 2.5 | Y74: 4+ | Z74: 73 | AA74: 6 | AB74: 2.5 | AC74: 79 | AH74: Yes | AI74: 6.5 | AJ74: 6.5 | AK74: 6.5 | AL74: 6.5 | AM74: 6.5 | AN74: No | AO74: No | AP74: Yes | AR74: Yes | AS74: Yes | AT74: Yes | AU74: Yes | AV74: Yes | AX74: Yes | AZ74: Yes | BA74: Yes | BC74: Yes | BD74: Yes | BL74: All nationalities can be accepted | BM74: =HYPERLINK(テーブル2233456[[#This Row],[Website Link]],"Website") -> Website | BN74: https://www.uiw.edu/studyabroad/incoming-students/course-offerings.html | BO74: 2 | BP74: 0 | BR74: 1 | BS74: 1 | BT74: 1
A75: 46307 | B75: =ROW()-5 -> 70 | C75: 990821 | D75: North America | E75: United States | F75: University of Wisconsin La Crosse | G75: La Crosse | H75: =HYPERLINK(テーブル2233456[[#This Row],[info link]],"Info Sheet") -> Info Sheet | I75: =VLOOKUP(テーブル2233456[[#This Row],[Code]],[1]WEB協定校一覧!$H$4:$S$181,12,0) -> https://www.apu.ac.jp/abroad/university/infosheet/files/University_of_Wisconsin_La_Crosse.pdf | J75: Yes | K75: Yes | L75: Yes | M75: Yes | P75: 5 | Q75: Both one semester and one year | R75: September 1 to December 22, 2027 | S75: January 20 to May 12, 2028 | T75: 46461 | U75: 46478 | V75: 46631 | W75: 2 | X75: 2.5 | Y75: 3.5 | Z75: 65 | AA75: 5.5 | AB75: 2.5 | AC75: 4/73 | AH75: No | AI75: 6 | AN75: No | AO75: Yes | AP75: Yes | AR75: Yes | AS75: Yes | AT75: Yes | AU75: Yes | AX75: Yes | AY75: Yes | AZ75: Yes | BA75: Yes | BB75: Yes | BC75: Yes | BD75: Yes | BG75: Yes | BH75: Yes | BJ75: Yes | BK75: Restricted Courses: • English as a Second Language (ESL) – courses no longer offered. • Nuclear Medicine Technology • Radiation Therapy • Health and Wellness Management • Internships, Practicums, Experiential Learning courses during first semester • Graduate level coursework. | BL75: Students should be mindful of the current U.S. travel bans. | BM75: =HYPERLINK(テーブル2233456[[#This Row],[Website Link]],"Website") -> Website | BN75: https://www.uwlax.edu/international-education/study-at-uwl/j1/ | BP75: 0 | BR75: 1 | BS75: 1 | BT75: 1
A76: 46307 | B76: =ROW()-5 -> 71 | C76: 990864 | D76: North America | E76: United States | F76: Southern Illinois University Edwardsville | G76: Edwardsville | H76: =HYPERLINK(テーブル2233456[[#This Row],[info link]],"Info Sheet") -> Info Sheet | I76: =VLOOKUP(テーブル2233456[[#This Row],[Code]],[1]WEB協定校一覧!$H$4:$S$181,12,0) -> https://www.apu.ac.jp/abroad/university/infosheet/files/Southern_Illinois_University_Edwardsville.pdf | J76: Yes | K76: Yes | L76: Yes | M76: Yes | P76: 4 | Q76: Both one semester and one year | R76: August 23 - December 17 | S76: January 10 - May 5 | T76: 46461 | U76: 46478 | V76: 46617 | W76: 2 | X76: 2.5 | Y76: 3.5 | Z76: 66 | AA76: 5.5 | AB76: 2.5 | AC76: 4/72 | AD76: 4/18 | AE76: 4/17 | AF76: 4 /17 | AG76: 4 /20 | AH76: Yes | AI76: 6 | AJ76: 5.5 | AK76: 5.5 | AL76: 5.5 | AM76: 5.5 | AN76: Yes | AO76: Yes | AP76: Yes | AQ76: Students will be assessed by the director and may be approved to take a mix of academic and English coursework depending on their skills. | AR76: Yes | AS76: Yes | AT76: Yes | AU76: Yes | AV76: Yes | AX76: Yes | AZ76: Yes | BA76: Yes | BB76: Yes | BD76: Yes | BG76: Yes | BH76: Yes | BJ76: Yes | BL76: All nationalities can be accepted | BM76: =HYPERLINK(テーブル2233456[[#This Row],[Website Link]],"Website") -> Website | BN76: https://www.siue.edu/admissions/international/how-to-apply/visiting-exchange-students.shtml | BP76: 0 | BS76: 0
A77: 46307 | B77: =ROW()-5 -> 72 | C77: 990698 | D77: North America | E77: Canada | F77: Saint Mary's University | G77: Saint Mary's University | H77: =HYPERLINK(テーブル2233456[[#This Row],[info link]],"Info Sheet") -> Info Sheet | I77: =VLOOKUP(テーブル2233456[[#This Row],[Code]],[1]WEB協定校一覧!$H$4:$S$181,12,0) -> https://www.apu.ac.jp/abroad/university/infosheet/files/Saint_Marys_University.pdf | J77: Yes | K77: Yes | L77: Yes | M77: Yes | N77: Yes | P77: 1 | Q77: One semester only | R77: September-December | S77: January-April | T77: 46501 | U77: 46508 | V77: 46633 | W77: 2 | X77: 2.5 | Y77: 3.5 | Z77: 77 | AA77: 6 | AB77: 2.5 | AC77: 4/ 83 | AD77: 4 | AE77: 4.5 | AF77: 4 | AG77: 4 | AI77: 6.5 | AJ77: 6 | AK77: 6 | AL77: 6 | AM77: 6 | AN77: No | AO77: Yes | AP77: No | AQ77: https://www.smu.ca/future-students/admissions/is-language-requirements.html | AR77: Yes | AS77: Yes | AT77: Yes | AU77: Yes | AV77: Yes | AX77: Yes | AY77: Yes | AZ77: Yes | BA77: Yes | BC77: Yes | BD77: Yes | BH77: Yes | BI77: Yes | BK77: Student need to have taken the necessary pre-requisite courses; Courses at the graduate level are accessible only on a case-by-case basis. | BL77: All nationalities can be accepted | BM77: =HYPERLINK(テーブル2233456[[#This Row],[Website Link]],"Website") -> Website | BN77: https://studio.smu.ca/global-learning | BP77: 0 | BS77: 0
A78: 46307 | B78: =ROW()-5 -> 73 | C78: 990381 | D78: North America | E78: United States | F78: University of Wyoming | G78: Laramie | H78: =HYPERLINK(テーブル2233456[[#This Row],[info link]],"Info Sheet") -> Info Sheet | I78: =VLOOKUP(テーブル2233456[[#This Row],[Code]],[1]WEB協定校一覧!$H$4:$S$181,12,0) -> https://www.apu.ac.jp/abroad/university/infosheet/files/University_of_Wyoming.pdf | J78: Yes | K78: Yes | L78: Yes | M78: Yes | P78: 6 | Q78: Both one semester and one year | R78: August 30th, 2027 - December 17th, 2027 | S78: January 18th, 2028 - May 12th, 2028 | T78: 46461 | U78: 46461 | V78: 46624 | W78: 2 | X78: 2.75 | Y78: 3.5 | Z78: 65 | AA78: 5.5 | AB78: 2.75 | AC78: 4 /71 | AD78: 4 | AE78: 4 | AF78: 4 | AG78: 4 | AH78: Yes | AI78: 6 | AN78: No | AO78: Yes | AP78: Yes | AQ78: https://www.uwyo.edu/admissions/international/english-alternatives.html | AR78: Yes | AS78: Yes | AT78: Yes | AU78: Yes | AV78: Yes | AW78: Yes | AX78: Yes | AY78: Yes | AZ78: Yes | BA78: Yes | BC78: Yes | BD78: Yes | BE78: Yes | BF78: Yes | BG78: Yes | BH78: Yes | BK78: Study Abroad and Exchange Students are not permitted to enroll in MBAM, MBAX, NURS, PHCY or Education classes. Enrollment in LAW classes is strictly limited. Permission must be granted by the College of Law, and if given, enrollment is limited to 1 class. Section 50 classes are offered on campus in a different city, so exchange and study abroad students cannot enroll in these classes. | BL78: All nationalities can be accepted. | BM78: =HYPERLINK(テーブル2233456[[#This Row],[Website Link]],"Website") -> Website | BN78: https://www.uwyo.edu/uwyoabroad/incoming-students/incoming-exchange-and-study-abroad-students/index.html | BO78: 2 | BP78: 1 | BQ78: 2 | BR78: 1 | BS78: 1 | BT78: 1
A79: 46307 | B79: =ROW()-5 -> 74 | C79: 990159 | D79: Europe | E79: Iceland | F79: University of Iceland | G79: Reykjavik | H79: =HYPERLINK(テーブル2233456[[#This Row],[info link]],"Info Sheet") -> Info Sheet | I79: =VLOOKUP(テーブル2233456[[#This Row],[Code]],[1]WEB協定校一覧!$H$4:$S$181,12,0) -> https://www.apu.ac.jp/abroad/university/infosheet/files/University_of_Iceland.pdf | J79: Yes | K79: Yes | L79: Yes | P79: 2 | Q79: Both one semester and one year | R79: August-December 2027 | S79: January-May 2028 | T79: 46461 | U79: 46478 | V79: 46615 | W79: 2 | X79: 2.5 | Y79: 4 | Z79: 73 | AA79: 6 | AB79: 2.5 | AC79: 4.5 /79 | AD79: N/A | AE79: N/A | AF79: N/A | AG79: N/A | AH79: No | AI79: 6.5 | AN79: No | AO79: No | AP79: Yes | AQ79: Students applying for courses in the English language department need a TOEFL old 92/new 5 or IELTS 7.0 | AS79: Yes | AT79: Yes | AY79: Yes | AZ79: Yes | BA79: Yes | BC79: Yes | BD79: Yes | BH79: Yes | BJ79: Yes | BK79: https://english.hi.is/study/exchange-studies/incoming-exchange-students | BL79: All nationalities can be accepted | BM79: =HYPERLINK(テーブル2233456[[#This Row],[Website Link]],"Website") -> Website | BN79: https://english.hi.is/study/exchange-studies/incoming-exchange-students | BO79: 1 | BP79: 1 | BQ79: 1 | BR79: 2 | BS79: 1 | BT79: 2
A80: 46307 | B80: =ROW()-5 -> 75 | C80: 990426 | D80: North America | E80: United States | F80: Carroll College | G80: Carroll College Campus | H80: =HYPERLINK(テーブル2233456[[#This Row],[info link]],"Info Sheet") -> Info Sheet | I80: =VLOOKUP(テーブル2233456[[#This Row],[Code]],[1]WEB協定校一覧!$H$4:$S$181,12,0) -> https://www.apu.ac.jp/abroad/university/infosheet/files/Carroll_College.pdf | J80: Yes | K80: Yes | L80: Yes | P80: 2 | Q80: Both one semester and one year | R80: August - December | S80: January - May | T80: 46478 | U80: 46508 | V80: 46620 | W80: 2 | X80: 2.5 | Y80: 4+ | Z80: 74 | AA80: 5.5 | AB80: 2.5 | AC80: 80 | AD80: 20 | AE80: 20 | AF80: 20 | AG80: 20 | AI80: 6 | AN80: Yes | AO80: Yes | AP80: Yes | AR80: Yes | AS80: Yes | AT80: Yes | AU80: Yes | AV80: Yes | AW80: Yes | AX80: Yes | AY80: Yes | AZ80: Yes | BA80: Yes | BB80: Yes | BD80: Yes | BG80: Yes | BH80: Yes | BJ80: Yes | BK80: Nursing classes are not available. Some education upper division classes are not available. | BL80: All nationalities can be accepted | BM80: =HYPERLINK(テーブル2233456[[#This Row],[Website Link]],"Website") -> Website | BN80: https://www.carroll.edu/admission-aid/apply/international-students/exchange-students | BO80: 1 | BP80: 1 | BQ80: 1 | BS80: 0
A81: 46307 | B81: =ROW()-5 -> 76 | C81: 990128 | D81: Europe | E81: Finland | F81: University of Helsinki | G81: All four campuses at Helsinki (City Center, Kumpula, Viikki, Meilahti) | H81: =HYPERLINK(テーブル2233456[[#This Row],[info link]],"Info Sheet") -> Info Sheet | I81: =VLOOKUP(テーブル2233456[[#This Row],[Code]],[1]WEB協定校一覧!$H$4:$S$181,12,0) -> https://www.apu.ac.jp/abroad/university/infosheet/files/University_of_Helsinki.pdf | K81: Yes | L81: Yes | P81: 4 | Q81: Both one semester and one year | R81: late August - late December | S81: early January - late May | T81: 46477 | U81: 46492 | V81: 46623 | W81: 2 | X81: 2.5 | Y81: 3.5＋ | Z81: 66 | AA81: 5.5 | AB81: 2.5 | AC81: 72 | AI81: 6 | AP81: No | AX81: Yes | AY81: Yes | AZ81: Yes | BA81: Yes | BB81: Yes | BC81: Yes | BD81: Yes | BG81: Yes | BH81: Yes | BI81: Yes | BJ81: Yes | BK81: https://studies.helsinki.fi/instructions/article/courses-exchange-students#paragraph-7853 | BL81: All nationalities can be accepted | BM81: =HYPERLINK(テーブル2233456[[#This Row],[Website Link]],"Website") -> Website | BN81: https://studies.helsinki.fi/instructions/degree-students/exchange-and-visiting-students | BO81: 1 | BP81: 1 | BQ81: 1 | BR81: 9 | BS81: 4 | BT81: 2.25
A82: 46307 | B82: =ROW()-5 -> 77 | C82: 990926 | D82: Europe | E82: France | F82: TBS Education | G82: Toulouse, Barcelona, Paris & Casablanca | H82: =HYPERLINK(テーブル2233456[[#This Row],[info link]],"Info Sheet") -> Info Sheet | I82: =VLOOKUP(テーブル2233456[[#This Row],[Code]],[1]WEB協定校一覧!$H$4:$S$181,12,0) -> https://www.calameo.com/tbs-education/read/0018217978669495292f0 | J82: Yes | M82: Yes | P82: 5 | Q82: Both one semester and one year | R82: September - December | S82: January - April | T82: 46479 | U82: 46497 | V82: 46260 | W82: 2 | X82: 2.5 | Y82: 3.5 | Z82: 73 | AA82: 5.5 | AB82: 2.5 | AC82: 4 /79 | AD82: N/A | AE82: N/A | AF82: N/A | AG82: N/A | AH82: No | AI82: 6 | AN82: No | AO82: No | AP82: Yes | AS82: Yes | AT82: Yes | AU82: Yes | AV82: Yes | AW82: Yes | BL82: All nationalities can be accepted | BM82: =HYPERLINK(テーブル2233456[[#This Row],[Website Link]],"Website") -> Website | BN82: https://www.tbs-education.com/about-tbs/international/incoming-exchange-students/ | BO82: 1 | BP82: 1 | BQ82: 1 | BS82: 0
A83: 46307 | B83: =ROW()-5 -> 78 | C83: 990034 | D83: North America | E83: Canada | F83: University of Lethbridge | G83: Lethbridge Campus | H83: =HYPERLINK(テーブル2233456[[#This Row],[info link]],"Info Sheet") -> Info Sheet | I83: =VLOOKUP(テーブル2233456[[#This Row],[Code]],[1]WEB協定校一覧!$H$4:$S$181,12,0) -> https://www.apu.ac.jp/abroad/university/infosheet/files/University_of_Lethbridge.pdf | J83: Yes | K83: Yes | M83: Yes | P83: 4 | Q83: Both one semester and one year | R83: September-December | S83: January-April | T83: 46478 | U83: 46492 | V83: 46633 | W83: 2 | X83: 2.5 | Y83: 4+ | Z83: 70 | AA83: 5.5 | AB83: 2.5 | AC83: 76 | AD83: 16 | AE83: 16 | AF83: 16 | AG83: 18 | AH83: No | AI83: 6 | AJ83: 5.5 | AK83: 5.5 | AL83: 5.5 | AM83: 5.5 | AN83: Yes | AO83: Yes | AP83: Yes | AR83: Yes | AS83: Yes | AT83: Yes | AU83: Yes | AX83: Yes | AZ83: Yes | BA83: Yes | BB83: Yes | BD83: Yes | BK83: Exchange students cannot register in work-related courses, clinical practicums, Nursing and Education | BL83: All nationalities can be accepted | BM83: =HYPERLINK(テーブル2233456[[#This Row],[Website Link]],"Website") -> Website | BN83: https://www.ulethbridge.ca/international/inbound | BO83: 1 | BP83: 1 | BQ83: 1 | BS83: 0
A84: 46307 | B84: =ROW()-5 -> 79 | C84: 990361 | D84: North America | E84: United States | F84: San Diego State University | G84: San Diego Campus | H84: =HYPERLINK(テーブル2233456[[#This Row],[info link]],"Info Sheet") -> Info Sheet | I84: =VLOOKUP(テーブル2233456[[#This Row],[Code]],[1]WEB協定校一覧!$H$4:$S$181,12,0) -> https://www.apu.ac.jp/abroad/university/infosheet/files/San_Diego_State_University.pdf | J84: Yes | K84: Yes | L84: Yes | M84: Yes | P84: 2 | Q84: Both one semester and one year | R84: August-December 2027 | S84: January-May 2028 | T84: 46419 | U84: 46447 | V84: 46619 | W84: 2 | X84: 2.5 | Y84: 3.5 | Z84: 74 | AA84: 6 | AB84: 2.5 | AC84: 44 / 80 | AH84: Yes | AI84: 6.5 | AN84: Yes | AO84: Yes | AP84: Yes | AR84: Yes | AS84: Yes | AT84: Yes | AU84: Yes | AV84: Yes | AW84: Yes | AX84: Yes | AY84: Yes | AZ84: Yes | BA84: Yes | BB84: Yes | BC84: Yes | BD84: Yes | BE84: Yes | BF84: Yes | BG84: Yes | BH84: Yes | BI84: Yes | BJ84: Yes | BK84: The following majors are NOT available to exchange students: NURS - Nursing, CON E Construction Engineering and Construction Management, NAV S - Naval Science, MIL S - Military Science, AS - Aerospace Science. We have limited course enrollment for Theater, Television Film Media, Journaliam, Engineering Majors (Aerospace, Civil, Computer, Electrical, Environmental, Mechanical), Biology, Business Majors (Accounting, Finance, Financial Services, General Business, Information Systems, International Business, Management, Marketing, Real Estate) ・Financial Requirements: 1 Semester Exchange for Academic Year 2026-27: USD $15,350 2 Semester Exchange for Academic Year 2026-27: USD $30,700 | BL84: Cannot accept student holding only US Passport. Students holding passports from specific countires impacted by the January 1, 2026 entry restrictions which limit their ability to obtain a visa. | BM84: =HYPERLINK(テーブル2233456[[#This Row],[Website Link]],"Website") -> Website | BN84: https://www.sdsu.edu/international-student-center/advising-info-for/j-1-exchange-students | BO84: 1 | BP84: 1 | BQ84: 1 | BR84: 3 | BS84: 1 | BT84: 3
A85: 46307 | B85: =ROW()-5 -> 80 | C85: 990019 | D85: Europe | E85: Austria | F85: University of Applied Sciences for Business & Society BFI Vienna | G85: Wohlmutstrasse, Media Quarter Marx | H85: =HYPERLINK(テーブル2233456[[#This Row],[info link]],"Info Sheet") -> Info Sheet | I85: =VLOOKUP(テーブル2233456[[#This Row],[Code]],[1]WEB協定校一覧!$H$4:$S$181,12,0) -> https://www.apu.ac.jp/abroad/university/infosheet/files/University_of_Applied_Sciences_bfi_Vienna.pdf | P85: 4 | Q85: Both one semester and one year | R85: September - January | S85: February - July | T85: 46508 | U85: 46522 | V85: 46629 | W85: 2 | X85: 2.5 | Y85: 3.5+ | Z85: 65 | AA85: 5.5 | AB85: 2.5 | AC85: 72 | AI85: 6 | AP85: No | AQ85: Minimum is B2, c1 is strongly recommended | AR85: Yes | AS85: Yes | AT85: Yes | AU85: Yes | AX85: Yes | AZ85: Yes | BA85: Yes | BB85: Yes | BG85: Yes | BK85: On our website, you can find a course catalogue that lists all courses from our degree programmes. It is indicated if a course is normally open to incoming exchange students (√ in the column Incoming) and which language of instruction will be used. Courses from the 1st, 3rd, 5th semester take place in the winter (autumn) semester and courses from the 2nd, 4th, 6th semester in the summer (spring) semester. Incoming students are allowed to select courses from all degree programmes as well as the International Programme (mix & match), as long as they meet the course pre-requisites (check the course description). Please note that the final list of courses open to incomings is only available during the course selection phase and that places are limited. Furthermore, it might not be possible to combine all courses due to overlapping timetables. Therefore, places in certain courses cannot be guaranteed in advance and it is best if students can be quite flexible regarding their course topics. Usually, there are enough places for all incomings in the courses of the International Programme. Therefore, it is advisable to start with a few courses from this programme as a base and then look for various additional courses from the other degree programmes that would be accepted by your home university. | BL85: All nationalities can be accepted | BM85: =HYPERLINK(テーブル2233456[[#This Row],[Website Link]],"Website") -> Website | BN85: https://www.fh-vie.ac.at/en/pages/international/incoming
A86: 46307 | B86: =ROW()-5 -> 81 | C86: 990363 | D86: North America | E86: United States | F86: St. Edward's University | G86: St. Edward's University | H86: =HYPERLINK(テーブル2233456[[#This Row],[info link]],"Info Sheet") -> Info Sheet | I86: =VLOOKUP(テーブル2233456[[#This Row],[Code]],[1]WEB協定校一覧!$H$4:$S$181,12,0) -> https://www.apu.ac.jp/abroad/university/infosheet/files/St_Edwards_University.pdf | J86: Yes | K86: Yes | L86: Yes | M86: Yes | P86: 2 | Q86: Both one semester and one year | R86: August - December | S86: January - May | T86: 46447 | U86: 46478 | V86: 46623 | W86: 2 | X86: 2.5 | Y86: 4+ | Z86: 73 | AA86: 6 | AB86: 2.5 | AC86: 79 | AH86: Yes | AI86: 6.5 | AN86: No | AO86: Yes | AP86: Yes | AR86: Yes | AS86: Yes | AT86: Yes | AU86: Yes | AV86: Yes | AX86: Yes | AY86: Yes | AZ86: Yes | BA86: Yes | BD86: Yes | BG86: Yes | BH86: Yes | BI86: Yes | BK86: Only courses with EXCHANGE attribute | BL86: All nationalities can be accepted | BM86: =HYPERLINK(テーブル2233456[[#This Row],[Website Link]],"Website") -> Website | BN86: https://www.stedwards.edu/academics/student-success/international-students/exchange-students | BO86: 1 | BP86: 1 | BQ86: 1 | BR86: 1 | BS86: 1 | BT86: 1
A87: 46307 | B87: =ROW()-5 -> 82 | C87: 990865 | D87: Europe | E87: Portugal | F87: ISEG - Lisbon School of Economics and Management | G87: ISEG | H87: =HYPERLINK(テーブル2233456[[#This Row],[info link]],"Info Sheet") -> Info Sheet | I87: =VLOOKUP(テーブル2233456[[#This Row],[Code]],[1]WEB協定校一覧!$H$4:$S$181,12,0) -> https://www.apu.ac.jp/abroad/university/infosheet/files/ISEG_Lisbon_School_of_Economics_&_Management_University_of_Lisbon.pdf | J87: Yes | K87: Yes | M87: Yes | N87: Yes | P87: 4 | Q87: Both one semester and one year | R87: 03/09/2027 - 09/01/2028 | S87: late January to 5th of June | T87: 46507 | U87: 46538 | V87: 46633 | W87: 2 | X87: 2.5 | Y87: 3.5+ | Z87: 66 | AA87: 6 | AB87: 2.5 | AC87: 72 | AI87: 6.5 | AP87: No | AQ87: Reccomended B2 level | AR87: Yes | AS87: Yes | AT87: Yes | AU87: Yes | AV87: Yes | AW87: Yes | AX87: Yes | AY87: Yes | BG87: Yes | BL87: All nationalities can be accepted | BM87: =HYPERLINK(テーブル2233456[[#This Row],[Website Link]],"Website") -> Website | BN87: https://www.iseg.ulisboa.pt/internacional/en/mobility-incoming/ | BO87: 1 | BP87: 1 | BQ87: 1 | BS87: 0
A88: 46307 | B88: =ROW()-5 -> 83 | C88: 990037 | D88: North America | E88: Canada | F88: University of Waterloo | G88: University of Waterloo | H88: =HYPERLINK(テーブル2233456[[#This Row],[info link]],"Info Sheet") -> Info Sheet | I88: =VLOOKUP(テーブル2233456[[#This Row],[Code]],[1]WEB協定校一覧!$H$4:$S$181,12,0) -> https://www.apu.ac.jp/abroad/university/infosheet/files/University_of_Waterloo.pdf | J88: Yes | K88: Yes | L88: Yes | P88: 4 | Q88: Both one semester and one year | R88: Fall September- December | S88: Winter: January- April, Spring: May-August | T88: 46461 | U88: 46478 | V88: 46631 | W88: 2 | X88: 2.8 | Y88: 4 | Z88: 84 | AA88: 6 | AB88: 2.8 | AC88: 4.5/ 90 | AF88: 5/25 | AG88: 5/25 | AH88: No | AI88: 6.5 | AJ88: 6 | AK88: 6 | AL88: 6.5 | AM88: 6.5 | AN88: Yes | AO88: No | AP88: Yes | AQ88: https://uwaterloo.ca/future-students/admissions/english-language-requirements | AR88: Yes | AS88: Yes | AT88: Yes | AU88: Yes | AV88: Yes | AW88: Yes | AX88: Yes | AY88: Yes | AZ88: Yes | BA88: Yes | BB88: Yes | BC88: Yes | BD88: Yes | BE88: Yes | BF88: Yes | BG88: Yes | BH88: Yes | BI88: Yes | BJ88: Yes | BK88: https://uwaterloo.ca/international-experience/exchange-and-study-abroad/come-waterloo/how-to-apply/undergraduate-course-selection/course-restrictions-undergraduate-exchange-students | BL88: All nationalities can be accepted | BM88: =HYPERLINK(テーブル2233456[[#This Row],[Website Link]],"Website") -> Website | BN88: https://uwaterloo.ca/international-experience/blog/prepare-exchange | BO88: 1 | BP88: 1 | BQ88: 1 | BR88: 1 | BS88: 1 | BT88: 1
A89: 46307 | B89: =ROW()-5 -> 84 | C89: 990017 | D89: Europe | E89: Austria | F89: Salzburg University of Applied Sciences | G89: Urstein and Kuchl | H89: =HYPERLINK(テーブル2233456[[#This Row],[info link]],"Info Sheet") -> Info Sheet | I89: =VLOOKUP(テーブル2233456[[#This Row],[Code]],[1]WEB協定校一覧!$H$4:$S$181,12,0) -> https://www.apu.ac.jp/abroad/university/infosheet/files/Salzburg_University_of_Applied_Sciences.pdf | J89: Yes | K89: Yes | L89: Yes | P89: 2 | Q89: Both one semester and one year | R89: Sept-Feb | S89: Feb-July | T89: 46492 | U89: 46508 | V89: 46643 | W89: 2 | X89: 2.5 | Y89: 4 | Z89: 81 | AA89: 6 | AB89: 2.5 | AC89: 4.5/87+ | AH89: Yes | AI89: 6.5 | AN89: Yes | AO89: Yes | AP89: Yes | BE89: Yes | BF89: Yes | BK89: Students can only take courses within their major/within the scope of the agreement with FH Salzburg. | BL89: All nationalities can be accepted | BM89: =HYPERLINK(テーブル2233456[[#This Row],[Website Link]],"Website") -> Website | BN89: https://www.fh-salzburg.ac.at/internationales/incoming-students/general-information | BO89: 1 | BP89: 1 | BQ89: 1 | BR89: 5 | BS89: 2 | BT89: 2.5
A90: 46307 | B90: =ROW()-5 -> 85 | C90: 990831 | D90: North America | E90: United States | F90: University of North Florida | G90: Jacksonville, Florida | H90: =HYPERLINK(テーブル2233456[[#This Row],[info link]],"Info Sheet") -> Info Sheet | I90: =VLOOKUP(テーブル2233456[[#This Row],[Code]],[1]WEB協定校一覧!$H$4:$S$181,12,0) -> https://www.apu.ac.jp/abroad/university/infosheet/files/University_of_North_Florida.pdf | J90: Yes | K90: Yes | L90: Yes | M90: Yes | P90: 4 | Q90: Both one semester and one year | R90: tentative: August 16 - December 10, 2027 | S90: tentative: January 10 - May 5, 2028 | T90: 46419 | U90: 46433 | V90: 46612 | W90: 2 | X90: 2.5 | Y90: 4+ | Z90: 73 | AA90: 6 | AB90: 2.5 | AC90: 79 | AI90: 6.5 | AP90: No | AR90: Yes | AS90: Yes | AT90: Yes | AU90: Yes | AV90: Yes | AW90: Yes | AX90: Yes | AY90: Yes | AZ90: Yes | BA90: Yes | BB90: Yes | BC90: Yes | BD90: Yes | BG90: Yes | BH90: Yes | BJ90: Yes | BK90: Students may take one class outside of the Coggin College of Business. | BL90: Afghanistan, Burkina Faso, Burma (Myanmar), Chad, Equatorial Guinea, Eritrea, Haiti, Iran, Laos, Libya, Mali, Niger, Palestinian Authority, Republic of the Congo, Sierra Leone, Somalia, South Sudan, Sudan, Syria, Yemen | BM90: =HYPERLINK(テーブル2233456[[#This Row],[Website Link]],"Website") -> Website | BN90: https://www.unf.edu/coggin/international-business/exchange-students.html | BO90: 1 | BP90: 1 | BQ90: 1 | BS90: 0
A91: 46307 | B91: =ROW()-5 -> 86 | C91: 990734 | D91: Europe | E91: Germany | F91: European University Viadrina Frankfurt (Oder) | G91: Viadrina Campus | H91: =HYPERLINK(テーブル2233456[[#This Row],[info link]],"Info Sheet") -> Info Sheet | I91: =VLOOKUP(テーブル2233456[[#This Row],[Code]],[1]WEB協定校一覧!$H$4:$S$181,12,0) -> https://www.apu.ac.jp/abroad/university/infosheet/files/European_University_Viadrina_Frankfurt_Oder.pdf | J91: Yes | K91: Yes | L91: Yes1 | P91: 2 | Q91: Both one semester and one year | R91: Beginning of October until March | S91: Beginning of April until September | T91: 46508 | U91: 46538 | V91: 46664 | W91: 2 | X91: 2.5 | Y91: 3.5+ | Z91: 66 | AA91: 5 | AB91: 2.5 | AC91: 72 | AI91: 5.5 | AP91: No | AR91: Yes | AS91: Yes | AT91: Yes | AU91: Yes | AW91: Yes | AZ91: Yes | BA91: Yes | BC91: Yes | BK91: In some courses there are only limited spots available which you can find in the course descriptions. | BL91: All nationalities can be accepted | BM91: =HYPERLINK(テーブル2233456[[#This Row],[Website Link]],"Website") -> Website | BN91: https://www.europa-uni.de/en/internationalitaet/incoming/austauschstudierende/index.html | BO91: 1 | BP91: 1 | BQ91: 1 | BS91: 0
A92: 46307 | B92: =ROW()-5 -> 87 | C92: 990016 | D92: Europe | E92: Austria | F92: Management Center Innsbruck | G92: All campuses | H92: =HYPERLINK(テーブル2233456[[#This Row],[info link]],"Info Sheet") -> Info Sheet | I92: =VLOOKUP(テーブル2233456[[#This Row],[Code]],[1]WEB協定校一覧!$H$4:$S$181,12,0) -> https://www.apu.ac.jp/abroad/university/infosheet/files/Management_Center_Innsbruck.pdf | J92: Yes | L92: Yes | M92: Yes | P92: 3 | Q92: Both one semester and one year | R92: September to February | S92: March - June | T92: 46478 | U92: 46508 | V92: 46632 | W92: 2 | X92: 2.5 | Y92: 4 | Z92: 69 | AA92: 5 | AB92: 2.5 | AC92: 4.5 /75 | AD92: 4.5 | AE92: 4.5 | AF92: 4.5 | AG92: 4.5 | AH92: Yes | AI92: 5.5 | AJ92: 5.5 | AK92: 5.5 | AL92: 5.5 | AM92: 5.5 | AN92: Yes | AO92: Yes | AP92: Yes | AT92: Yes | AU92: Yes | AV92: Yes | BF92: Yes | BH92: Yes | BK92: Students can choose courses from one degree program, plus may add courses from the international program. Student can take any non-engineering study program. | BL92: All nationalities can be accepted | BM92: =HYPERLINK(テーブル2233456[[#This Row],[Website Link]],"Website") -> Website | BN92: https://www.mci4me.at/en/international/exchange-incoming | BO92: 1 | BP92: 1 | BQ92: 1 | BR92: 1 | BS92: 1 | BT92: 1
A93: 46307 | B93: =ROW()-5 -> 88 | C93: 990820 | D93: Europe | E93: Poland | F93: Kozminski University | G93: Kozminski University | H93: =HYPERLINK(テーブル2233456[[#This Row],[info link]],"Info Sheet") -> Info Sheet | I93: =VLOOKUP(テーブル2233456[[#This Row],[Code]],[1]WEB協定校一覧!$H$4:$S$181,12,0) -> https://www.apu.ac.jp/abroad/university/infosheet/files/Kozminski_University.pdf | J93: Yes | M93: Yes | N93: Yes | P93: 4 | Q93: Both one semester and one year | R93: The end of September - The middle of February | S93: The middle of February - The end of June | T93: 46508 | U93: 46539 | V93: 46650 | W93: 2 | X93: 2.5 | Y93: 3.5+ | Z93: 66 | AA93: 5 | AB93: 2.5 | AC93: 72+ | AD93: - | AE93: - | AF93: - | AG93: - | AH93: No | AI93: 5.5 | AN93: No | AO93: Yes | AP93: Yes | AR93: Yes | AS93: Yes | AU93: Yes | BL93: All nationalities can be accepted | BM93: =HYPERLINK(テーブル2233456[[#This Row],[Website Link]],"Website") -> Website | BN93: https://www.kozminski.edu.pl/pl/spolecznosc/incoming-students | BO93: 1 | BP93: 1 | BQ93: 1 | BS93: 0
A94: 46307 | B94: =ROW()-5 -> 89 | C94: 990750 | D94: Europe | E94: Germany | F94: University of Hohenheim | G94: University of Hohenheim | H94: =HYPERLINK(テーブル2233456[[#This Row],[info link]],"Info Sheet") -> Info Sheet | I94: =VLOOKUP(テーブル2233456[[#This Row],[Code]],[1]WEB協定校一覧!$H$4:$S$181,12,0) -> https://www.apu.ac.jp/abroad/university/infosheet/files/University_of_Hohenheim.pdf | J94: Yes | K94: Yes | L94: Yes | M94: Yes | P94: 1 | Q94: One semester only | R94: October - February | S94: April - July | T94: 46507 | U94: 46539 | V94: 46671 | W94: 2 | X94: 2.5 | Y94: 3.5+ | Z94: 66 | AA94: 5 | AB94: 2.5 | AC94: 72 | AI94: 5.5 | AP94: No | AT94: Yes | AU94: Yes | AX94: Yes | BB94: Yes | BG94: Yes | BH94: Yes | BL94: All nationalities can be accepted | BM94: =HYPERLINK(テーブル2233456[[#This Row],[Website Link]],"Website") -> Website | BN94: https://www.uni-hohenheim.de/en/exchange-students-and-free-movers | BO94: 1 | BP94: 1 | BQ94: 1 | BS94: 0
A95: 46307 | B95: =ROW()-5 -> 90 | C95: 990772 | D95: Europe | E95: Poland | F95: University of Warsaw | G95: Main Campus | H95: =HYPERLINK(テーブル2233456[[#This Row],[info link]],"Info Sheet") -> Info Sheet | I95: =VLOOKUP(テーブル2233456[[#This Row],[Code]],[1]WEB協定校一覧!$H$4:$S$181,12,0) -> https://www.apu.ac.jp/abroad/university/infosheet/files/University_of_Warsaw.pdf | K95: Yes | M95: Yes | N95: Yes | P95: 4 | Q95: Both one semester and one year | R95: 1st October – mid-February | S95: mid-February – end of June | T95: 46506 | U95: 46522 | V95: 46657 | W95: 2 | X95: 2.5 | Y95: 3.5+ | Z95: 66 | AA95: 5 | AB95: 2.5 | AC95: 72 | AH95: Yes | AI95: 5.5 | AN95: Yes | AO95: No | AP95: Yes | AY95: Yes | AZ95: Yes | BA95: Yes | BK95: At least 75% of the selected courses must be chosen from the Faculty of Political Science and International Studies. | BL95: All nationalities can be accepted | BM95: =HYPERLINK(テーブル2233456[[#This Row],[Website Link]],"Website") -> Website | BN95: https://bwz.uw.edu.pl/en/incoming/students-and-phd-candidates-incoming/short-term-studies-incoming/incoming-students/ | BO95: 1 | BP95: 1 | BQ95: 1 | BR95: 3 | BS95: 2 | BT95: 1.5
A96: 46307 | B96: =ROW()-5 -> 91 | C96: 990830 | D96: Europe | E96: France | F96: EM Normandie | G96: Caen, Le Havre, Paris, Oxford, Dublin, Dubai | H96: =HYPERLINK(テーブル2233456[[#This Row],[info link]],"Info Sheet") -> Info Sheet | I96: =VLOOKUP(テーブル2233456[[#This Row],[Code]],[1]WEB協定校一覧!$H$4:$S$181,12,0) -> https://www.apu.ac.jp/abroad/university/infosheet/files/EM_Normandie.pdf | J96: Yes | M96: Yes | N96: Yes | P96: 5 | Q96: Both one semester and one year | R96: Early September - Late December | S96: Early January - May | T96: 46492 | U96: 46507 | V96: 46636 | W96: 2 | X96: 2.5 | Y96: 4+ | Z96: 77 | AA96: 5.5 | AB96: 2.5 | AC96: 83 | AI96: 6 | AP96: No | AR96: Yes | AS96: Yes | AT96: Yes | AU96: Yes | AV96: Yes | AW96: Yes | AX96: Yes | BL96: All nationalities can be accepted | BM96: =HYPERLINK(テーブル2233456[[#This Row],[Website Link]],"Website") -> Website | BN96: https://en.em-normandie.com/em-normandie-experience/open-world-studying-abroad/exchange-programmes | BO96: 1 | BP96: 1 | BQ96: 1 | BS96: 0
A97: 46307 | B97: =ROW()-5 -> 92 | C97: 990565 | D97: Europe | E97: Switzerland | F97: University of Applied Sciences and Arts Northwestern Switzerland | G97: Campus Olten, Campus Basel, Campus Brugg-Windisch | H97: =HYPERLINK(テーブル2233456[[#This Row],[info link]],"Info Sheet") -> Info Sheet | I97: =VLOOKUP(テーブル2233456[[#This Row],[Code]],[1]WEB協定校一覧!$H$4:$S$181,12,0) -> https://www.apu.ac.jp/abroad/university/infosheet/files/University_of_Applied_Sciences_and_Arts_Northwestern_Switzerland.pdf | J97: Yes | M97: Yes | P97: 2 | Q97: Both one semester and one year | R97: September - January | S97: February - June | T97: 46528 | U97: 46537 | V97: 46636 | W97: 2 | X97: 2.5 | Y97: 3.5+ | Z97: 66 | AA97: 5.5 | AB97: 2.5 | AC97: 72 | AH97: No | AI97: 6 | AN97: No | AO97: No | AP97: Yes | AS97: Yes | AT97: Yes | AU97: Yes | AV97: Yes | BL97: All nationalities can be accepted | BM97: =HYPERLINK(テーブル2233456[[#This Row],[Website Link]],"Website") -> Website | BN97: https://www.fhnw.ch/plattformen/iobusiness/exchange-at-fhnw-school-of-business/ | BO97: 1 | BP97: 1 | BQ97: 1 | BR97: 1 | BS97: 1 | BT97: 1
A98: 46307 | B98: =ROW()-5 -> 93 | C98: 990791 | D98: Europe | E98: France | F98: Excelia Group | G98: La Rochelle, Paris and Tours | H98: =HYPERLINK(テーブル2233456[[#This Row],[info link]],"Info Sheet") -> Info Sheet | I98: =VLOOKUP(テーブル2233456[[#This Row],[Code]],[1]WEB協定校一覧!$H$4:$S$181,12,0) -> https://www.apu.ac.jp/abroad/university/infosheet/files/Excelia_Group.pdf | J98: Yes | K98: Yes | L98: Yes | M98: Yes | N98: Yes | O98: Yes | P98: 4 | Q98: Both one semester and one year | R98: September 3rd to December 18th | S98: January to April | T98: 46505 | U98: 46522 | V98: 46632 | W98: 2 | X98: 2.5 | Y98: 3.5+ | Z98: 66 | AA98: 5 | AB98: 2.5 | AC98: 72 | AI98: 5.5 | AP98: No | AS98: Yes | AT98: Yes | AU98: Yes | AX98: Yes | AY98: Yes | BB98: Yes | BE98: Yes | BF98: Yes | BG98: Yes | BL98: All nationalities can be accepted | BM98: =HYPERLINK(テーブル2233456[[#This Row],[Website Link]],"Website") -> Website | BN98: https://www.excelia-group.com/student-services/international-students/exchange-students | BO98: 1 | BP98: 1 | BQ98: 1 | BS98: 0
A99: 46307 | B99: =ROW()-5 -> 94 | C99: 990901 | D99: Europe | E99: Belgium | F99: Howest University of Applied Sciences | G99: Kortrijk,Bruges | H99: =HYPERLINK(テーブル2233456[[#This Row],[info link]],"Info Sheet") -> Info Sheet | I99: =VLOOKUP(テーブル2233456[[#This Row],[Code]],[1]WEB協定校一覧!$H$4:$S$181,12,0) -> https://www.apu.ac.jp/abroad/university/infosheet/files/Howest_University_of_Applied_Sciences.pdf | J99: Yes | K99: Yes | L99: Yes | P99: 4 | Q99: Both one semester and one year | R99: Mid-September - End of January/Early February | S99: Early February - End of June | T99: 46492 | U99: 46508 | V99: 46643 | W99: 2 | X99: 2.5 | Y99: 4+ | Z99: 73 | AA99: 5 | AB99: 2.5 | AC99: 79 | AI99: 5.5 | AJ99: 5.5 | AK99: 5.5 | AL99: 5.5 | AM99: 5.5 | AN99: Yes | AO99: No | AP99: Yes | AT99: Yes | AU99: Yes | AX99: Yes | BB99: Yes | BD99: Yes | BF99: Yes | BG99: Yes | BI99: Yes | BJ99: Yes | BL99: All nationalities can be accepted | BM99: =HYPERLINK(テーブル2233456[[#This Row],[Website Link]],"Website") -> Website | BN99: https://www.howest.be/en/exchange-semesters-at-howest | BO99: 1 | BP99: 1 | BQ99: 1 | BR99: 3 | BS99: 2 | BT99: 1.5
A100: 46307 | B100: =ROW()-5 -> 95 | C100: 990182 | D100: Europe | E100: Italy | F100: Ca' Foscari University of Venice | G100: All campus included | H100: =HYPERLINK(テーブル2233456[[#This Row],[info link]],"Info Sheet") -> Info Sheet | I100: =VLOOKUP(テーブル2233456[[#This Row],[Code]],[1]WEB協定校一覧!$H$4:$S$181,12,0) -> https://www.apu.ac.jp/abroad/university/infosheet/files/Ca_Foscari_University_of_Venice.pdf | J100: Yes | K100: Yes | L100: Yes | N100: Yes | P100: 5 | Q100: Both one semester and one year | R100: SEPTEMBER - JANUARY | S100: FEBRUARY - JULY | T100: 46492 | U100: 46522 | V100: 46636 | W100: 2 | X100: 2.5 | Y100: 3.5 | Z100: 65 | AA100: 5 | AB100: 2.5 | AC100: 4 | AH100: Yes | AI100: 5.5 | AN100: No | AO100: Yes | AP100: Yes | AQ100: Students wishing to attend courses taught in Italian are required to provide a certificate proving a B2 level of proficiency in the Italian language. | AR100: Yes | AS100: Yes | AT100: Yes | AU100: Yes | AV100: Yes | AW100: Yes | AX100: Yes | AY100: Yes | AZ100: Yes | BA100: Yes | BB100: Yes | BC100: Yes | BG100: Yes | BH100: Yes | BI100: Yes | BJ100: Yes | BK100: Please, check the guidelines: https://www.unive.it/pag/fileadmin/user_upload/inglese/international/doc/incoming/Guidelines_Course_Catalogue.pdf | BL100: All nationalities can be accepted | BM100: =HYPERLINK(テーブル2233456[[#This Row],[Website Link]],"Website") -> Website | BN100: https://www.unive.it/pag/12574/ | BO100: 1 | BP100: 1 | BQ100: 1 | BR100: 6 | BS100: 5 | BT100: 1.2
A101: 46307 | B101: =ROW()-5 -> 96 | C101: 990247 | D101: Europe | E101: The Netherlands | F101: Leiden University | G101: uni wide agreement | H101: =HYPERLINK(テーブル2233456[[#This Row],[info link]],"Info Sheet") -> Info Sheet | I101: =VLOOKUP(テーブル2233456[[#This Row],[Code]],[1]WEB協定校一覧!$H$4:$S$181,12,0) -> https://www.apu.ac.jp/abroad/university/infosheet/files/Universiteit_Leiden.pdf | J101: Yes | K101: Yes | L101: Yes | P101: 4 | Q101: Both one semester and one year | R101: September - January | S101: February - August | T101: 46447 | U101: 46478 | V101: 46615 | W101: 2 | X101: 3.2 | Y101: 4+ | Z101: 84 | AA101: 6 | AB101: 3.2 | AC101: 90 | AH101: No | AI101: 6.5 | AN101: No | AO101: No | AP101: Yes | AT101: Yes | AU101: Yes | AV101: Yes | AW101: Yes | AX101: Yes | AY101: Yes | AZ101: Yes | BA101: Yes | BB101: Yes | BC101: Yes | BD101: Yes | BG101: Yes | BH101: Yes | BI101: Yes | BJ101: Yes | BL101: All nationalities can be accepted | BM101: =HYPERLINK(テーブル2233456[[#This Row],[Website Link]],"Website") -> Website | BN101: https://www.universiteitleiden.nl/en/education/admission-and-application/exchange | BO101: 1 | BP101: 1 | BQ101: 1 | BS101: 0
...
