Workbook

Sheet 27FA_1stRound_261012
A1: 2027 FALL Outbound Exchange Program University List 2026/10/12
A2: ⚠️ 応募申請に関する注意事項⚠️ 必ず下記内容を確認したうえ、応募してください。 ① 参考情報（Infosheet / Factsheet）の取り扱いについて 当リストに掲載されているリンク、InfosheetやFactsheetは、あくまで「参考情報」としてご覧ください。派遣先大学の都合により、応募条件（必要な語学スコア・GPA等）や申請締め切り情報は予告なく変更される場合があります。 必ずご自身で派遣先大学の公式サイトにて最新の要件を確認のうえ、応募してください。 ② 派遣先大学の最新情報の確認について 派遣先大学からAPUに通知がなく、募集要件等の情報が更新されるケースが多々あります。APUからの案内を待つだけでなく、ご自身で常に希望する派遣先大学の最新情報を確認してください。 ③ 履修可能学部および英語開講科目について 本リストにある「対象学部」や「交換留学生向けに開講されている英語科目の学修分野」情報も変更される可能性があります。 申請者は必ず自身の責任において、派遣先大学の最新情報を確認してください。 ④「Eligible College」で「Yes1」と表記されている場合： └APM、APS：該当大学における専門教育科目の開講クラス数が十分ではないため、当該学部の専門教育科目のみで単位認定を希望する場合は、１セメスターのみの留学を推奨します。共通教養科目や言語教育科目分野も含めた単位認定を考えている場合は、２セメスター留学も検討可能です。 └ST：該当大学におけるST学部生の派遣が初めてであることや専門教育科目の開講クラス数が十分ではないことから、該当大学へ１セメのみ留学を推奨する。 ⑤ 「派遣先大学の募集要件」が空欄の場合 空欄になっている箇所は、「要件がない」という意味ではありません。派遣先大学のWEBサイトやInfo Sheetに具体的な要件が記載されている場合もありますので、必ず事前にご自身で最新情報を確認してください。 ⚠️Important⚠️ Please be sure to check the following before deciding to apply. ①The links and materials, including Infosheets and Factsheets, provided in this list are for reference purposes only. Partner universities may change their application requirements (e.g., language proficiency scores and GPA) and application deadlines without prior notice. Before applying, please make sure to check the latest information on the official website of your desired host university. ②Partner universities may update their application requirements and other information without notifying APU. Therefore, please do not rely solely on information provided by APU. Regularly check the official website of your desired host university to ensure that you have the most up-to-date information. ③The information in this list regarding eligible faculties and subject areas of English-taught courses available to exchange students is subject to change. When planning your studies at your desired university, please make sure to check the latest information on its official website. ④If "Eligible College" is listed as "Yes1": └APM、APS：Since the number of specialized education classes offered at the university is insufficient, if you wish to receive credits only for specialized education classes at the faculty, we recommend studying abroad for only one semester.If you are considering earning credits in liberal arts and language education courses, you may also consider studying abroad for two semesters. └ST：Since this is the first time that the university has sent ST students abroad and there are not enough classes offered in specialized education subjects, we recommend that students study abroad at the university for only one semester. ⑤Blank Fields under “Requirements for Host Universities” If a section in the university list is left blank, it does not mean that no requirement exists. Specific requirements may still be listed on the host university's website or Info Sheet. Applicants must check the latest information themselves before applying.
A4: University Base information | I4: Eligible College | M4: Business Accreditation | P4: One space : one student for one semester Two spaces : one student for two semesters or two students for one semester each | R4: Academic Calendar | W4: APU Internal Screening APU学内選考要件 | AB4: Requirements for Host Universities 派遣先大学の募集要件 | AR4: Majors offering classes in English for exchange students (reference) 交換留学生向けに開講されている英語科目の学修分野(目安) | BK4: Other useful information | BO4: 2026Fall Departure | BR4: 2025Fall Departure
A5: 更新日 | B5: NO | C5: Code | D5: Area | E5: Country | F5: University | G5: Campus / College | H5: Info Sheet | I5: info link | J5: APM | K5: APS | L5: ST | M5: AACSB | N5: EQUIS | O5: EFMD (EPAS) | P5: Number of Available Space2 | Q5: Eligible Exchange Period | R5: Fall semester | S5: Spring Semester | T5: Nomination Deadline YYYY/MM/DD | U5: Application Deadline YYYY-/MM/DD | V5: First Day of Orientation (Tentative) | W5: Semester GPA | X5: Cumulative GPA | Y5: TOEFL iBT new | Z5: TOEFL iBT old | AA5: IELTS overall | AB5: Cumulative GPA | AC5: TOEFL iBT Overal new/old | AD5: TOEFL iBT Reading | AE5: TOEFL iBT Listening | AF5: TOEFL iBT Speaking | AG5: TOEFL iBT Writing | AH5: TOEFL iBT My Best Score | AI5: IELTS Overall2 | AJ5: IELTS Listening | AK5: IELTS Reading | AL5: IELTS Writing | AM5: IELTS Speaking | AN5: IELTS One Skill Retake | AO5: IELTS Online | AP5: Score Submission to Host University | AQ5: English Requirement Other Notes | AR5: Accounting | AS5: Finance | AT5: Marketing | AU5: Management | AV5: Entrepreneurship | AW5: Operations Management | AX5: Economics | AY5: International Relations | AZ5: Political Science | BA5: Peace Studies | BB5: Media Studies | BC5: Cultural Studies | BD5: Sociology | BE5: Hospitality | BF5: Tourism | BG5: Sustainability | BH5: Environmental Studies | BI5: Development Studies | BJ5: Education | BK5: Course Restrictions for Exchange Students and Other Important Notes | BL5: list the nationalities you cannot accept and the reasons for the restriction. | BM5: Website | BN5: Website Link | BO5: 第一志望での応募数 Spaces chosen as First Choice | BP5: 合格・または条件付き合格 Number of Acceptance or Conditional Acceptance | BQ5: 倍率 Competition ratio | BR5: 第一志望での応募数 Spaces chosen as First Choice2 | BS5: 合格・または条件付き合格 Number of Acceptance or Conditional Acceptance2 | BT5: 倍率 Competition ratio2
A6: 46307 | B6: =ROW()-5 -> 1 | C6: 990798 | D6: Europe | E6: Czech | F6: Metropolitan University Prague | G6: Strasnicka-Jarov | H6: =HYPERLINK(テーブル2233456[[#This Row],[info link]],"Info Sheet") -> Info Sheet | I6: =VLOOKUP(テーブル2233456[[#This Row],[Code]],[1]WEB協定校一覧!$H$4:$S$181,12,0) -> https://www.apu.ac.jp/abroad/university/infosheet/files/Metropolitan_University_Prague.pdf | J6: Yes | K6: Yes | P6: 2 | Q6: Both one semester and one year | R6: October-February | S6: February-June | T6: 46508 | U6: 46538 | V6: 46664 | W6: 2 | X6: 2.5 | Y6: 3.5 | Z6: 66 | AA6: 6 | AB6: 2.5 | AC6: 72 | AD6: 21 | AE6: 19 | AF6: 22 | AG6: 20 | AH6: Yes | AI6: 6.5 | AJ6: 6.5 | AK6: 6.5 | AL6: 6.5 | AM6: 6.5 | AN6: Yes | AO6: Yes | AP6: Yes | AR6: Yes | AS6: Yes | AT6: Yes | AU6: Yes | AY6: Yes | AZ6: Yes | BA6: Yes | BB6: Yes | BL6: All nationalities can be accepted | BM6: =HYPERLINK(テーブル2233456[[#This Row],[Website Link]],"Website") -> Website | BN6: https://www.mup.cz/en/international-cooperation/information-for-incoming-exchange-students/exchange-student-application-procedure/ | BO6: 4 | BP6: 1 | BQ6: 4 | BR6: 6 | BS6: 2 | BT6: 3
A7: 46307 | B7: =ROW()-5 -> 2 | C7: 990289 | D7: Europe | E7: Sweden | F7: Halmstad University | G7: Halmstad | H7: =HYPERLINK(テーブル2233456[[#This Row],[info link]],"Info Sheet") -> Info Sheet | I7: =VLOOKUP(テーブル2233456[[#This Row],[Code]],[1]WEB協定校一覧!$H$4:$S$181,12,0) -> https://www.apu.ac.jp/abroad/university/infosheet/files/Halmstad_University.pdf | J7: Yes | K7: Yes | L7: Yes1 | P7: 2 | Q7: Both one semester and one year | R7: 2027-08-30 - 2028-01-16 | S7: 2028-01-17 - 2028-06-04 | T7: 46478 | U7: 46492 | V7: 46629 | W7: 2 | X7: 2.5 | Y7: 4 | Z7: 84 | AA7: 6 | AB7: 2.5 | AC7: 90 | AI7: 6.5 | AP7: No | AR7: Yes | AS7: Yes | AT7: Yes | AU7: Yes | AV7: Yes | AX7: Yes | AY7: Yes | AZ7: Yes | BA7: Yes | BB7: Yes | BC7: Yes | BH7: Yes | BJ7: Yes | BK7: No add and drop period. We require 60 credits before mobility and we need transcript in English version. | BL7: All nationalities can be accepted | BM7: =HYPERLINK(テーブル2233456[[#This Row],[Website Link]],"Website") -> Website | BN7: https://www.hh.se/english/education/apply-to-halmstad-university.html | BO7: 1 | BP7: 1 | BQ7: 1 | BR7: 1 | BS7: 1 | BT7: 1
A8: 46307 | B8: =ROW()-5 -> 3 | C8: 990106 | D8: Asia | E8: China | F8: University of Macau | G8: Main campus (Address: University of Macau, Avenida da Universidade, Taipa, Macau, China) | H8: =HYPERLINK(テーブル2233456[[#This Row],[info link]],"Info Sheet") -> Info Sheet | I8: =VLOOKUP(テーブル2233456[[#This Row],[Code]],[1]WEB協定校一覧!$H$4:$S$181,12,0) -> https://gao.um.edu.mo/mobility/inbound/programmes-application/ | J8: Yes | M8: Yes | N8: Yes | P8: 2 | Q8: Both one semester and one year | R8: August - Mid December | S8: January - Mid June | T8: 46476 | U8: Beginning of May | V8: 46618 | W8: 2 | X8: 2.5 | Y8: 3.5 | Z8: 73 | AA8: 5.5 | AB8: 2.5 | AI8: 6 | AJ8: 5.5 | AK8: 5.5 | AL8: 5.5 | AM8: 5.5 | AP8: No | AR8: Yes | AS8: Yes | AT8: Yes | AU8: Yes | AV8: Yes | AX8: Yes | AY8: Yes | BE8: Yes | BF8: Yes | BL8: All nationalities can be accepted | BM8: =HYPERLINK(テーブル2233456[[#This Row],[Website Link]],"Website") -> Website | BN8: https://fba.um.edu.mo/exchange-programme/incoming-programme/ | BO8: 1 | BP8: 1 | BQ8: 1 | BS8: 0
A9: 46307 | B9: =ROW()-5 -> 4 | C9: 990293 | D9: Europe | E9: Sweden | F9: Sodertorn University | G9: Flemingsberg | H9: =HYPERLINK(テーブル2233456[[#This Row],[info link]],"Info Sheet") -> Info Sheet | I9: =VLOOKUP(テーブル2233456[[#This Row],[Code]],[1]WEB協定校一覧!$H$4:$S$181,12,0) -> https://www.apu.ac.jp/abroad/university/infosheet/files/Sodertorn_University.pdf | K9: Yes | L9: Yes1 | P9: 4 | Q9: One year only | R9: 30 August 2027 – 16 January 2028 | S9: January-June | T9: 46502 | U9: 46508 | V9: 46622 | W9: 2 | X9: 2.5 | Y9: 3.5 | Z9: 66 | AA9: 5.5 | AB9: 2.5 | AC9: 72 | AI9: 6 | AP9: No | BB9: Yes | BC9: Yes | BL9: All nationalities can be accepted | BM9: =HYPERLINK(テーブル2233456[[#This Row],[Website Link]],"Website") -> Website | BN9: https://www.sh.se/english/sodertorn-university/student/prospective-students/application-for-exchange-students | BO9: 2 | BP9: 2 | BQ9: 1 | BR9: 1 | BS9: 1 | BT9: 1
A10: 46307 | B10: =ROW()-5 -> 5 | C10: 990741 | D10: Europe | E10: Romania | F10: Romanian-American University | G10: Romanian-American University | H10: =HYPERLINK(テーブル2233456[[#This Row],[info link]],"Info Sheet") -> Info Sheet | I10: =VLOOKUP(テーブル2233456[[#This Row],[Code]],[1]WEB協定校一覧!$H$4:$S$181,12,0) -> https://www.apu.ac.jp/abroad/university/infosheet/files/Romanian_American_University.pdf | J10: Yes | K10: Yes | L10: Yes | P10: 2 | Q10: Both one semester and one year | R10: September-February | S10: February-June | T10: 46522 | U10: 46539 | V10: 46657 | W10: 2 | X10: 2.5 | Y10: 3.5 | Z10: 65 | AA10: 5 | AB10: 2.5 | AC10: 65+ | AH10: Yes | AI10: 5.5 | AJ10: 5.5 | AK10: 5.5 | AL10: 5.5 | AM10: 5.5 | AN10: No | AO10: No | AP10: Yes | AR10: Yes | AS10: Yes | AT10: Yes | AU10: Yes | AV10: Yes | AX10: Yes | AY10: Yes | BE10: Yes | BF10: Yes | BL10: All nationalities can be accepted | BM10: =HYPERLINK(テーブル2233456[[#This Row],[Website Link]],"Website") -> Website | BN10: https://www.rau.ro/incoming-students-study-at-rau/?lang=en | BO10: 2 | BP10: 2 | BQ10: 1 | BS10: 0
A11: 46307 | B11: =ROW()-5 -> 6 | C11: 990903 | D11: Europe | E11: Germany | F11: Pforzheim University of Applied Sciences | G11: School of Business | H11: =HYPERLINK(テーブル2233456[[#This Row],[info link]],"Info Sheet") -> Info Sheet | I11: =VLOOKUP(テーブル2233456[[#This Row],[Code]],[1]WEB協定校一覧!$H$4:$S$181,12,0) -> https://www.apu.ac.jp/abroad/university/infosheet/files/Pforzheim_University_of_Applied_Sciences.pdf | J11: Yes | M11: Yes | O11: Yes | P11: 2 | Q11: Both one semester and one year | R11: September 30, 2027 through Februar 05, 2028（tentative） | S11: March - July | T11: 46508 | U11: 46522 | V11: 46660 | W11: 2 | X11: 2.5 | Y11: 4 | Z11: 79 | AA11: 6 | AB11: 2.5 | AC11: 4.5/ 85 | AH11: Yes | AI11: 6.5 | AN11: Yes | AO11: Yes | AP11: Yes | AQ11: If students are interested in taking German-taught/French-taught/Spanish-taught courses, we also require a proof/confirmation of B2 level. | AR11: Yes | AS11: Yes | AT11: Yes | AU11: Yes | AV11: Yes | AW11: Yes | AX11: Yes | BC11: Yes | BG11: Yes | BK11: Only courses from the School of Business: https://businesspf.hs-pforzheim.de/international/international_study_program_isp/information_for_incoming_bachelor_exchange_students/business_courses_in_english | BL11: All nationalities can be accepted | BM11: =HYPERLINK(テーブル2233456[[#This Row],[Website Link]],"Website") -> Website | BN11: https://www.hs-pforzheim.de/en/international/studying_in_pforzheim/exchange_students | BO11: 2 | BP11: 2 | BQ11: 1 | BR11: 1 | BS11: 1 | BT11: 1
A12: 46307 | B12: =ROW()-5 -> 7 | C12: 990018 | D12: Europe | E12: Austria | F12: University of Applied Sciences Upper Austria | G12: Steyr Campus - School of Business and Management | H12: =HYPERLINK(テーブル2233456[[#This Row],[info link]],"Info Sheet") -> Info Sheet | I12: =VLOOKUP(テーブル2233456[[#This Row],[Code]],[1]WEB協定校一覧!$H$4:$S$181,12,0) -> https://www.apu.ac.jp/abroad/university/infosheet/files/University_of_Applied_Sciences_Upper_Austria.pdf | J12: Yes | P12: 4 | Q12: Both one semester and one year | R12: last week of September - end January | S12: last week of February - end June | T12: 46522 | U12: 46539 | V12: 46653 | W12: 2 | X12: 2.5 | Y12: 4 | Z12: 81 | AA12: 5.5 | AB12: 2.5 | AC12: 4.5/86+ | AH12: Yes | AI12: 6 | AN12: Yes | AO12: Yes | AP12: Yes | AS12: Yes | AT12: Yes | AU12: Yes | AV12: Yes | AW12: Yes | BL12: All nationalities can be accepted | BM12: =HYPERLINK(テーブル2233456[[#This Row],[Website Link]],"Website") -> Website | BN12: https://fh-ooe.at/en/international/exchange-students/incomings | BP12: 0 | BS12: 0
A13: 46307 | B13: =ROW()-5 -> 8 | C13: 990897 | D13: Europe | E13: France | F13: Burgundy School of Business | G13: Dijon and Lyon Campus | H13: =HYPERLINK(テーブル2233456[[#This Row],[info link]],"Info Sheet") -> Info Sheet | I13: =VLOOKUP(テーブル2233456[[#This Row],[Code]],[1]WEB協定校一覧!$H$4:$S$181,12,0) -> https://www.apu.ac.jp/abroad/university/infosheet/files/Burgundy_School_of_Business.pdf | J13: Yes | M13: Yes | N13: Yes | P13: 4 | Q13: Both one semester and one year | R13: 01st September until the 20th December | S13: 3rd January - 30th April | T13: 46510 | U13: 46524 | V13: 46633 | W13: 2 | X13: 2.5 | Y13: 3.5 | Z13: 74 | AA13: 5.5 | AB13: 2.5 | AC13: 80 | AD13: 18-21 | AE13: 17-19 | AF13: 20-22 | AG13: 17-20 | AH13: No | AI13: 6 | AN13: No | AO13: No | AP13: Yes | AS13: Yes | AT13: Yes | AU13: Yes | AV13: Yes | AX13: Yes | BC13: Yes | BG13: Yes | BH13: Yes | BI13: Yes | BK13: It is not possible to mix courses from different programmes/years/languages | BL13: All nationalities can be accepted | BM13: =HYPERLINK(テーブル2233456[[#This Row],[Website Link]],"Website") -> Website | BN13: https://www.bsb-education.com/en/programme/exchange-programs | BP13: 0 | BS13: 0
A14: 46307 | B14: =ROW()-5 -> 9 | C14: 990792 | D14: Europe | E14: France | F14: Rennes School of Business | G14: Rennes | H14: =HYPERLINK(テーブル2233456[[#This Row],[info link]],"Info Sheet") -> Info Sheet | I14: =VLOOKUP(テーブル2233456[[#This Row],[Code]],[1]WEB協定校一覧!$H$4:$S$181,12,0) -> https://www.apu.ac.jp/abroad/university/infosheet/files/Rennes_School_of_Business.pdf | J14: Yes | M14: Yes | N14: Yes | O14: Yes | P14: 4 | Q14: Both one semester and one year | R14: September - December | S14: January - April | T14: 46517 | U14: 46527 | V14: 46631 | W14: 2 | X14: 2.5 | Y14: 3.5 | Z14: 66 | AA14: 5.5 | AB14: 2.5 | AC14: 72 | AI14: 6 | AP14: No | AR14: Yes | AS14: Yes | AT14: Yes | AU14: Yes | AV14: Yes | AW14: Yes | AX14: Yes | AY14: Yes | BK14: Students can only choose courses on the course catalog proposed and can not mix courses from different levels. | BL14: All nationalities can be accepted | BM14: =HYPERLINK(テーブル2233456[[#This Row],[Website Link]],"Website") -> Website | BN14: https://aloha.rennes-sb.com/hc/en-us/categories/360002608799--Incoming-Exchange-Students | BP14: 0 | BS14: 0
A15: 46307 | B15: =ROW()-5 -> 10 | C15: 990419 | D15: Europe | E15: Portugal | F15: ISCTE – Lisbon University Institute | G15: Iscte Lisbon | H15: =HYPERLINK(テーブル2233456[[#This Row],[info link]],"Info Sheet") -> Info Sheet | I15: =VLOOKUP(テーブル2233456[[#This Row],[Code]],[1]WEB協定校一覧!$H$4:$S$181,12,0) -> https://www.apu.ac.jp/abroad/university/infosheet/files/ISCTE_Lisbon_University_Institute.pdf | J15: Yes | K15: Yes | M15: Yes | P15: 2 | Q15: Both one semester and one year | R15: September-January | S15: February-June | T15: 46539 | U15: 46539 | V15: 46637 | W15: 2 | X15: 2.5 | Y15: 3.5 | Z15: 66 | AA15: 5.5 | AB15: 2.5 | AC15: 72 | AI15: 6 | AP15: No | AR15: Yes | AS15: Yes | AT15: Yes | AU15: Yes | AV15: Yes | AW15: Yes | AX15: Yes | AY15: Yes | AZ15: Yes | BA15: Yes | BB15: Yes | BC15: Yes | BD15: Yes | BF15: Yes | BG15: Yes | BI15: Yes | BK15: Exchange students may select courses under the following conditions: Undergraduate students can only choose undergraduate courses. Exchange students can choose courses from any of Iscte’s schools, provided that those units do not have specific requirements (detailed information on this topic can be found in the course lists). Exchange students can choose courses up to a maximum of 30 ECTS per semester, or 36 ECTS if one of the courses is Portuguese as a Foreign Language. | BL15: All nationalities can be accepted | BM15: =HYPERLINK(テーブル2233456[[#This Row],[Website Link]],"Website") -> Website | BN15: https://www.iscte-iul.pt/international/exchange/cooperation-programmes-and-agreements/cooperation-programmes-and-agreements | BP15: 0 | BR15: 6 | BS15: 1 | BT15: 6
A16: 46307 | B16: =ROW()-5 -> 11 | C16: 990155 | D16: Europe | E16: Germany | F16: Zeppelin University | G16: Zeppelin University | H16: =HYPERLINK(テーブル2233456[[#This Row],[info link]],"Info Sheet") -> Info Sheet | I16: =VLOOKUP(テーブル2233456[[#This Row],[Code]],[1]WEB協定校一覧!$H$4:$S$181,12,0) -> https://www.apu.ac.jp/abroad/university/infosheet/files/Zeppelin_University.pdf | J16: Yes | K16: Yes | P16: 2 | Q16: Both one semester and one year | R16: September-December | S16: January-July | T16: 46539 | U16: 46553 | V16: 46634 | W16: 2 | X16: 2.5 | Y16: 4 | Z16: 84 | AA16: 6 | AB16: 2.5 | AC16: 90 | AH16: No | AI16: 6.5 | AN16: No | AO16: No | AP16: Yes | AR16: Yes | AS16: Yes | AT16: Yes | AU16: Yes | AV16: Yes | AW16: Yes | AX16: Yes | AY16: Yes | AZ16: Yes | BA16: Yes | BD16: Yes | BG16: Yes | BI16: Yes | BK16: Only courses in English | BL16: All nationalities can be accepted | BM16: =HYPERLINK(テーブル2233456[[#This Row],[Website Link]],"Website") -> Website | BN16: https://www.zeppelin-university.com/audience-navigation/students.php | BO16: 1 | BP16: 1 | BQ16: 1 | BR16: 2 | BS16: 1 | BT16: 2
A17: 46307 | B17: =ROW()-5 -> 12 | C17: 990659 | D17: Europe | E17: Germany | F17: Karlshochschule International University | G17: Karlshochschule, Karlstraße 36-38 | H17: =HYPERLINK(テーブル2233456[[#This Row],[info link]],"Info Sheet") -> Info Sheet | I17: =VLOOKUP(テーブル2233456[[#This Row],[Code]],[1]WEB協定校一覧!$H$4:$S$181,12,0) -> https://www.apu.ac.jp/abroad/university/infosheet/files/Karlshochschule_International_University.pdf | J17: Yes | P17: 1 | Q17: One semester only | R17: September - February | S17: March - August | T17: 46507 | U17: 46522 | V17: 46643 | W17: 2 | X17: 2.5 | Y17: 3.5 | Z17: 74 | AA17: 5.5 | AB17: 2.5 | AC17: 80 | AH17: Yes | AI17: 6 | AN17: Yes | AO17: Yes | AP17: Yes | AQ17: Usually we accept students with B2 level in English, but we recommend to have C1 level if possible | AT17: Yes | AU17: Yes | AY17: Yes | BL17: All nationalities can be accepted, But Students from Iran recently ran in to issues due to the money Laundering Act that is currently in place. | BM17: =HYPERLINK(テーブル2233456[[#This Row],[Website Link]],"Website") -> Website | BN17: https://karlshochschule.de/exchange-students-en/ | BP17: 0 | BR17: 1 | BS17: 1 | BT17: 1
A18: 46307 | B18: =ROW()-5 -> 13 | C18: 990751 | D18: Europe | E18: Germany | F18: Heinrich Heine University | G18: Heinrich Heine University | H18: =HYPERLINK(テーブル2233456[[#This Row],[info link]],"Info Sheet") -> Info Sheet | I18: =VLOOKUP(テーブル2233456[[#This Row],[Code]],[1]WEB協定校一覧!$H$4:$S$181,12,0) -> https://www.apu.ac.jp/abroad/university/infosheet/files/Heinrich_Heine_University.pdf | J18: Yes | P18: 2 | Q18: Both one semester and one year | R18: october - march | S18: april - september | T18: 46461 | U18: 46501 | V18: 46668 | W18: 2 | X18: 2.5 | Y18: 3.5 | Z18: 66 | AA18: 5.5 | AB18: 2.5 | AC18: 72 | AI18: 6 | AP18: No | AS18: Yes | AT18: Yes | AU18: Yes | AX18: Yes | BC18: Yes | BK18: No entry for European Studies | BL18: All nationalities can be accepted | BM18: =HYPERLINK(テーブル2233456[[#This Row],[Website Link]],"Website") -> Website | BN18: https://www.hhu.de/en/international/stay-at-hhu-as-an-incoming | BP18: 0 | BS18: 0
A19: 46307 | B19: =ROW()-5 -> 14 | C19: 990295 | D19: Europe | E19: Switzerland | F19: Zurich University of Applied Sciences | G19: ZHAW School of Management and Law | H19: =HYPERLINK(テーブル2233456[[#This Row],[info link]],"Info Sheet") -> Info Sheet | I19: =VLOOKUP(テーブル2233456[[#This Row],[Code]],[1]WEB協定校一覧!$H$4:$S$181,12,0) -> https://www.apu.ac.jp/abroad/university/infosheet/files/Zurich_University_of_Applied_Sciences.pdf | J19: Yes | N19: Yes | P19: 2 | Q19: Both one semester and one year | R19: September - February | S19: February - July | T19: 46522 | U19: 46538 | V19: 46636 | W19: 2 | X19: 2.5 | Y19: 4 | Z19: 77 | AA19: 5 | AB19: 2.5 | AC19: 4.5/83 | AI19: 5.5 | AN19: No | AO19: No | AP19: Yes | AR19: Yes | AS19: Yes | AT19: Yes | AU19: Yes | AW19: Yes | AX19: Yes | BK19: Courses on offer for incoming students at ZHAW School of Management and Law. | BL19: All nationalities can be accepted | BM19: =HYPERLINK(テーブル2233456[[#This Row],[Website Link]],"Website") -> Website | BN19: https://www.zhaw.ch/en/sml/study/international/incoming-students | BO19: 4 | BP19: 1 | BQ19: 4 | BS19: 0
A20: 46307 | B20: =ROW()-5 -> 15 | C20: 990868 | D20: Europe | E20: United Kingdom | F20: Nottingham Trent University | G20: City Campus | H20: =HYPERLINK(テーブル2233456[[#This Row],[info link]],"Info Sheet") -> Info Sheet | I20: =VLOOKUP(テーブル2233456[[#This Row],[Code]],[1]WEB協定校一覧!$H$4:$S$181,12,0) -> https://www.apu.ac.jp/abroad/university/infosheet/files/Nottingham_Trent_University.pdf | J20: Yes | M20: Yes | N20: Yes | P20: 4 | Q20: Both one semester and one year | R20: 13/09/2027 - 21/01/2028 | S20: 21/01/2028 - 26/05/2028 | T20: 46478 | U20: 46508 | V20: 46643 | W20: 2 | X20: 2.5 | Y20: 4 | Z20: 75 | AA20: 6 | AB20: 2.5 | AC20: 4.5/81 | AD20: 4/ 17 | AE20: 4/ 17 | AF20: 4 /20 | AG20: 4 /17 | AH20: No | AI20: 6.5 | AJ20: 5.5 | AK20: 5.5 | AL20: 5.5 | AM20: 5.5 | AN20: No | AO20: No | AP20: Yes | AQ20: It is best to always check our website for up to date information: https://www.ntu.ac.uk/international/your-application/entry-requirements/english-language-requirements. | AR20: Yes | AS20: Yes | AT20: Yes | AU20: Yes | AV20: Yes | AW20: Yes | AX20: Yes | BC20: Yes | BK20: The agreement is with Nottingham Business School, Nottingham Trent University only so you are restricted to our exchange offering only at this time. | BL20: We cannot accept students with Afghanistan, Cameroon, Myanmar or Sudan at this time due to the UK Government restrictions on entry to the UK. | BM20: =HYPERLINK(テーブル2233456[[#This Row],[Website Link]],"Website") -> Website | BN20: https://www.ntu.ac.uk/international/exchange-and-study-abroad | BP20: 0 | BS20: 0
A21: 46307 | B21: =ROW()-5 -> 16 | C21: 990907 | D21: Europe | E21: France | F21: European Business School Paris | G21: EBS Paris Campus (9 avenue Pierre de Coubertin - 75013 Paris - France) | H21: =HYPERLINK(テーブル2233456[[#This Row],[info link]],"Info Sheet") -> Info Sheet | I21: =VLOOKUP(テーブル2233456[[#This Row],[Code]],[1]WEB協定校一覧!$H$4:$S$181,12,0) -> https://www.apu.ac.jp/abroad/university/infosheet/files/European_Business_School_Paris.pdf | J21: Yes | O21: Yes | P21: 2 | Q21: Both one semester and one year | R21: Sept-Dec | S21: Jan-April | T21: 46539 | U21: 46553 | V21: 46647 | W21: 2 | X21: 2.5 | Y21: 3.5 | Z21: 66 | AA21: 5 | AB21: 2.5 | AC21: 4 / 72 | AH21: Yes | AI21: 5.5 | AN21: No | AO21: Yes | AP21: Yes | AU21: Yes | BK21: ・In 26/27, the academic offer includes our 3rd year "Grande Ecole" Program + the English track of our Master 1 courses. ・Applicants must be in their 3rd semester or above | BL21: All nationalities can be accepted | BM21: =HYPERLINK(テーブル2233456[[#This Row],[Website Link]],"Website") -> Website | BN21: Not available at this time - all details in shared folder for admitted students | BO21: 1 | BP21: 0 | BS21: 0
A22: 46307 | B22: =ROW()-5 -> 17 | C22: 990149 | D22: Europe | E22: Germany | F22: Otto-von-Guericke-University Magdeburg | G22: main Campus: Universitätsplatz | H22: =HYPERLINK(テーブル2233456[[#This Row],[info link]],"Info Sheet") -> Info Sheet | I22: =VLOOKUP(テーブル2233456[[#This Row],[Code]],[1]WEB協定校一覧!$H$4:$S$181,12,0) -> https://www.apu.ac.jp/abroad/university/infosheet/files/Otto_von_Guericke_Universitat_Magdeburg.pdf | J22: Yes | K22: Yes | P22: 2 | Q22: Both one semester and one year | R22: 01.10.2027-31.03.2028 | S22: Late march-Mid August | T22: 46553 | U22: 46583 | V22: 46657 | W22: 2 | X22: 2.5 | Y22: 3.5 | Z22: 66 | AA22: 5.5 | AB22: 2.5 | AC22: 4/72+ | AD22: 4/ 18-21 | AE22: 4 / 17-19 | AF22: 4/ 20-22 | AG22: 4/ 17-20 | AH22: No | AI22: 6 | AN22: No | AO22: Yes | AP22: Yes | AQ22: Depending on the language of instruction of requested courses (German or English), incoming students must evidence German or English language proficiency at B2 level or higher. | AR22: Yes | AS22: Yes | AT22: Yes | AU22: Yes | AV22: Yes | AW22: Yes | AX22: Yes | AY22: Yes | AZ22: Yes | BA22: Yes | BC22: Yes | BK22: University dormitories;Students have to find their own accommodation;For finding individual housing, we provide personal assistance. | BL22: All nationalities can be accepted | BM22: =HYPERLINK(テーブル2233456[[#This Row],[Website Link]],"Website") -> Website | BN22: https://www.ovgu.de/en/-p-48750 | BO22: 5 | BP22: 2 | BQ22: 2.5 | BR22: 1 | BS22: 0
A23: 46307 | B23: =ROW()-5 -> 18 | C23: 990982 | D23: Europe | E23: Norway | F23: Norwegian School of Economics (NHH) | G23: NHH Bergen campus | H23: =HYPERLINK(テーブル2233456[[#This Row],[info link]],"Info Sheet") -> Info Sheet | I23: =VLOOKUP(テーブル2233456[[#This Row],[Code]],[1]WEB協定校一覧!$H$4:$S$181,12,0) -> https://www.apu.ac.jp/abroad/university/infosheet/files/Norwegian_School_of_Economics.pdf | J23: Yes | M23: Yes | N23: Yes | P23: 2 | Q23: Both one semester and one year | R23: Tentative 13 August - 21 December 2027 | S23: Tentative 5 January - 16 June 2028 | T23: 46492 | U23: 46508 | V23: 46608 | W23: 2 | X23: 2.5 | Y23: 5.5 | Z23: 66 | AA23: 5.5 | AB23: 2.5 | AC23: 72 | AI23: 6 | AP23: No | AR23: Yes | AS23: Yes | AT23: Yes | AU23: Yes | AV23: Yes | AW23: Yes | AX23: Yes | BG23: Yes | BK23: Courses in the Bachelor programme in Business, Economics and Data Science is not available for incoming exchange students: https://www.nhh.no/en/study-programmes/bsc-in-business-economics-and-data-science/We value a balanced exchange with your institution, but we will not usually limit the number of students you may nominate based on this. Furthermore, we often have capacity for additional students in the spring semester, so please feel free to contact us if demand exceeds the numbers in our agreement. If space is available, we would be delighted to welcome them. | BL23: All nationalities can be accepted | BM23: =HYPERLINK(テーブル2233456[[#This Row],[Website Link]],"Website") -> Website | BN23: https://www.nhh.no/en/incoming-exchange/ | BO23: 2 | BP23: 2 | BQ23: 1 | BR23: 2 | BS23: 1 | BT23: 2
A24: 46307 | B24: =ROW()-5 -> 19 | C24: 990328 | D24: Europe | E24: United Kingdom | F24: Westminster Business School, University of Westminster | G24: Marylebone Campus | H24: =HYPERLINK(テーブル2233456[[#This Row],[info link]],"Info Sheet") -> Info Sheet | I24: =VLOOKUP(テーブル2233456[[#This Row],[Code]],[1]WEB協定校一覧!$H$4:$S$181,12,0) -> https://www.apu.ac.jp/abroad/university/infosheet/files/Westminster_Business_School.pdf | J24: Yes | P24: 2 | Q24: Both one semester and one year | R24: September-January | S24: January- May | T24: 46478 | U24: 46508 | V24: 46643 | W24: 2 | X24: 2.7 | Y24: 3.5 | Z24: 72 | AA24: 6 | AB24: 2.7 | AC24: 4/78 | AD24: 18+ | AE24: 17+ | AF24: 20+ | AG24: 17+ | AH24: Yes | AI24: 6.5 | AJ24: 5.5 | AK24: 5.5 | AL24: 5.5 | AM24: 5.5 | AN24: Yes | AO24: Yes | AP24: Yes | AR24: Yes | AS24: Yes | AT24: Yes | AU24: Yes | AV24: Yes | AX24: Yes | BF24: Yes | BK24: Students can select 3 modules per semester. Some modules may have pre-requisities- these will be outlined in the module catalogue. | BL24: We cannot accept students with Afghanistan, Cameroon, Myanmar or Sudan at this time due to the UK Government restrictions on entry to the UK. | BM24: =HYPERLINK(テーブル2233456[[#This Row],[Website Link]],"Website") -> Website | BN24: https://www.westminster.ac.uk/international/student-exchanges/modules-and-credit | BP24: 0 | BR24: 2 | BS24: 0
A25: 46307 | B25: =ROW()-5 -> 20 | C25: 990743 | D25: Europe | E25: Greece | F25: The American College of Greece | G25: Agia Paraskevi Campus (main campus of The American College of Greece) | H25: =HYPERLINK(テーブル2233456[[#This Row],[info link]],"Info Sheet") -> Info Sheet | I25: =VLOOKUP(テーブル2233456[[#This Row],[Code]],[1]WEB協定校一覧!$H$4:$S$181,12,0) -> https://www.apu.ac.jp/abroad/university/infosheet/files/The_American_College_of_Greece.pdf | J25: Yes | K25: Yes | L25: Yes | P25: 4 | Q25: Both one semester and one year | R25: September-December | S25: January-April | T25: 46492 | U25: 46157 | V25: 46640 | W25: 2 | X25: 2.75 | Y25: 4 | Z25: 81 | AA25: 6 | AB25: 2.75 | AC25: 87 | AH25: No | AI25: 6.5 | AN25: No | AO25: Yes | AP25: Yes | AR25: Yes | AS25: Yes | AT25: Yes | AU25: Yes | AV25: Yes | AW25: Yes | AX25: Yes | AY25: Yes | AZ25: Yes | BA25: Yes | BB25: Yes | BD25: Yes | BE25: Yes | BF25: Yes | BH25: Yes | BJ25: Yes | BL25: All nationalities can be accepted | BM25: =HYPERLINK(テーブル2233456[[#This Row],[Website Link]],"Website") -> Website | BN25: https://www.acg.edu/admissions/study-abroad/ | BP25: 0 | BS25: 0
A26: 46307 | B26: =ROW()-5 -> 21 | C26: 990910 | D26: Europe | E26: Republic of Turkey | F26: Ozyegin University | G26: Özyeğin University Çekmeköy Campus | H26: =HYPERLINK(テーブル2233456[[#This Row],[info link]],"Info Sheet") -> Info Sheet | I26: =VLOOKUP(テーブル2233456[[#This Row],[Code]],[1]WEB協定校一覧!$H$4:$S$181,12,0) -> https://www.apu.ac.jp/abroad/university/infosheet/files/Ozyegin_University.pdf | J26: Yes | K26: Yes | L26: Yes1 | M26: Yes | P26: 2 | Q26: Both one semester and one year | R26: September-January | S26: February-June | T26: 46538 | U26: 46553 | V26: 46642 | W26: 2 | X26: 2.5 | Y26: 3.5 | Z26: 74 | AA26: 5.5 | AB26: 2.5 | AC26: 80 | AH26: No | AI26: Not accepted | AP26: Yes | AQ26: Please note that IELTS score is not accepted according to rule of the Council of Higher Education in Türkiye. Please refer to the link below for information on other recognized exams: https://www.ozyegin.edu.tr/en/student-services/application-admission/language-proficiency-requirement | AS26: Yes | AU26: Yes | AV26: Yes | AX26: Yes | AY26: Yes | BK26: Exchange students are not permitted to enroll in internship courses. However, they may take courses offered by other departments or faculties, provided that both their home university and their OzU Program Coordinator approve their course selection.The academic calendar for the next academic year has not yet been published. Therefore, we have included tentative dates in the Fact Sheet. Once the calendar is finalized, we will share the updated Fact Sheet with our partner universities. | BL26: All nationalities can be accepted | BM26: =HYPERLINK(テーブル2233456[[#This Row],[Website Link]],"Website") -> Website | BN26: https://www.ozyegin.edu.tr/en/international-exchange-and-partnership-programs/global-exchange-program/incoming-students | BO26: 2 | BP26: 1 | BQ26: 2 | BS26: 0
A27: 46307 | B27: =ROW()-5 -> 22 | C27: 990869 | D27: Europe | E27: United Kingdom | F27: York St John University | G27: York Campus | H27: =HYPERLINK(テーブル2233456[[#This Row],[info link]],"Info Sheet") -> Info Sheet | I27: =VLOOKUP(テーブル2233456[[#This Row],[Code]],[1]WEB協定校一覧!$H$4:$S$181,12,0) -> https://www.yorksj.ac.uk/international/study-abroad-and-exchange/study-abroad-at-york-st-john/ | J27: Yes | K27: Yes | L27: Yes | P27: 4 | Q27: Both one semester and one year | R27: 19 September- 30 January | S27: 2 February - 11 June | T27: 46492 | U27: 46507 | V27: 46648 | W27: 2 | X27: 2.5 | Y27: 3.5 | Z27: 69 | AA27: 5.5 | AB27: 2.5 | AC27: 4/75 | AD27: 3.5/18 | AE27: 3.5/17 | AF27: 3.5/20 | AG27: 3.5/20 | AH27: No | AI27: 6 | AJ27: 5.5 | AK27: 5.5 | AL27: 5.5 | AM27: 5.5 | AN27: No | AO27: Yes | AP27: Yes | AR27: Yes | AS27: Yes | AT27: Yes | AU27: Yes | AV27: Yes | AW27: Yes | AX27: Yes | AY27: Yes | AZ27: Yes | BA27: Yes | BB27: Yes | BC27: Yes | BD27: Yes | BE27: Yes | BF27: Yes | BG27: Yes | BH27: Yes | BI27: Yes | BJ27: Yes | BK27: We do not offer any World Languages (Korean/Japanese), Physiotherapy, Nursing, or Biomedical Science modules. | BL27: We cannot accept students with Afghanistan, Cameroon, Myanmar or Sudan at this time due to the UK Government restrictions on entry to the UK. | BM27: =HYPERLINK(テーブル2233456[[#This Row],[Website Link]],"Website") -> Website | BN27: https://www.yorksj.ac.uk/international/study-abroad-at-york-st-john/ | BO27: 2 | BP27: 2 | BQ27: 1 | BS27: 0
A28: 46307 | B28: =ROW()-5 -> 23 | C28: 990757 | D28: Europe | E28: Norway | F28: Norwegian University of Science and Technology | G28: Trondheim, Gjøvik and Ålesund | H28: =HYPERLINK(テーブル2233456[[#This Row],[info link]],"Info Sheet") -> Info Sheet | I28: =VLOOKUP(テーブル2233456[[#This Row],[Code]],[1]WEB協定校一覧!$H$4:$S$181,12,0) -> https://www.ntnu.edu/studies/exchange | J28: Yes | K28: Yes | L28: Yes | P28: 6 | Q28: Both one semester and one year | R28: August - December | S28: January - June | T28: 46461 | U28: 46478 | V28: 46608 | W28: 2 | X28: 2.5 | Y28: 3.5 | Z28: 66 | AA28: 5.5 | AB28: 2.5 | AC28: 72 | AI28: 6 | AP28: No | AQ28: we have group work and presentations. | AR28: Yes | AS28: Yes | AT28: Yes | AU28: Yes | AV28: Yes | AW28: Yes | AX28: Yes | AY28: Yes | AZ28: Yes | BA28: Yes | BB28: Yes | BC28: Yes | BD28: Yes | BH28: Yes | BI28: Yes | BJ28: Yes | BK28: Medicine, architecture and music will be not allowed | BL28: All nationalities can be accepted | BM28: =HYPERLINK(テーブル2233456[[#This Row],[Website Link]],"Website") -> Website | BN28: https://www.ntnu.edu/studies/exchange | BO28: 1 | BP28: 1 | BQ28: 1 | BS28: 0
A29: 46307 | B29: =ROW()-5 -> 24 | C29: 990125 | D29: Europe | E29: Finland | F29: Laurea University of Applied Sciences | G29: Leppävaara, Tikkurila and Hyvinkää | H29: =HYPERLINK(テーブル2233456[[#This Row],[info link]],"Info Sheet") -> Info Sheet | I29: =VLOOKUP(テーブル2233456[[#This Row],[Code]],[1]WEB協定校一覧!$H$4:$S$181,12,0) -> https://www.apu.ac.jp/abroad/university/infosheet/files/Laurea_University_of_Applied_Sciences.pdf | J29: Yes | K29: Yes | L29: Yes | P29: 6 | Q29: Both one semester and one year | R29: mid-August to mid-December | S29: Early-January to Late-May | T29: 46492 | U29: 46507 | V29: 46621 | W29: 2 | X29: 2.5 | Y29: 3.5 | Z29: 66 | AA29: 5.5 | AB29: 2.5 | AC29: 72 | AI29: 6 | AP29: No | AU29: Yes | BE29: Yes | BK29: Instructions for exchange students https://migri.fi/en/instructions-for-exchange-students | BL29: All nationalities can be accepted | BM29: =HYPERLINK(テーブル2233456[[#This Row],[Website Link]],"Website") -> Website | BN29: https://www.laurea.fi/en/education/incoming-student-exchange/ | BO29: 1 | BP29: 1 | BQ29: 1 | BR29: 5 | BS29: 3 | BT29: 1.6666667
A30: 46307 | B30: =ROW()-5 -> 25 | C30: 990985 | D30: Europe | E30: Belgium | F30: University of Antwerp | G30: City Campus | H30: =HYPERLINK(テーブル2233456[[#This Row],[info link]],"Info Sheet") -> Info Sheet | I30: https://en.apu.ac.jp/abroad/university/infosheet/files/University_of_Antwerp.pdf | J30: Yes | K30: Yes | M30: Yes | N30: Yes | O30: Yes | P30: 2 | Q30: Both one semester and one year | R30: end september - end january | S30: begin february - end june | T30: 46492 | U30: 46522 | V30: 46649 | W30: 2 | X30: 2.5 | Y30: 3.5 | Z30: 73 | AA30: 5.5 | AB30: 2.5 | AC30: 4/79 | AH30: Yes | AI30: 6 | AN30: No | AO30: No | AP30: Yes | AR30: Yes | AS30: Yes | AT30: Yes | AU30: Yes | AV30: Yes | AW30: Yes | AX30: Yes | AY30: Yes | BG30: Yes | BK30: Course offer: https://www.uantwerpen.be/en/about-uantwerp/faculties/faculty-of-business-and-economics/students/internationalisation/exchange-programme/non-dutch-courses/ Students can only choose courses that are listed in the course catalog (see link below) and max.2 courses from another faculty. They need to enroll in at least 21 ECTS, max.30 ECTS. - Students should have completed at least 120 ECTS or two full academic years before arriving in Antwerp to enroll in bachelor courses. - In terms of the level of courses, the following academic experience is required: o Bachelor courses (course codes starting with 1, e.g. Accountancy 1101TEWSES): Successfully completed at least 120 ECTS or two full academic years of tertiary education upon arrival in Antwerp as well as meeting the course prerequisites. | BL30: All nationalities can be accepted | BM30: =HYPERLINK(テーブル2233456[[#This Row],[Website Link]],"Website") -> Website | BN30: https://www.uantwerpen.be/en/study/erasmus-and-exchange-students/become-an-exchange-student/
A31: 46307 | B31: =ROW()-5 -> 26 | C31: 990330 | D31: Europe | E31: United Kingdom | F31: University of Leicester | G31: University of Leicester campus | H31: =HYPERLINK(テーブル2233456[[#This Row],[info link]],"Info Sheet") -> Info Sheet | I31: =VLOOKUP(テーブル2233456[[#This Row],[Code]],[1]WEB協定校一覧!$H$4:$S$181,12,0) -> https://www.apu.ac.jp/abroad/university/infosheet/files/University_of_Leicester.pdf | J31: Yes | K31: Yes | P31: 4 | Q31: Both one semester and one year | R31: 27/09/2027 - 16/01/2028 (to be confirmed) | S31: 17/01/2028 - 09/06/2028 | T31: 46538 | U31: 46538 | V31: 46657 | W31: 2 | X31: 3 | Y31: 4 | Z31: 84 | AA31: 6 | AB31: 3 | AC31: 4.5/9 | AD31: 4 /18 | AE31: 4 /17 | AF31: 4/ 20 | AG31: 4 /17 | AH31: No | AI31: 6.5 | AJ31: 5.5 | AK31: 5.5 | AL31: 5.5 | AM31: 5.5 | AN31: Yes | AO31: Yes | AP31: Yes | AR31: Yes | AS31: Yes | AT31: Yes | AU31: Yes | AV31: Yes | AW31: Yes | AX31: Yes | AY31: Yes | AZ31: Yes | BA31: Yes | BB31: Yes | BC31: Yes | BD31: Yes | BK31: All subjects in our module catalogue are available to Study Abroad students, but subjects not in our catalogue (medicine and education) are not available. | BL31: We cannot accept students with Afghanistan, Cameroon, Myanmar or Sudan at this time due to the UK Government restrictions on entry to the UK. | BM31: =HYPERLINK(テーブル2233456[[#This Row],[Website Link]],"Website") -> Website | BN31: https://le.ac.uk/cite/study-abroad-unit/incoming | BO31: 1 | BP31: 1 | BQ31: 1 | BR31: 2 | BS31: 1 | BT31: 2
A32: 46307 | B32: =ROW()-5 -> 27 | C32: 990249 | D32: Europe | E32: Norway | F32: BI Norwegian School of Management | G32: Oslo Campus | H32: =HYPERLINK(テーブル2233456[[#This Row],[info link]],"Info Sheet") -> Info Sheet | I32: =VLOOKUP(テーブル2233456[[#This Row],[Code]],[1]WEB協定校一覧!$H$4:$S$181,12,0) -> https://www.apu.ac.jp/abroad/university/infosheet/files/BI_Norwegian_Business_School.pdf | J32: Yes | M32: Yes | N32: Yes | P32: 2 | Q32: Both one semester and one year | R32: August-December | S32: January-June | T32: 46502 | U32: 46508 | V32: 46605 | W32: 2 | X32: 2.5 | Y32: 3.5 | Z32: 72 | AA32: 5.5 | AB32: 2.5 | AC32: 78 | AI32: 6 | AP32: No | AR32: Yes | AS32: Yes | AT32: Yes | AU32: Yes | AV32: Yes | AW32: Yes | AX32: Yes | BG32: Yes | BK32: See course list for courses available for exchange students: https://www.bi.no/en/exchange | BL32: All nationalities can be accepted | BM32: =HYPERLINK(テーブル2233456[[#This Row],[Website Link]],"Website") -> Website | BN32: http://bi.no/en/exchange | BO32: 1 | BP32: 1 | BQ32: 1 | BR32: 2 | BS32: 2 | BT32: 1
A33: 46307 | B33: =ROW()-5 -> 28 | C33: 990307 | D33: Asia | E33: Taiwan | F33: National Yang Ming Chiao Tung University, College of Management, | G33: Guangfu Campus & Beimen Campus | H33: =HYPERLINK(テーブル2233456[[#This Row],[info link]],"Info Sheet") -> Info Sheet | I33: =VLOOKUP(テーブル2233456[[#This Row],[Code]],[1]WEB協定校一覧!$H$4:$S$181,12,0) -> https://www.apu.ac.jp/abroad/university/infosheet/files/National_YangMingChiaoTung_University.pdf | J33: Yes | M33: Yes | P33: 4 | Q33: Both one semester and one year | R33: Sep. - Dec. | S33: Feb - Jun | T33: 46476 | U33: 46492 | V33: 46629 | W33: 2 | X33: 3 | Y33: 3.5 | Z33: 73 | AA33: 5.5 | AB33: 3 | AC33: 4/79 | AH33: No | AI33: 6 | AN33: No | AO33: No | AP33: Yes | AR33: Yes | AS33: Yes | AT33: Yes | AU33: Yes | AV33: Yes | AW33: Yes | AX33: Yes | AY33: Yes | BB33: Yes | BC33: Yes | BD33: Yes | BE33: Yes | BG33: Yes | BL33: Students from these countries must obtain the consent of an NYCU professor who is willing to serve as a guarantor for their visa application. https://www.boca.gov.tw/cp-159-249-4162c-2.html | BM33: =HYPERLINK(テーブル2233456[[#This Row],[Website Link]],"Website") -> Website | BN33: https://oia.nycu.edu.tw/oia/en/app/artwebsite/view?module=artwebsite&id=821&serno=a277c341-8d25-4a51-8495-58d1d58bbc5d | BO33: 1 | BP33: 1 | BQ33: 1 | BS33: 0
A34: 46307 | B34: =ROW()-5 -> 29 | C34: 990305 | D34: Asia | E34: Taiwan | F34: Tunghai University | G34: Depends on students' study field. Our second campus is right next to main campus. → Main Campus and Second Campus | H34: =HYPERLINK(テーブル2233456[[#This Row],[info link]],"Info Sheet") -> Info Sheet | I34: =VLOOKUP(テーブル2233456[[#This Row],[Code]],[1]WEB協定校一覧!$H$4:$S$181,12,0) -> https://www.apu.ac.jp/abroad/university/infosheet/files/Tunghai_University.pdf | J34: Yes | K34: Yes | L34: Yes | M34: Yes | P34: 2 | Q34: Both one semester and one year | R34: September-January | S34: February-June | T34: 46492 | U34: 46507 | V34: 46640 | W34: 2 | X34: 2.5 | Y34: 3.5 | Z34: 65 | AA34: 5 | AB34: 2.5 | AC34: 3.5/65 | AI34: 5.5 | AP34: No | AT34: Yes | AU34: Yes | AW34: Yes | AY34: Yes | BJ34: Yes | BL34: All nationalities can be accepted, but Chinese students from APU may face more complex visa application process. | BM34: =HYPERLINK(テーブル2233456[[#This Row],[Website Link]],"Website") -> Website | BN34: https://oir.thu.edu.tw/front/500_InExSt/500_InExSt_1/pages.php?ID=dGh1X29zYSY1MDBfSW5FeFN0XzE= | BO34: 1 | BP34: 1 | BQ34: 1 | BS34: 0
A35: 46307 | B35: =ROW()-5 -> 30 | C35: 990308 | D35: Asia | E35: Taiwan | F35: Yuan Ze University | G35: YUAN ZE UNIVERSITY | H35: =HYPERLINK(テーブル2233456[[#This Row],[info link]],"Info Sheet") -> Info Sheet | I35: =VLOOKUP(テーブル2233456[[#This Row],[Code]],[1]WEB協定校一覧!$H$4:$S$181,12,0) -> https://www.apu.ac.jp/abroad/university/infosheet/files/Yuan_Ze_University.pdf | J35: Yes | M35: Yes | P35: 2 | Q35: Both one semester and one year | R35: Sep-Jan | S35: Feb-Jun | T35: 46477 | U35: 46492 | V35: 46636 | W35: 2 | X35: 2.8 | Y35: 3.5 | Z35: 62 | AA35: 5 | AB35: 2.8 | AC35: 68 | AH35: No | AI35: 5.5 | AJ35: 5.5 | AK35: 5.5 | AL35: 5.5 | AM35: 5.5 | AN35: No | AO35: No | AP35: Yes | AR35: Yes | AS35: Yes | AT35: Yes | AU35: Yes | AX35: Yes | BL35: All nationalities can be accepted | BM35: =HYPERLINK(テーブル2233456[[#This Row],[Website Link]],"Website") -> Website | BN35: https://gao.yzu.edu.tw/index.php/en/int-exchange-2/income-student | BO35: 1 | BP35: 1 | BQ35: 1 | BS35: 0
A36: 46307 | B36: =ROW()-5 -> 31 | C36: 990755 | D36: Asia | E36: Malaysia | F36: The National University of Malaysia | G36: Bangi Campus | H36: =HYPERLINK(テーブル2233456[[#This Row],[info link]],"Info Sheet") -> Info Sheet | I36: =VLOOKUP(テーブル2233456[[#This Row],[Code]],[1]WEB協定校一覧!$H$4:$S$181,12,0) -> https://www.apu.ac.jp/abroad/university/infosheet/files/The_National_University_of_Malaysia.pdf | J36: Yes | K36: Yes | L36: Yes | P36: 2 | Q36: Both one semester and one year | R36: September - February | S36: March - July | T36: 46543 | U36: 46568 | V36: 46643 | W36: 2 | X36: 3 | Y36: 4 | Z36: 65 | AA36: 5.5 | AB36: 3 | AC36: 4.5/ 79 | AH36: Yes | AI36: 6 | AN36: Yes | AO36: Yes | AP36: Yes | AR36: Yes | AS36: Yes | AT36: Yes | AU36: Yes | AV36: Yes | AX36: Yes | BC36: Yes | BI36: Yes | BJ36: Yes | BL36: Students holding Israeli or North Korean passports cannot be accepted for exchange. | BM36: =HYPERLINK(テーブル2233456[[#This Row],[Website Link]],"Website") -> Website | BN36: https://www.ukm.my/pha/exchange/ | BO36: 1 | BP36: 1 | BQ36: 1 | BS36: 0
A37: 46307 | B37: =ROW()-5 -> 32 | C37: 990098 | D37: Asia | E37: China | F37: The Hong Kong Polytechnic University | G37: Hung Hom Main Campus | H37: =HYPERLINK(テーブル2233456[[#This Row],[info link]],"Info Sheet") -> Info Sheet | I37: =VLOOKUP(テーブル2233456[[#This Row],[Code]],[1]WEB協定校一覧!$H$4:$S$181,12,0) -> https://www.apu.ac.jp/abroad/university/infosheet/files/The_Hong_Kong_Polytechnic_University.pdf | L37: Yes | M37: Yes | N37: Yes | P37: 2 | Q37: Both one semester and one year | R37: Sep-Dec | S37: Jan-May | T37: 46461 | U37: 46492 | V37: 46265 | W37: 2 | X37: 2.7 | Y37: 3.5 | Z37: 74 | AA37: 5.5 | AB37: 2.7 | AC37: 80 | AH37: Yes | AI37: 6 | AN37: Yes | AO37: No | AP37: Yes | AR37: Yes | AS37: Yes | AT37: Yes | AU37: Yes | AV37: Yes | AW37: Yes | AX37: Yes | BB37: Yes | BC37: Yes | BD37: Yes | BE37: Yes | BF37: Yes | BG37: Yes | BH37: Yes | BL37: All nationalities can be accepted | BM37: =HYPERLINK(テーブル2233456[[#This Row],[Website Link]],"Website") -> Website | BN37: https://www.polyu.edu.hk/geo/docdrive/pdf/polyu_infosheet.pdf | BO37: 1 | BP37: 1 | BQ37: 1 | BR37: 1 | BS37: 1 | BT37: 1
A38: 46307 | B38: =ROW()-5 -> 33 | C38: 990525 | D38: Europe | E38: Switzerland | F38: Lucerne University of Applied Sciences and Arts - School of Business | G38: Lucerne School of Business, Campus Perron, Campus Z9, Campus School of Computer Science | H38: =HYPERLINK(テーブル2233456[[#This Row],[info link]],"Info Sheet") -> Info Sheet | I38: =VLOOKUP(テーブル2233456[[#This Row],[Code]],[1]WEB協定校一覧!$H$4:$S$181,12,0) -> https://www.apu.ac.jp/abroad/university/infosheet/files/Lucerne_University_of_Applied_Sciences_and_Arts.pdf | J38: Yes | M38: Yes | P38: 2 | Q38: Both one semester and one year | R38: mid September - End of January (incl. Exams) September-February | S38: February-July | T38: 46492 | U38: 46507 | V38: 46636 | W38: 2 | X38: 2.75 | Y38: 3.5 | Z38: 73 | AA38: 6 | AB38: 2.75 | AC38: 79 | AH38: Yes | AI38: 6.5 | AN38: No | AO38: No | AP38: Yes | AR38: Yes | AS38: Yes | AT38: Yes | AU38: Yes | AV38: Yes | AW38: Yes | AX38: Yes | AY38: Yes | BK38: School of Business courses only. | BL38: All nationalities can be accepted | BM38: =HYPERLINK(テーブル2233456[[#This Row],[Website Link]],"Website") -> Website | BN38: https://www.hslu.ch/en/lucerne-school-of-business/international/for-students/incoming-exchange-students/ | BO38: 1 | BP38: 1 | BQ38: 1 | BS38: 0
A39: 46307 | B39: =ROW()-5 -> 34 | C39: 990759 | D39: Asia | E39: China | F39: Beijing Normal University-Hong Kong Baptist University United International College | G39: Beijing Normal-Hong Kong Baptist University | H39: =HYPERLINK(テーブル2233456[[#This Row],[info link]],"Info Sheet") -> Info Sheet | I39: =VLOOKUP(テーブル2233456[[#This Row],[Code]],[1]WEB協定校一覧!$H$4:$S$181,12,0) -> https://www.apu.ac.jp/abroad/university/infosheet/files/Beijing_Normal_University_Hong_Kong_Baptist_University_United_International_College.pdf | J39: Yes | K39: Yes | L39: Yes | P39: 4 | Q39: Both one semester and one year | R39: September-December | S39: February-June | T39: 46482 | U39: 46492 | V39: 46624 | W39: 2 | X39: 3 | Y39: 3.5 | Z39: 73 | AA39: 5.5 | AB39: 3 | AC39: 79 | AH39: No | AI39: 6 | AN39: No | AO39: No | AP39: Yes | AR39: Yes | AS39: Yes | AT39: Yes | AU39: Yes | AV39: Yes | AX39: Yes | AY39: Yes | BB39: Yes | BC39: Yes | BD39: Yes | BE39: Yes | BF39: Yes | BG39: Yes | BH39: Yes | BL39: All nationalities can be accepted | BM39: =HYPERLINK(テーブル2233456[[#This Row],[Website Link]],"Website") -> Website | BN39: https://ido.bnbu.edu.cn/en/inbound_students/exchange_in_student_programme.htm | BP39: 0 | BS39: 0
A40: 46307 | B40: =ROW()-5 -> 35 | C40: 990980 | D40: Asia | E40: India | F40: O.P. Jindal Global [Institution of Eminence Deemed to be University | G40: O.P.JINDAL GLOBAL UNIVERSITY | H40: =HYPERLINK(テーブル2233456[[#This Row],[info link]],"Info Sheet") -> Info Sheet | I40: =VLOOKUP(テーブル2233456[[#This Row],[Code]],[1]WEB協定校一覧!$H$4:$S$181,12,0) -> https://www.apu.ac.jp/abroad/university/infosheet/files/O.P._Jindal_University.pdf | K40: Yes | M40: Yes | P40: 6 | Q40: Both one semester and one year | R40: 1ST AUGUST -15TH DECEMBER 2027 | S40: 1ST FEBRUARY - 15TH JUNE 2028 | T40: 46522 | U40: 46522 | V40: 46597 | W40: 2 | X40: 2.5 | Y40: 3.5 | Z40: 65 | AA40: 5 | AB40: 2.5 | AC40: 65 | AI40: 5.5 | AP40: No | AR40: Yes | AS40: Yes | AT40: Yes | AU40: Yes | AV40: Yes | AW40: Yes | AX40: Yes | AY40: Yes | AZ40: Yes | BA40: Yes | BB40: Yes | BC40: Yes | BD40: Yes | BG40: Yes | BH40: Yes | BI40: Yes | BK40: Law school is not allowed | BL40: We cannot accept students from China,because of the VISA ISSUE | BM40: =HYPERLINK(テーブル2233456[[#This Row],[Website Link]],"Website") -> Website | BN40: https://jgu.edu.in/internationaloffice/ | BO40: 1 | BP40: 1 | BQ40: 1 | BS40: 0
A41: 46307 | B41: =ROW()-5 -> 36 | C41: 990958 | D41: Asia | E41: Korea | F41: Woosong University, SolBridge International School of Business | G41: Solbridge campus | H41: =HYPERLINK(テーブル2233456[[#This Row],[info link]],"Info Sheet") -> Info Sheet | I41: =VLOOKUP(テーブル2233456[[#This Row],[Code]],[1]WEB協定校一覧!$H$4:$S$181,12,0) -> https://www.apu.ac.jp/abroad/university/infosheet/files/SolBridge_International_School_of_Business.pdf | J41: Yes | M41: Yes | P41: 10 | Q41: Both one semester and one year | R41: September-December | S41: March-July | T41: 46542 | U41: 46556 | V41: 46624 | W41: 2 | X41: 2.5 | Y41: 3.5 | Z41: 65 | AA41: 5 | AB41: 2.5 | AC41: 65 | AH41: No | AI41: 5.5 | AN41: No | AO41: No | AP41: Yes | AR41: Yes | AS41: Yes | AT41: Yes | AU41: Yes | AV41: Yes | AX41: Yes | BB41: Yes | BE41: Yes | BF41: Yes | BL41: All nationalities can be accepted | BM41: =HYPERLINK(テーブル2233456[[#This Row],[Website Link]],"Website") -> Website | BN41: https://english.wsu.ac.kr/main/index.jsp | BP41: 0 | BS41: 0
...
